Workbook

Sheet PLANILLA UNICA
A1: #VALUE! | C1: PLANILLA ÚNICA DE INSCRIPCIÓN TEMPORADA 2027 | H1: RANKING DEPARTAMENTAL | J1: NOTA: LA ORGANIZACIÓN DEL EVENTO NO SE HACE RESPONSABLE POR CUALQUIER ERROR DE INSCRIPCIÓN EN GENERO, CATEGORÍA, FECHA DE NACIMIENTO O NOMBRE DE LOS DEPORTISTAS. LA PLANTILLA ESTA FORMULADA PARA UBICAR A LOS DEPORTISTAS EN CADA CATEGORIA SEGUN SU FECHA DE NACIMIENTO EDAD CUMPLIDA A 1 DE JULIO DE 2026. TODOS LOS ESPACIOS VERDES SON OBLIGATORIOS. | P1: #VALUE!
A2: NOMBRE DEL EVENTO: | E2: TERCER RANKING DEPARTAMENTAL 2027 | J2: SEDE DEL EVENTO: | L2: FECHA DEL EVENTO:
A3: NOMBRE DEL CLUB: | G3: LIGA: | J3: DELEGADO: | L3: CEL:
A4: NOMBRE DEL PRESIDENTE DEL CLUB: | G4: MUNICIPIO: | J4: TÉCNICO: | L4: CEL:
A5: CORREO ELECTRONICO DEL CLUB: | J5: ASISTENTE: | L5: CEL:
A6: TOTAL DEPORTISTAS: | E6: =B108 -> 0 | G6: ORDINARIA | I6: =E6*75000+157000 -> 157000 | J6: EXTRAORDINARIA: | K6: =E6*110000+220000 -> 220000
A7: REG | B7: NOMBRES Y APELLIDOS | C7: NUMERO DE DOCUMENTO | D7: DIA | E7: MES | F7: AÑO | G7: NACIMIENTO | H7: EDAD | I7: CATEGORIA | J7: GENERO | K7: ESTADO DEL DEPORTISTA | L7: V1 | M7: V2 | N7: F1 | O7: F2 | P7: CLUB/ESCUELA | Q7: MUNICIPIO
A8: 1 | G8: =CONCATENATE(Tabla3812[[#This Row],[DIA]],"/",Tabla3812[[#This Row],[MES]],"/",Tabla3812[[#This Row],[AÑO]]) -> // | H8: =DATEDIF(Tabla3812[[#This Row],[NACIMIENTO]],"01/07/2026","Y") -> #VALUE! | I8: =IF(Tabla3812[[#This Row],[EDAD]]=4,"MINI 4", IF(Tabla3812[[#This Row],[EDAD]]=5,"MINI 5", IF(Tabla3812[[#This Row],[EDAD]]=6,"MINI 6", IF(Tabla3812[[#This Row],[EDAD]]=7,"MINI 7", IF(Tabla3812[[#This Row],[EDAD]]=8,"MINI 8", IF(Tabla3812[[#This Row],[EDAD]]=9,"MINI 9", IF(Tabla3812[[#This Row],[EDAD]]=10,"MINI 10", IF(Tabla3812[[#This Row],[EDAD]]=11,"PREINFANTIL 11", IF(Tabla3812[[#This Row],[EDAD]]=12,"INFANTIL 12", IF(Tabla3812[[#This Row],[EDAD]]=13,"JUNIOR 13", IF(Tabla3812[[#This Row],[EDAD]]=14,"PREJUVENIL 14", IF(OR(Tabla3812[[#This Row],[EDAD]]=15, Tabla3812[[#This Row],[EDAD]]=16, Tabla3812[[#This Row],[EDAD]]=17),"JUVENIL", IF(Tabla3812[[#This Row],[EDAD]]>=18,"MAYORES","MAYORES") ) ) ) ) ) ) ) ) ) ) ) ) -> #VALUE! | P8: =IF(B8="","",UPPER(SUBSTITUTE(SUBSTITUTE(SUBSTITUTE(SUBSTITUTE(SUBSTITUTE(SUBSTITUTE(SUBSTITUTE(SUBSTITUTE(SUBSTITUTE(SUBSTITUTE(TRIM($E$3),"Á","A"),"É","E"),"Í","I"),"Ó","O"),"Ú","U"),"á","A"),"é","E"),"í","I"),"ó","O"),"ú","U"))) | Q8: =IF(B8="","",UPPER(SUBSTITUTE(SUBSTITUTE(SUBSTITUTE(SUBSTITUTE(SUBSTITUTE(SUBSTITUTE(SUBSTITUTE(SUBSTITUTE(SUBSTITUTE(SUBSTITUTE(TRIM($I$4),"Á","A"),"É","E"),"Í","I"),"Ó","O"),"Ú","U"),"á","A"),"é","E"),"í","I"),"ó","O"),"ú","U")))
A9: 2 | G9: =CONCATENATE(Tabla3812[[#This Row],[DIA]],"/",Tabla3812[[#This Row],[MES]],"/",Tabla3812[[#This Row],[AÑO]]) -> // | H9: =DATEDIF(Tabla3812[[#This Row],[NACIMIENTO]],"01/07/2026","Y") -> #VALUE! | I9: =IF(Tabla3812[[#This Row],[EDAD]]=4,"MINI 4", IF(Tabla3812[[#This Row],[EDAD]]=5,"MINI 5", IF(Tabla3812[[#This Row],[EDAD]]=6,"MINI 6", IF(Tabla3812[[#This Row],[EDAD]]=7,"MINI 7", IF(Tabla3812[[#This Row],[EDAD]]=8,"MINI 8", IF(Tabla3812[[#This Row],[EDAD]]=9,"MINI 9", IF(Tabla3812[[#This Row],[EDAD]]=10,"MINI 10", IF(Tabla3812[[#This Row],[EDAD]]=11,"PREINFANTIL 11", IF(Tabla3812[[#This Row],[EDAD]]=12,"INFANTIL 12", IF(Tabla3812[[#This Row],[EDAD]]=13,"JUNIOR 13", IF(Tabla3812[[#This Row],[EDAD]]=14,"PREJUVENIL 14", IF(OR(Tabla3812[[#This Row],[EDAD]]=15, Tabla3812[[#This Row],[EDAD]]=16, Tabla3812[[#This Row],[EDAD]]=17),"JUVENIL", IF(Tabla3812[[#This Row],[EDAD]]>=18,"MAYORES","MAYORES") ) ) ) ) ) ) ) ) ) ) ) ) -> #VALUE! | P9: =IF(B9="","",UPPER(SUBSTITUTE(SUBSTITUTE(SUBSTITUTE(SUBSTITUTE(SUBSTITUTE(SUBSTITUTE(SUBSTITUTE(SUBSTITUTE(SUBSTITUTE(SUBSTITUTE(TRIM($E$3),"Á","A"),"É","E"),"Í","I"),"Ó","O"),"Ú","U"),"á","A"),"é","E"),"í","I"),"ó","O"),"ú","U"))) | Q9: =IF(B9="","",UPPER(SUBSTITUTE(SUBSTITUTE(SUBSTITUTE(SUBSTITUTE(SUBSTITUTE(SUBSTITUTE(SUBSTITUTE(SUBSTITUTE(SUBSTITUTE(SUBSTITUTE(TRIM($I$4),"Á","A"),"É","E"),"Í","I"),"Ó","O"),"Ú","U"),"á","A"),"é","E"),"í","I"),"ó","O"),"ú","U")))
A10: 3 | G10: =CONCATENATE(Tabla3812[[#This Row],[DIA]],"/",Tabla3812[[#This Row],[MES]],"/",Tabla3812[[#This Row],[AÑO]]) -> // | H10: =DATEDIF(Tabla3812[[#This Row],[NACIMIENTO]],"01/07/2026","Y") -> #VALUE! | I10: =IF(Tabla3812[[#This Row],[EDAD]]=4,"MINI 4", IF(Tabla3812[[#This Row],[EDAD]]=5,"MINI 5", IF(Tabla3812[[#This Row],[EDAD]]=6,"MINI 6", IF(Tabla3812[[#This Row],[EDAD]]=7,"MINI 7", IF(Tabla3812[[#This Row],[EDAD]]=8,"MINI 8", IF(Tabla3812[[#This Row],[EDAD]]=9,"MINI 9", IF(Tabla3812[[#This Row],[EDAD]]=10,"MINI 10", IF(Tabla3812[[#This Row],[EDAD]]=11,"PREINFANTIL 11", IF(Tabla3812[[#This Row],[EDAD]]=12,"INFANTIL 12", IF(Tabla3812[[#This Row],[EDAD]]=13,"JUNIOR 13", IF(Tabla3812[[#This Row],[EDAD]]=14,"PREJUVENIL 14", IF(OR(Tabla3812[[#This Row],[EDAD]]=15, Tabla3812[[#This Row],[EDAD]]=16, Tabla3812[[#This Row],[EDAD]]=17),"JUVENIL", IF(Tabla3812[[#This Row],[EDAD]]>=18,"MAYORES","MAYORES") ) ) ) ) ) ) ) ) ) ) ) ) -> #VALUE! | P10: =IF(B10="","",UPPER(SUBSTITUTE(SUBSTITUTE(SUBSTITUTE(SUBSTITUTE(SUBSTITUTE(SUBSTITUTE(SUBSTITUTE(SUBSTITUTE(SUBSTITUTE(SUBSTITUTE(TRIM($E$3),"Á","A"),"É","E"),"Í","I"),"Ó","O"),"Ú","U"),"á","A"),"é","E"),"í","I"),"ó","O"),"ú","U"))) | Q10: =IF(B10="","",UPPER(SUBSTITUTE(SUBSTITUTE(SUBSTITUTE(SUBSTITUTE(SUBSTITUTE(SUBSTITUTE(SUBSTITUTE(SUBSTITUTE(SUBSTITUTE(SUBSTITUTE(TRIM($I$4),"Á","A"),"É","E"),"Í","I"),"Ó","O"),"Ú","U"),"á","A"),"é","E"),"í","I"),"ó","O"),"ú","U")))
A11: 4 | G11: =CONCATENATE(Tabla3812[[#This Row],[DIA]],"/",Tabla3812[[#This Row],[MES]],"/",Tabla3812[[#This Row],[AÑO]]) -> // | H11: =DATEDIF(Tabla3812[[#This Row],[NACIMIENTO]],"01/07/2026","Y") -> #VALUE! | I11: =IF(Tabla3812[[#This Row],[EDAD]]=4,"MINI 4", IF(Tabla3812[[#This Row],[EDAD]]=5,"MINI 5", IF(Tabla3812[[#This Row],[EDAD]]=6,"MINI 6", IF(Tabla3812[[#This Row],[EDAD]]=7,"MINI 7", IF(Tabla3812[[#This Row],[EDAD]]=8,"MINI 8", IF(Tabla3812[[#This Row],[EDAD]]=9,"MINI 9", IF(Tabla3812[[#This Row],[EDAD]]=10,"MINI 10", IF(Tabla3812[[#This Row],[EDAD]]=11,"PREINFANTIL 11", IF(Tabla3812[[#This Row],[EDAD]]=12,"INFANTIL 12", IF(Tabla3812[[#This Row],[EDAD]]=13,"JUNIOR 13", IF(Tabla3812[[#This Row],[EDAD]]=14,"PREJUVENIL 14", IF(OR(Tabla3812[[#This Row],[EDAD]]=15, Tabla3812[[#This Row],[EDAD]]=16, Tabla3812[[#This Row],[EDAD]]=17),"JUVENIL", IF(Tabla3812[[#This Row],[EDAD]]>=18,"MAYORES","MAYORES") ) ) ) ) ) ) ) ) ) ) ) ) -> #VALUE! | P11: =IF(B11="","",UPPER(SUBSTITUTE(SUBSTITUTE(SUBSTITUTE(SUBSTITUTE(SUBSTITUTE(SUBSTITUTE(SUBSTITUTE(SUBSTITUTE(SUBSTITUTE(SUBSTITUTE(TRIM($E$3),"Á","A"),"É","E"),"Í","I"),"Ó","O"),"Ú","U"),"á","A"),"é","E"),"í","I"),"ó","O"),"ú","U"))) | Q11: =IF(B11="","",UPPER(SUBSTITUTE(SUBSTITUTE(SUBSTITUTE(SUBSTITUTE(SUBSTITUTE(SUBSTITUTE(SUBSTITUTE(SUBSTITUTE(SUBSTITUTE(SUBSTITUTE(TRIM($I$4),"Á","A"),"É","E"),"Í","I"),"Ó","O"),"Ú","U"),"á","A"),"é","E"),"í","I"),"ó","O"),"ú","U")))
A12: 5 | G12: =CONCATENATE(Tabla3812[[#This Row],[DIA]],"/",Tabla3812[[#This Row],[MES]],"/",Tabla3812[[#This Row],[AÑO]]) -> // | H12: =DATEDIF(Tabla3812[[#This Row],[NACIMIENTO]],"01/07/2026","Y") -> #VALUE! | I12: =IF(Tabla3812[[#This Row],[EDAD]]=4,"MINI 4", IF(Tabla3812[[#This Row],[EDAD]]=5,"MINI 5", IF(Tabla3812[[#This Row],[EDAD]]=6,"MINI 6", IF(Tabla3812[[#This Row],[EDAD]]=7,"MINI 7", IF(Tabla3812[[#This Row],[EDAD]]=8,"MINI 8", IF(Tabla3812[[#This Row],[EDAD]]=9,"MINI 9", IF(Tabla3812[[#This Row],[EDAD]]=10,"MINI 10", IF(Tabla3812[[#This Row],[EDAD]]=11,"PREINFANTIL 11", IF(Tabla3812[[#This Row],[EDAD]]=12,"INFANTIL 12", IF(Tabla3812[[#This Row],[EDAD]]=13,"JUNIOR 13", IF(Tabla3812[[#This Row],[EDAD]]=14,"PREJUVENIL 14", IF(OR(Tabla3812[[#This Row],[EDAD]]=15, Tabla3812[[#This Row],[EDAD]]=16, Tabla3812[[#This Row],[EDAD]]=17),"JUVENIL", IF(Tabla3812[[#This Row],[EDAD]]>=18,"MAYORES","MAYORES") ) ) ) ) ) ) ) ) ) ) ) ) -> #VALUE! | P12: =IF(B12="","",UPPER(SUBSTITUTE(SUBSTITUTE(SUBSTITUTE(SUBSTITUTE(SUBSTITUTE(SUBSTITUTE(SUBSTITUTE(SUBSTITUTE(SUBSTITUTE(SUBSTITUTE(TRIM($E$3),"Á","A"),"É","E"),"Í","I"),"Ó","O"),"Ú","U"),"á","A"),"é","E"),"í","I"),"ó","O"),"ú","U"))) | Q12: =IF(B12="","",UPPER(SUBSTITUTE(SUBSTITUTE(SUBSTITUTE(SUBSTITUTE(SUBSTITUTE(SUBSTITUTE(SUBSTITUTE(SUBSTITUTE(SUBSTITUTE(SUBSTITUTE(TRIM($I$4),"Á","A"),"É","E"),"Í","I"),"Ó","O"),"Ú","U"),"á","A"),"é","E"),"í","I"),"ó","O"),"ú","U")))
A13: 6 | G13: =CONCATENATE(Tabla3812[[#This Row],[DIA]],"/",Tabla3812[[#This Row],[MES]],"/",Tabla3812[[#This Row],[AÑO]]) -> // | H13: =DATEDIF(Tabla3812[[#This Row],[NACIMIENTO]],"01/07/2026","Y") -> #VALUE! | I13: =IF(Tabla3812[[#This Row],[EDAD]]=4,"MINI 4", IF(Tabla3812[[#This Row],[EDAD]]=5,"MINI 5", IF(Tabla3812[[#This Row],[EDAD]]=6,"MINI 6", IF(Tabla3812[[#This Row],[EDAD]]=7,"MINI 7", IF(Tabla3812[[#This Row],[EDAD]]=8,"MINI 8", IF(Tabla3812[[#This Row],[EDAD]]=9,"MINI 9", IF(Tabla3812[[#This Row],[EDAD]]=10,"MINI 10", IF(Tabla3812[[#This Row],[EDAD]]=11,"PREINFANTIL 11", IF(Tabla3812[[#This Row],[EDAD]]=12,"INFANTIL 12", IF(Tabla3812[[#This Row],[EDAD]]=13,"JUNIOR 13", IF(Tabla3812[[#This Row],[EDAD]]=14,"PREJUVENIL 14", IF(OR(Tabla3812[[#This Row],[EDAD]]=15, Tabla3812[[#This Row],[EDAD]]=16, Tabla3812[[#This Row],[EDAD]]=17),"JUVENIL", IF(Tabla3812[[#This Row],[EDAD]]>=18,"MAYORES","MAYORES") ) ) ) ) ) ) ) ) ) ) ) ) -> #VALUE! | P13: =IF(B13="","",UPPER(SUBSTITUTE(SUBSTITUTE(SUBSTITUTE(SUBSTITUTE(SUBSTITUTE(SUBSTITUTE(SUBSTITUTE(SUBSTITUTE(SUBSTITUTE(SUBSTITUTE(TRIM($E$3),"Á","A"),"É","E"),"Í","I"),"Ó","O"),"Ú","U"),"á","A"),"é","E"),"í","I"),"ó","O"),"ú","U"))) | Q13: =IF(B13="","",UPPER(SUBSTITUTE(SUBSTITUTE(SUBSTITUTE(SUBSTITUTE(SUBSTITUTE(SUBSTITUTE(SUBSTITUTE(SUBSTITUTE(SUBSTITUTE(SUBSTITUTE(TRIM($I$4),"Á","A"),"É","E"),"Í","I"),"Ó","O"),"Ú","U"),"á","A"),"é","E"),"í","I"),"ó","O"),"ú","U")))
A14: 7 | G14: =CONCATENATE(Tabla3812[[#This Row],[DIA]],"/",Tabla3812[[#This Row],[MES]],"/",Tabla3812[[#This Row],[AÑO]]) -> // | H14: =DATEDIF(Tabla3812[[#This Row],[NACIMIENTO]],"01/07/2026","Y") -> #VALUE! | I14: =IF(Tabla3812[[#This Row],[EDAD]]=4,"MINI 4", IF(Tabla3812[[#This Row],[EDAD]]=5,"MINI 5", IF(Tabla3812[[#This Row],[EDAD]]=6,"MINI 6", IF(Tabla3812[[#This Row],[EDAD]]=7,"MINI 7", IF(Tabla3812[[#This Row],[EDAD]]=8,"MINI 8", IF(Tabla3812[[#This Row],[EDAD]]=9,"MINI 9", IF(Tabla3812[[#This Row],[EDAD]]=10,"MINI 10", IF(Tabla3812[[#This Row],[EDAD]]=11,"PREINFANTIL 11", IF(Tabla3812[[#This Row],[EDAD]]=12,"INFANTIL 12", IF(Tabla3812[[#This Row],[EDAD]]=13,"JUNIOR 13", IF(Tabla3812[[#This Row],[EDAD]]=14,"PREJUVENIL 14", IF(OR(Tabla3812[[#This Row],[EDAD]]=15, Tabla3812[[#This Row],[EDAD]]=16, Tabla3812[[#This Row],[EDAD]]=17),"JUVENIL", IF(Tabla3812[[#This Row],[EDAD]]>=18,"MAYORES","MAYORES") ) ) ) ) ) ) ) ) ) ) ) ) -> #VALUE! | P14: =IF(B14="","",UPPER(SUBSTITUTE(SUBSTITUTE(SUBSTITUTE(SUBSTITUTE(SUBSTITUTE(SUBSTITUTE(SUBSTITUTE(SUBSTITUTE(SUBSTITUTE(SUBSTITUTE(TRIM($E$3),"Á","A"),"É","E"),"Í","I"),"Ó","O"),"Ú","U"),"á","A"),"é","E"),"í","I"),"ó","O"),"ú","U"))) | Q14: =IF(B14="","",UPPER(SUBSTITUTE(SUBSTITUTE(SUBSTITUTE(SUBSTITUTE(SUBSTITUTE(SUBSTITUTE(SUBSTITUTE(SUBSTITUTE(SUBSTITUTE(SUBSTITUTE(TRIM($I$4),"Á","A"),"É","E"),"Í","I"),"Ó","O"),"Ú","U"),"á","A"),"é","E"),"í","I"),"ó","O"),"ú","U")))
A15: 8 | G15: =CONCATENATE(Tabla3812[[#This Row],[DIA]],"/",Tabla3812[[#This Row],[MES]],"/",Tabla3812[[#This Row],[AÑO]]) -> // | H15: =DATEDIF(Tabla3812[[#This Row],[NACIMIENTO]],"01/07/2026","Y") -> #VALUE! | I15: =IF(Tabla3812[[#This Row],[EDAD]]=4,"MINI 4", IF(Tabla3812[[#This Row],[EDAD]]=5,"MINI 5", IF(Tabla3812[[#This Row],[EDAD]]=6,"MINI 6", IF(Tabla3812[[#This Row],[EDAD]]=7,"MINI 7", IF(Tabla3812[[#This Row],[EDAD]]=8,"MINI 8", IF(Tabla3812[[#This Row],[EDAD]]=9,"MINI 9", IF(Tabla3812[[#This Row],[EDAD]]=10,"MINI 10", IF(Tabla3812[[#This Row],[EDAD]]=11,"PREINFANTIL 11", IF(Tabla3812[[#This Row],[EDAD]]=12,"INFANTIL 12", IF(Tabla3812[[#This Row],[EDAD]]=13,"JUNIOR 13", IF(Tabla3812[[#This Row],[EDAD]]=14,"PREJUVENIL 14", IF(OR(Tabla3812[[#This Row],[EDAD]]=15, Tabla3812[[#This Row],[EDAD]]=16, Tabla3812[[#This Row],[EDAD]]=17),"JUVENIL", IF(Tabla3812[[#This Row],[EDAD]]>=18,"MAYORES","MAYORES") ) ) ) ) ) ) ) ) ) ) ) ) -> #VALUE! | P15: =IF(B15="","",UPPER(SUBSTITUTE(SUBSTITUTE(SUBSTITUTE(SUBSTITUTE(SUBSTITUTE(SUBSTITUTE(SUBSTITUTE(SUBSTITUTE(SUBSTITUTE(SUBSTITUTE(TRIM($E$3),"Á","A"),"É","E"),"Í","I"),"Ó","O"),"Ú","U"),"á","A"),"é","E"),"í","I"),"ó","O"),"ú","U"))) | Q15: =IF(B15="","",UPPER(SUBSTITUTE(SUBSTITUTE(SUBSTITUTE(SUBSTITUTE(SUBSTITUTE(SUBSTITUTE(SUBSTITUTE(SUBSTITUTE(SUBSTITUTE(SUBSTITUTE(TRIM($I$4),"Á","A"),"É","E"),"Í","I"),"Ó","O"),"Ú","U"),"á","A"),"é","E"),"í","I"),"ó","O"),"ú","U")))
A16: 9 | G16: =CONCATENATE(Tabla3812[[#This Row],[DIA]],"/",Tabla3812[[#This Row],[MES]],"/",Tabla3812[[#This Row],[AÑO]]) -> // | H16: =DATEDIF(Tabla3812[[#This Row],[NACIMIENTO]],"01/07/2026","Y") -> #VALUE! | I16: =IF(Tabla3812[[#This Row],[EDAD]]=4,"MINI 4", IF(Tabla3812[[#This Row],[EDAD]]=5,"MINI 5", IF(Tabla3812[[#This Row],[EDAD]]=6,"MINI 6", IF(Tabla3812[[#This Row],[EDAD]]=7,"MINI 7", IF(Tabla3812[[#This Row],[EDAD]]=8,"MINI 8", IF(Tabla3812[[#This Row],[EDAD]]=9,"MINI 9", IF(Tabla3812[[#This Row],[EDAD]]=10,"MINI 10", IF(Tabla3812[[#This Row],[EDAD]]=11,"PREINFANTIL 11", IF(Tabla3812[[#This Row],[EDAD]]=12,"INFANTIL 12", IF(Tabla3812[[#This Row],[EDAD]]=13,"JUNIOR 13", IF(Tabla3812[[#This Row],[EDAD]]=14,"PREJUVENIL 14", IF(OR(Tabla3812[[#This Row],[EDAD]]=15, Tabla3812[[#This Row],[EDAD]]=16, Tabla3812[[#This Row],[EDAD]]=17),"JUVENIL", IF(Tabla3812[[#This Row],[EDAD]]>=18,"MAYORES","MAYORES") ) ) ) ) ) ) ) ) ) ) ) ) -> #VALUE! | P16: =IF(B16="","",UPPER(SUBSTITUTE(SUBSTITUTE(SUBSTITUTE(SUBSTITUTE(SUBSTITUTE(SUBSTITUTE(SUBSTITUTE(SUBSTITUTE(SUBSTITUTE(SUBSTITUTE(TRIM($E$3),"Á","A"),"É","E"),"Í","I"),"Ó","O"),"Ú","U"),"á","A"),"é","E"),"í","I"),"ó","O"),"ú","U"))) | Q16: =IF(B16="","",UPPER(SUBSTITUTE(SUBSTITUTE(SUBSTITUTE(SUBSTITUTE(SUBSTITUTE(SUBSTITUTE(SUBSTITUTE(SUBSTITUTE(SUBSTITUTE(SUBSTITUTE(TRIM($I$4),"Á","A"),"É","E"),"Í","I"),"Ó","O"),"Ú","U"),"á","A"),"é","E"),"í","I"),"ó","O"),"ú","U")))
A17: 10 | G17: =CONCATENATE(Tabla3812[[#This Row],[DIA]],"/",Tabla3812[[#This Row],[MES]],"/",Tabla3812[[#This Row],[AÑO]]) -> // | H17: =DATEDIF(Tabla3812[[#This Row],[NACIMIENTO]],"01/07/2026","Y") -> #VALUE! | I17: =IF(Tabla3812[[#This Row],[EDAD]]=4,"MINI 4", IF(Tabla3812[[#This Row],[EDAD]]=5,"MINI 5", IF(Tabla3812[[#This Row],[EDAD]]=6,"MINI 6", IF(Tabla3812[[#This Row],[EDAD]]=7,"MINI 7", IF(Tabla3812[[#This Row],[EDAD]]=8,"MINI 8", IF(Tabla3812[[#This Row],[EDAD]]=9,"MINI 9", IF(Tabla3812[[#This Row],[EDAD]]=10,"MINI 10", IF(Tabla3812[[#This Row],[EDAD]]=11,"PREINFANTIL 11", IF(Tabla3812[[#This Row],[EDAD]]=12,"INFANTIL 12", IF(Tabla3812[[#This Row],[EDAD]]=13,"JUNIOR 13", IF(Tabla3812[[#This Row],[EDAD]]=14,"PREJUVENIL 14", IF(OR(Tabla3812[[#This Row],[EDAD]]=15, Tabla3812[[#This Row],[EDAD]]=16, Tabla3812[[#This Row],[EDAD]]=17),"JUVENIL", IF(Tabla3812[[#This Row],[EDAD]]>=18,"MAYORES","MAYORES") ) ) ) ) ) ) ) ) ) ) ) ) -> #VALUE! | P17: =IF(B17="","",UPPER(SUBSTITUTE(SUBSTITUTE(SUBSTITUTE(SUBSTITUTE(SUBSTITUTE(SUBSTITUTE(SUBSTITUTE(SUBSTITUTE(SUBSTITUTE(SUBSTITUTE(TRIM($E$3),"Á","A"),"É","E"),"Í","I"),"Ó","O"),"Ú","U"),"á","A"),"é","E"),"í","I"),"ó","O"),"ú","U"))) | Q17: =IF(B17="","",UPPER(SUBSTITUTE(SUBSTITUTE(SUBSTITUTE(SUBSTITUTE(SUBSTITUTE(SUBSTITUTE(SUBSTITUTE(SUBSTITUTE(SUBSTITUTE(SUBSTITUTE(TRIM($I$4),"Á","A"),"É","E"),"Í","I"),"Ó","O"),"Ú","U"),"á","A"),"é","E"),"í","I"),"ó","O"),"ú","U")))
A18: 11 | G18: =CONCATENATE(Tabla3812[[#This Row],[DIA]],"/",Tabla3812[[#This Row],[MES]],"/",Tabla3812[[#This Row],[AÑO]]) -> // | H18: =DATEDIF(Tabla3812[[#This Row],[NACIMIENTO]],"01/07/2026","Y") -> #VALUE! | I18: =IF(Tabla3812[[#This Row],[EDAD]]=4,"MINI 4", IF(Tabla3812[[#This Row],[EDAD]]=5,"MINI 5", IF(Tabla3812[[#This Row],[EDAD]]=6,"MINI 6", IF(Tabla3812[[#This Row],[EDAD]]=7,"MINI 7", IF(Tabla3812[[#This Row],[EDAD]]=8,"MINI 8", IF(Tabla3812[[#This Row],[EDAD]]=9,"MINI 9", IF(Tabla3812[[#This Row],[EDAD]]=10,"MINI 10", IF(Tabla3812[[#This Row],[EDAD]]=11,"PREINFANTIL 11", IF(Tabla3812[[#This Row],[EDAD]]=12,"INFANTIL 12", IF(Tabla3812[[#This Row],[EDAD]]=13,"JUNIOR 13", IF(Tabla3812[[#This Row],[EDAD]]=14,"PREJUVENIL 14", IF(OR(Tabla3812[[#This Row],[EDAD]]=15, Tabla3812[[#This Row],[EDAD]]=16, Tabla3812[[#This Row],[EDAD]]=17),"JUVENIL", IF(Tabla3812[[#This Row],[EDAD]]>=18,"MAYORES","MAYORES") ) ) ) ) ) ) ) ) ) ) ) ) -> #VALUE! | P18: =IF(B18="","",UPPER(SUBSTITUTE(SUBSTITUTE(SUBSTITUTE(SUBSTITUTE(SUBSTITUTE(SUBSTITUTE(SUBSTITUTE(SUBSTITUTE(SUBSTITUTE(SUBSTITUTE(TRIM($E$3),"Á","A"),"É","E"),"Í","I"),"Ó","O"),"Ú","U"),"á","A"),"é","E"),"í","I"),"ó","O"),"ú","U"))) | Q18: =IF(B18="","",UPPER(SUBSTITUTE(SUBSTITUTE(SUBSTITUTE(SUBSTITUTE(SUBSTITUTE(SUBSTITUTE(SUBSTITUTE(SUBSTITUTE(SUBSTITUTE(SUBSTITUTE(TRIM($I$4),"Á","A"),"É","E"),"Í","I"),"Ó","O"),"Ú","U"),"á","A"),"é","E"),"í","I"),"ó","O"),"ú","U")))
A19: 12 | G19: =CONCATENATE(Tabla3812[[#This Row],[DIA]],"/",Tabla3812[[#This Row],[MES]],"/",Tabla3812[[#This Row],[AÑO]]) -> // | H19: =DATEDIF(Tabla3812[[#This Row],[NACIMIENTO]],"01/07/2026","Y") -> #VALUE! | I19: =IF(Tabla3812[[#This Row],[EDAD]]=4,"MINI 4", IF(Tabla3812[[#This Row],[EDAD]]=5,"MINI 5", IF(Tabla3812[[#This Row],[EDAD]]=6,"MINI 6", IF(Tabla3812[[#This Row],[EDAD]]=7,"MINI 7", IF(Tabla3812[[#This Row],[EDAD]]=8,"MINI 8", IF(Tabla3812[[#This Row],[EDAD]]=9,"MINI 9", IF(Tabla3812[[#This Row],[EDAD]]=10,"MINI 10", IF(Tabla3812[[#This Row],[EDAD]]=11,"PREINFANTIL 11", IF(Tabla3812[[#This Row],[EDAD]]=12,"INFANTIL 12", IF(Tabla3812[[#This Row],[EDAD]]=13,"JUNIOR 13", IF(Tabla3812[[#This Row],[EDAD]]=14,"PREJUVENIL 14", IF(OR(Tabla3812[[#This Row],[EDAD]]=15, Tabla3812[[#This Row],[EDAD]]=16, Tabla3812[[#This Row],[EDAD]]=17),"JUVENIL", IF(Tabla3812[[#This Row],[EDAD]]>=18,"MAYORES","MAYORES") ) ) ) ) ) ) ) ) ) ) ) ) -> #VALUE! | P19: =IF(B19="","",UPPER(SUBSTITUTE(SUBSTITUTE(SUBSTITUTE(SUBSTITUTE(SUBSTITUTE(SUBSTITUTE(SUBSTITUTE(SUBSTITUTE(SUBSTITUTE(SUBSTITUTE(TRIM($E$3),"Á","A"),"É","E"),"Í","I"),"Ó","O"),"Ú","U"),"á","A"),"é","E"),"í","I"),"ó","O"),"ú","U"))) | Q19: =IF(B19="","",UPPER(SUBSTITUTE(SUBSTITUTE(SUBSTITUTE(SUBSTITUTE(SUBSTITUTE(SUBSTITUTE(SUBSTITUTE(SUBSTITUTE(SUBSTITUTE(SUBSTITUTE(TRIM($I$4),"Á","A"),"É","E"),"Í","I"),"Ó","O"),"Ú","U"),"á","A"),"é","E"),"í","I"),"ó","O"),"ú","U")))
... A107: 100 | G107: =CONCATENATE(Tabla3812[[#This Row],[DIA]],"/",Tabla3812[[#This Row],[MES]],"/",Tabla3812[[#This Row],[AÑO]]) -> // | H107: =DATEDIF(Tabla3812[[#This Row],[NACIMIENTO]],"01/07/2026","Y") -> #VALUE! | I107: =IF(Tabla3812[[#This Row],[EDAD]]=4,"MINI 4", IF(Tabla3812[[#This Row],[EDAD]]=5,"MINI 5", IF(Tabla3812[[#This Row],[EDAD]]=6,"MINI 6", IF(Tabla3812[[#This Row],[EDAD]]=7,"MINI 7", IF(Tabla3812[[#This Row],[EDAD]]=8,"MINI 8", IF(Tabla3812[[#This Row],[EDAD]]=9,"MINI 9", IF(Tabla3812[[#This Row],[EDAD]]=10,"MINI 10", IF(Tabla3812[[#This Row],[EDAD]]=11,"PREINFANTIL 11", IF(Tabla3812[[#This Row],[EDAD]]=12,"INFANTIL 12", IF(Tabla3812[[#This Row],[EDAD]]=13,"JUNIOR 13", IF(Tabla3812[[#This Row],[EDAD]]=14,"PREJUVENIL 14", IF(OR(Tabla3812[[#This Row],[EDAD]]=15, Tabla3812[[#This Row],[EDAD]]=16, Tabla3812[[#This Row],[EDAD]]=17),"JUVENIL", IF(Tabla3812[[#This Row],[EDAD]]>=18,"MAYORES","MAYORES") ) ) ) ) ) ) ) ) ) ) ) ) -> #VALUE! | P107: =IF(B107="","",UPPER(SUBSTITUTE(SUBSTITUTE(SUBSTITUTE(SUBSTITUTE(SUBSTITUTE(SUBSTITUTE(SUBSTITUTE(SUBSTITUTE(SUBSTITUTE(SUBSTITUTE(TRIM($E$3),"Á","A"),"É","E"),"Í","I"),"Ó","O"),"Ú","U"),"á","A"),"é","E"),"í","I"),"ó","O"),"ú","U"))) | Q107: =IF(B107="","",UPPER(SUBSTITUTE(SUBSTITUTE(SUBSTITUTE(SUBSTITUTE(SUBSTITUTE(SUBSTITUTE(SUBSTITUTE(SUBSTITUTE(SUBSTITUTE(SUBSTITUTE(TRIM($I$4),"Á","A"),"É","E"),"Í","I"),"Ó","O"),"Ú","U"),"á","A"),"é","E"),"í","I"),"ó","O"),"ú","U")))
B108: =SUBTOTAL(103,Tabla3812[NOMBRES Y APELLIDOS]) -> 0

Sheet BASE DE DATOS
A1: REGISTRO | B1: DOCUMENTO | C1: NOMBRES Y APELLIDOS | D1: CLUB | E1: GENERO | F1: CATEGORIA | G1: NACIMIENTO | H1: EDAD | I1: MUNICIPIO | J1: ESTADO | K1: LIGA
B2: =Tabla3812[[#This Row],[EDAD]] -> #VALUE!
B3: =Tabla3812[[#This Row],[EDAD]] -> #VALUE!
B4: =Tabla3812[[#This Row],[EDAD]] -> #VALUE!
B5: =Tabla3812[[#This Row],[EDAD]] -> #VALUE!
B6: =Tabla3812[[#This Row],[EDAD]] -> #VALUE!
A7: NRO | B7: DOCUMENTO | C7: NOMBRES Y APELLIDOS | D7: CLUB | E7: GENERO | F7: CATEGORIA | G7: NACIMIENTO | H7: EDAD | I7: MUNICIPIO | J7: ESTADO | K7: LIGA
A8: 1 | B8: =Tabla3812[[#This Row],[NUMERO DE DOCUMENTO ]] -> 0 | C8: =UPPER(TRIM(SUBSTITUTE(SUBSTITUTE(SUBSTITUTE(SUBSTITUTE(SUBSTITUTE(SUBSTITUTE(SUBSTITUTE(SUBSTITUTE(SUBSTITUTE(SUBSTITUTE('PLANILLA UNICA'!B8,"á","a"),"é","e"),"í","i"),"ó","o"),"ú","u"),"Á","A"),"É","E"),"Í","I"),"Ó","O"),"Ú","U"))) | D8: =Tabla3812[[#This Row],[CLUB/ESCUELA]] | E8: =Tabla3812[[#This Row],[GENERO]] -> 0 | F8: =Tabla3812[[#This Row],[CATEGORIA]] -> #VALUE! | G8: =Tabla3812[[#This Row],[NACIMIENTO]] -> // | H8: =Tabla3812[[#This Row],[EDAD]] -> #VALUE! | I8: =Tabla3812[[#This Row],[MUNICIPIO]] | J8: =Tabla3812[[#This Row],[ESTADO DEL DEPORTISTA]] -> 0 | K8: ='PLANILLA UNICA'!$I$3 -> 0
A9: 2 | B9: =Tabla3812[[#This Row],[NUMERO DE DOCUMENTO ]] -> 0 | C9: =UPPER(TRIM(SUBSTITUTE(SUBSTITUTE(SUBSTITUTE(SUBSTITUTE(SUBSTITUTE(SUBSTITUTE(SUBSTITUTE(SUBSTITUTE(SUBSTITUTE(SUBSTITUTE('PLANILLA UNICA'!B9,"á","a"),"é","e"),"í","i"),"ó","o"),"ú","u"),"Á","A"),"É","E"),"Í","I"),"Ó","O"),"Ú","U"))) | D9: =Tabla3812[[#This Row],[CLUB/ESCUELA]] | E9: =Tabla3812[[#This Row],[GENERO]] -> 0 | F9: =Tabla3812[[#This Row],[CATEGORIA]] -> #VALUE! | G9: =Tabla3812[[#This Row],[NACIMIENTO]] -> // | H9: =Tabla3812[[#This Row],[EDAD]] -> #VALUE! | I9: =Tabla3812[[#This Row],[MUNICIPIO]] | J9: =Tabla3812[[#This Row],[ESTADO DEL DEPORTISTA]] -> 0 | K9: ='PLANILLA UNICA'!$I$3 -> 0
A10: 3 | B10: =Tabla3812[[#This Row],[NUMERO DE DOCUMENTO ]] -> 0 | C10: =UPPER(TRIM(SUBSTITUTE(SUBSTITUTE(SUBSTITUTE(SUBSTITUTE(SUBSTITUTE(SUBSTITUTE(SUBSTITUTE(SUBSTITUTE(SUBSTITUTE(SUBSTITUTE('PLANILLA UNICA'!B10,"á","a"),"é","e"),"í","i"),"ó","o"),"ú","u"),"Á","A"),"É","E"),"Í","I"),"Ó","O"),"Ú","U"))) | D10: =Tabla3812[[#This Row],[CLUB/ESCUELA]] | E10: =Tabla3812[[#This Row],[GENERO]] -> 0 | F10: =Tabla3812[[#This Row],[CATEGORIA]] -> #VALUE! | G10: =Tabla3812[[#This Row],[NACIMIENTO]] -> // | H10: =Tabla3812[[#This Row],[EDAD]] -> #VALUE! | I10: =Tabla3812[[#This Row],[MUNICIPIO]] | J10: =Tabla3812[[#This Row],[ESTADO DEL DEPORTISTA]] -> 0 | K10: ='PLANILLA UNICA'!$I$3 -> 0
A11: 4 | B11: =Tabla3812[[#This Row],[NUMERO DE DOCUMENTO ]] -> 0 | C11: =UPPER(TRIM(SUBSTITUTE(SUBSTITUTE(SUBSTITUTE(SUBSTITUTE(SUBSTITUTE(SUBSTITUTE(SUBSTITUTE(SUBSTITUTE(SUBSTITUTE(SUBSTITUTE('PLANILLA UNICA'!B11,"á","a"),"é","e"),"í","i"),"ó","o"),"ú","u"),"Á","A"),"É","E"),"Í","I"),"Ó","O"),"Ú","U"))) | D11: =Tabla3812[[#This Row],[CLUB/ESCUELA]] | E11: =Tabla3812[[#This Row],[GENERO]] -> 0 | F11: =Tabla3812[[#This Row],[CATEGORIA]] -> #VALUE! | G11: =Tabla3812[[#This Row],[NACIMIENTO]] -> // | H11: =Tabla3812[[#This Row],[EDAD]] -> #VALUE! | I11: =Tabla3812[[#This Row],[MUNICIPIO]] | J11: =Tabla3812[[#This Row],[ESTADO DEL DEPORTISTA]] -> 0 | K11: ='PLANILLA UNICA'!$I$3 -> 0
A12: 5 | B12: =Tabla3812[[#This Row],[NUMERO DE DOCUMENTO ]] -> 0 | C12: =UPPER(TRIM(SUBSTITUTE(SUBSTITUTE(SUBSTITUTE(SUBSTITUTE(SUBSTITUTE(SUBSTITUTE(SUBSTITUTE(SUBSTITUTE(SUBSTITUTE(SUBSTITUTE('PLANILLA UNICA'!B12,"á","a"),"é","e"),"í","i"),"ó","o"),"ú","u"),"Á","A"),"É","E"),"Í","I"),"Ó","O"),"Ú","U"))) | D12: =Tabla3812[[#This Row],[CLUB/ESCUELA]] | E12: =Tabla3812[[#This Row],[GENERO]] -> 0 | F12: =Tabla3812[[#This Row],[CATEGORIA]] -> #VALUE! | G12: =Tabla3812[[#This Row],[NACIMIENTO]] -> // | H12: =Tabla3812[[#This Row],[EDAD]] -> #VALUE! | I12: =Tabla3812[[#This Row],[MUNICIPIO]] | J12: =Tabla3812[[#This Row],[ESTADO DEL DEPORTISTA]] -> 0 | K12: ='PLANILLA UNICA'!$I$3 -> 0
A13: 6 | B13: =Tabla3812[[#This Row],[NUMERO DE DOCUMENTO ]] -> 0 | C13: =UPPER(TRIM(SUBSTITUTE(SUBSTITUTE(SUBSTITUTE(SUBSTITUTE(SUBSTITUTE(SUBSTITUTE(SUBSTITUTE(SUBSTITUTE(SUBSTITUTE(SUBSTITUTE('PLANILLA UNICA'!B13,"á","a"),"é","e"),"í","i"),"ó","o"),"ú","u"),"Á","A"),"É","E"),"Í","I"),"Ó","O"),"Ú","U"))) | D13: =Tabla3812[[#This Row],[CLUB/ESCUELA]] | E13: =Tabla3812[[#This Row],[GENERO]] -> 0 | F13: =Tabla3812[[#This Row],[CATEGORIA]] -> #VALUE! | G13: =Tabla3812[[#This Row],[NACIMIENTO]] -> // | H13: =Tabla3812[[#This Row],[EDAD]] -> #VALUE! | I13: =Tabla3812[[#This Row],[MUNICIPIO]] | J13: =Tabla3812[[#This Row],[ESTADO DEL DEPORTISTA]] -> 0 | K13: ='PLANILLA UNICA'!$I$3 -> 0
A14: 7 | B14: =Tabla3812[[#This Row],[NUMERO DE DOCUMENTO ]] -> 0 | C14: =UPPER(TRIM(SUBSTITUTE(SUBSTITUTE(SUBSTITUTE(SUBSTITUTE(SUBSTITUTE(SUBSTITUTE(SUBSTITUTE(SUBSTITUTE(SUBSTITUTE(SUBSTITUTE('PLANILLA UNICA'!B14,"á","a"),"é","e"),"í","i"),"ó","o"),"ú","u"),"Á","A"),"É","E"),"Í","I"),"Ó","O"),"Ú","U"))) | D14: =Tabla3812[[#This Row],[CLUB/ESCUELA]] | E14: =Tabla3812[[#This Row],[GENERO]] -> 0 | F14: =Tabla3812[[#This Row],[CATEGORIA]] -> #VALUE! | G14: =Tabla3812[[#This Row],[NACIMIENTO]] -> // | H14: =Tabla3812[[#This Row],[EDAD]] -> #VALUE! | I14: =Tabla3812[[#This Row],[MUNICIPIO]] | J14: =Tabla3812[[#This Row],[ESTADO DEL DEPORTISTA]] -> 0 | K14: ='PLANILLA UNICA'!$I$3 -> 0
A15: 8 | B15: =Tabla3812[[#This Row],[NUMERO DE DOCUMENTO ]] -> 0 | C15: =UPPER(TRIM(SUBSTITUTE(SUBSTITUTE(SUBSTITUTE(SUBSTITUTE(SUBSTITUTE(SUBSTITUTE(SUBSTITUTE(SUBSTITUTE(SUBSTITUTE(SUBSTITUTE('PLANILLA UNICA'!B15,"á","a"),"é","e"),"í","i"),"ó","o"),"ú","u"),"Á","A"),"É","E"),"Í","I"),"Ó","O"),"Ú","U"))) | D15: =Tabla3812[[#This Row],[CLUB/ESCUELA]] | E15: =Tabla3812[[#This Row],[GENERO]] -> 0 | F15: =Tabla3812[[#This Row],[CATEGORIA]] -> #VALUE! | G15: =Tabla3812[[#This Row],[NACIMIENTO]] -> // | H15: =Tabla3812[[#This Row],[EDAD]] -> #VALUE! | I15: =Tabla3812[[#This Row],[MUNICIPIO]] | J15: =Tabla3812[[#This Row],[ESTADO DEL DEPORTISTA]] -> 0 | K15: ='PLANILLA UNICA'!$I$3 -> 0
A16: 9 | B16: =Tabla3812[[#This Row],[NUMERO DE DOCUMENTO ]] -> 0 | C16: =UPPER(TRIM(SUBSTITUTE(SUBSTITUTE(SUBSTITUTE(SUBSTITUTE(SUBSTITUTE(SUBSTITUTE(SUBSTITUTE(SUBSTITUTE(SUBSTITUTE(SUBSTITUTE('PLANILLA UNICA'!B16,"á","a"),"é","e"),"í","i"),"ó","o"),"ú","u"),"Á","A"),"É","E"),"Í","I"),"Ó","O"),"Ú","U"))) | D16: =Tabla3812[[#This Row],[CLUB/ESCUELA]] | E16: =Tabla3812[[#This Row],[GENERO]] -> 0 | F16: =Tabla3812[[#This Row],[CATEGORIA]] -> #VALUE! | G16: =Tabla3812[[#This Row],[NACIMIENTO]] -> // | H16: =Tabla3812[[#This Row],[EDAD]] -> #VALUE! | I16: =Tabla3812[[#This Row],[MUNICIPIO]] | J16: =Tabla3812[[#This Row],[ESTADO DEL DEPORTISTA]] -> 0 | K16: ='PLANILLA UNICA'!$I$3 -> 0
A17: 10 | B17: =Tabla3812[[#This Row],[NUMERO DE DOCUMENTO ]] -> 0 | C17: =UPPER(TRIM(SUBSTITUTE(SUBSTITUTE(SUBSTITUTE(SUBSTITUTE(SUBSTITUTE(SUBSTITUTE(SUBSTITUTE(SUBSTITUTE(SUBSTITUTE(SUBSTITUTE('PLANILLA UNICA'!B17,"á","a"),"é","e"),"í","i"),"ó","o"),"ú","u"),"Á","A"),"É","E"),"Í","I"),"Ó","O"),"Ú","U"))) | D17: =Tabla3812[[#This Row],[CLUB/ESCUELA]] | E17: =Tabla3812[[#This Row],[GENERO]] -> 0 | F17: =Tabla3812[[#This Row],[CATEGORIA]] -> #VALUE! | G17: =Tabla3812[[#This Row],[NACIMIENTO]] -> // | H17: =Tabla3812[[#This Row],[EDAD]] -> #VALUE! | I17: =Tabla3812[[#This Row],[MUNICIPIO]] | J17: =Tabla3812[[#This Row],[ESTADO DEL DEPORTISTA]] -> 0 | K17: ='PLANILLA UNICA'!$I$3 -> 0
A18: 11 | B18: =Tabla3812[[#This Row],[NUMERO DE DOCUMENTO ]] -> 0 | C18: =UPPER(TRIM(SUBSTITUTE(SUBSTITUTE(SUBSTITUTE(SUBSTITUTE(SUBSTITUTE(SUBSTITUTE(SUBSTITUTE(SUBSTITUTE(SUBSTITUTE(SUBSTITUTE('PLANILLA UNICA'!B18,"á","a"),"é","e"),"í","i"),"ó","o"),"ú","u"),"Á","A"),"É","E"),"Í","I"),"Ó","O"),"Ú","U"))) | D18: =Tabla3812[[#This Row],[CLUB/ESCUELA]] | E18: =Tabla3812[[#This Row],[GENERO]] -> 0 | F18: =Tabla3812[[#This Row],[CATEGORIA]] -> #VALUE! | G18: =Tabla3812[[#This Row],[NACIMIENTO]] -> // | H18: =Tabla3812[[#This Row],[EDAD]] -> #VALUE! | I18: =Tabla3812[[#This Row],[MUNICIPIO]] | J18: =Tabla3812[[#This Row],[ESTADO DEL DEPORTISTA]] -> 0 | K18: ='PLANILLA UNICA'!$I$3 -> 0
A19: 12 | B19: =Tabla3812[[#This Row],[NUMERO DE DOCUMENTO ]] -> 0 | C19: =UPPER(TRIM(SUBSTITUTE(SUBSTITUTE(SUBSTITUTE(SUBSTITUTE(SUBSTITUTE(SUBSTITUTE(SUBSTITUTE(SUBSTITUTE(SUBSTITUTE(SUBSTITUTE('PLANILLA UNICA'!B19,"á","a"),"é","e"),"í","i"),"ó","o"),"ú","u"),"Á","A"),"É","E"),"Í","I"),"Ó","O"),"Ú","U"))) | D19: =Tabla3812[[#This Row],[CLUB/ESCUELA]] | E19: =Tabla3812[[#This Row],[GENERO]] -> 0 | F19: =Tabla3812[[#This Row],[CATEGORIA]] -> #VALUE! | G19: =Tabla3812[[#This Row],[NACIMIENTO]] -> // | H19: =Tabla3812[[#This Row],[EDAD]] -> #VALUE! | I19: =Tabla3812[[#This Row],[MUNICIPIO]] | J19: =Tabla3812[[#This Row],[ESTADO DEL DEPORTISTA]] -> 0 | K19: ='PLANILLA UNICA'!$I$3 -> 0
... A107: 100 | B107: =Tabla3812[[#This Row],[NUMERO DE DOCUMENTO ]] -> 0 | C107: =UPPER(TRIM(SUBSTITUTE(SUBSTITUTE(SUBSTITUTE(SUBSTITUTE(SUBSTITUTE(SUBSTITUTE(SUBSTITUTE(SUBSTITUTE(SUBSTITUTE(SUBSTITUTE('PLANILLA UNICA'!B107,"á","a"),"é","e"),"í","i"),"ó","o"),"ú","u"),"Á","A"),"É","E"),"Í","I"),"Ó","O"),"Ú","U"))) | D107: =Tabla3812[[#This Row],[CLUB/ESCUELA]] | E107: =Tabla3812[[#This Row],[GENERO]] -> 0 | F107: =Tabla3812[[#This Row],[CATEGORIA]] -> #VALUE! | G107: =Tabla3812[[#This Row],[NACIMIENTO]] -> // | H107: =Tabla3812[[#This Row],[EDAD]] -> #VALUE! | I107: =Tabla3812[[#This Row],[MUNICIPIO]] | J107: =Tabla3812[[#This Row],[ESTADO DEL DEPORTISTA]] -> 0 | K107: ='PLANILLA UNICA'!$I$3 -> 0
B108: TOTAL | C108: =COUNTIF(C8:C107, "?*") -> 0

Sheet LIGADOS
B2: CLUB/ESCUELA | C2: MUNICIPIO | D2: DELEGADO 1 | E2: DELEGADO 2 | F2: TECNICO 1 | G2: TECNICO 2 | H2: TÉCNICO 3
B5: REGISTRO | C5: NOMBRE 1 | D5: NOMBRE 2 | E5: APELLLIDO 1 | F5: APELLIDO 2 | G5: TIPO DE DOCUMENTO | H5: NUMERO DE DOCUMENTO | I5: DIA DE NACIMIENTO | J5: MES DE NACIMIENTO | K5: AÑO DE NACIMIENTO | L5: RAMA | M5: NACIMIENTO | N5: EDAD | O5: CATGORIA | P5: CLUB/ESCUELA | Q5: MUNICIPIO
B6: 1 | M6: =CONCATENATE(Tabla382[[#This Row],[DIA DE NACIMIENTO]],"/",Tabla382[[#This Row],[MES DE NACIMIENTO]],"/",Tabla382[[#This Row],[AÑO DE NACIMIENTO]]) -> // | N6: =DATEDIF(Tabla382[[#This Row],[NACIMIENTO]],"01/07/2024","Y") -> #VALUE! | O6: =IF(Tabla382[[#This Row],[EDAD]]=4,"MINI 4 años", IF(Tabla382[[#This Row],[EDAD]]=5,"MINI 5 años", IF(Tabla382[[#This Row],[EDAD]]=6,"MINI 6 años", IF(Tabla382[[#This Row],[EDAD]]=7,"MINI 7 años", IF(Tabla382[[#This Row],[EDAD]]=8,"MINI 8 años", IF(Tabla382[[#This Row],[EDAD]]=9,"MINI 9 años", IF(Tabla382[[#This Row],[EDAD]]=10,"MINI 10 años", IF(Tabla382[[#This Row],[EDAD]]=11,"PREINFANTIL 11 años", IF(Tabla382[[#This Row],[EDAD]]=12,"INFANTIL 12 años", IF(Tabla382[[#This Row],[EDAD]]=13,"JUNIOR 13 años", IF(Tabla382[[#This Row],[EDAD]]=14,"PREJUVENIL 14 años", IF(OR(Tabla382[[#This Row],[EDAD]]=15, Tabla382[[#This Row],[EDAD]]=16, Tabla382[[#This Row],[EDAD]]=17),"JUVENIL 15-17 años", IF(Tabla382[[#This Row],[EDAD]]>=18,"MAYORES MASTER 18+ años","Fuera de rango") ) ) ) ) ) ) ) ) ) ) ) ) -> #VALUE! | P6: {=Tabla693[CLUB/ESCUELA]} -> 0 | Q6: {=Tabla693[MUNICIPIO]} -> 0
B7: 2 | M7: =CONCATENATE(Tabla382[[#This Row],[DIA DE NACIMIENTO]],"/",Tabla382[[#This Row],[MES DE NACIMIENTO]],"/",Tabla382[[#This Row],[AÑO DE NACIMIENTO]]) -> // | N7: =DATEDIF(Tabla382[[#This Row],[NACIMIENTO]],"01/07/2024","Y") -> #VALUE! | O7: =IF(Tabla382[[#This Row],[EDAD]]=4,"MINI 4 años", IF(Tabla382[[#This Row],[EDAD]]=5,"MINI 5 años", IF(Tabla382[[#This Row],[EDAD]]=6,"MINI 6 años", IF(Tabla382[[#This Row],[EDAD]]=7,"MINI 7 años", IF(Tabla382[[#This Row],[EDAD]]=8,"MINI 8 años", IF(Tabla382[[#This Row],[EDAD]]=9,"MINI 9 años", IF(Tabla382[[#This Row],[EDAD]]=10,"MINI 10 años", IF(Tabla382[[#This Row],[EDAD]]=11,"PREINFANTIL 11 años", IF(Tabla382[[#This Row],[EDAD]]=12,"INFANTIL 12 años", IF(Tabla382[[#This Row],[EDAD]]=13,"JUNIOR 13 años", IF(Tabla382[[#This Row],[EDAD]]=14,"PREJUVENIL 14 años", IF(OR(Tabla382[[#This Row],[EDAD]]=15, Tabla382[[#This Row],[EDAD]]=16, Tabla382[[#This Row],[EDAD]]=17),"JUVENIL 15-17 años", IF(Tabla382[[#This Row],[EDAD]]>=18,"MAYORES MASTER 18+ años","Fuera de rango") ) ) ) ) ) ) ) ) ) ) ) ) -> #VALUE! | P7: {=Tabla693[CLUB/ESCUELA]} -> 0 | Q7: {=Tabla693[MUNICIPIO]} -> 0
B8: 3 | M8: =CONCATENATE(Tabla382[[#This Row],[DIA DE NACIMIENTO]],"/",Tabla382[[#This Row],[MES DE NACIMIENTO]],"/",Tabla382[[#This Row],[AÑO DE NACIMIENTO]]) -> // | N8: =DATEDIF(Tabla382[[#This Row],[NACIMIENTO]],"01/07/2024","Y") -> #VALUE! | O8: =IF(Tabla382[[#This Row],[EDAD]]=4,"MINI 4 años", IF(Tabla382[[#This Row],[EDAD]]=5,"MINI 5 años", IF(Tabla382[[#This Row],[EDAD]]=6,"MINI 6 años", IF(Tabla382[[#This Row],[EDAD]]=7,"MINI 7 años", IF(Tabla382[[#This Row],[EDAD]]=8,"MINI 8 años", IF(Tabla382[[#This Row],[EDAD]]=9,"MINI 9 años", IF(Tabla382[[#This Row],[EDAD]]=10,"MINI 10 años", IF(Tabla382[[#This Row],[EDAD]]=11,"PREINFANTIL 11 años", IF(Tabla382[[#This Row],[EDAD]]=12,"INFANTIL 12 años", IF(Tabla382[[#This Row],[EDAD]]=13,"JUNIOR 13 años", IF(Tabla382[[#This Row],[EDAD]]=14,"PREJUVENIL 14 años", IF(OR(Tabla382[[#This Row],[EDAD]]=15, Tabla382[[#This Row],[EDAD]]=16, Tabla382[[#This Row],[EDAD]]=17),"JUVENIL 15-17 años", IF(Tabla382[[#This Row],[EDAD]]>=18,"MAYORES MASTER 18+ años","Fuera de rango") ) ) ) ) ) ) ) ) ) ) ) ) -> #VALUE! | P8: {=Tabla693[CLUB/ESCUELA]} -> 0 | Q8: {=Tabla693[MUNICIPIO]} -> 0
B9: 4 | M9: =CONCATENATE(Tabla382[[#This Row],[DIA DE NACIMIENTO]],"/",Tabla382[[#This Row],[MES DE NACIMIENTO]],"/",Tabla382[[#This Row],[AÑO DE NACIMIENTO]]) -> // | N9: =DATEDIF(Tabla382[[#This Row],[NACIMIENTO]],"01/07/2024","Y") -> #VALUE! | O9: =IF(Tabla382[[#This Row],[EDAD]]=4,"MINI 4 años", IF(Tabla382[[#This Row],[EDAD]]=5,"MINI 5 años", IF(Tabla382[[#This Row],[EDAD]]=6,"MINI 6 años", IF(Tabla382[[#This Row],[EDAD]]=7,"MINI 7 años", IF(Tabla382[[#This Row],[EDAD]]=8,"MINI 8 años", IF(Tabla382[[#This Row],[EDAD]]=9,"MINI 9 años", IF(Tabla382[[#This Row],[EDAD]]=10,"MINI 10 años", IF(Tabla382[[#This Row],[EDAD]]=11,"PREINFANTIL 11 años", IF(Tabla382[[#This Row],[EDAD]]=12,"INFANTIL 12 años", IF(Tabla382[[#This Row],[EDAD]]=13,"JUNIOR 13 años", IF(Tabla382[[#This Row],[EDAD]]=14,"PREJUVENIL 14 años", IF(OR(Tabla382[[#This Row],[EDAD]]=15, Tabla382[[#This Row],[EDAD]]=16, Tabla382[[#This Row],[EDAD]]=17),"JUVENIL 15-17 años", IF(Tabla382[[#This Row],[EDAD]]>=18,"MAYORES MASTER 18+ años","Fuera de rango") ) ) ) ) ) ) ) ) ) ) ) ) -> #VALUE! | P9: {=Tabla693[CLUB/ESCUELA]} -> 0 | Q9: {=Tabla693[MUNICIPIO]} -> 0
B10: 5 | M10: =CONCATENATE(Tabla382[[#This Row],[DIA DE NACIMIENTO]],"/",Tabla382[[#This Row],[MES DE NACIMIENTO]],"/",Tabla382[[#This Row],[AÑO DE NACIMIENTO]]) -> // | N10: =DATEDIF(Tabla382[[#This Row],[NACIMIENTO]],"01/07/2024","Y") -> #VALUE! | O10: =IF(Tabla382[[#This Row],[EDAD]]=4,"MINI 4 años", IF(Tabla382[[#This Row],[EDAD]]=5,"MINI 5 años", IF(Tabla382[[#This Row],[EDAD]]=6,"MINI 6 años", IF(Tabla382[[#This Row],[EDAD]]=7,"MINI 7 años", IF(Tabla382[[#This Row],[EDAD]]=8,"MINI 8 años", IF(Tabla382[[#This Row],[EDAD]]=9,"MINI 9 años", IF(Tabla382[[#This Row],[EDAD]]=10,"MINI 10 años", IF(Tabla382[[#This Row],[EDAD]]=11,"PREINFANTIL 11 años", IF(Tabla382[[#This Row],[EDAD]]=12,"INFANTIL 12 años", IF(Tabla382[[#This Row],[EDAD]]=13,"JUNIOR 13 años", IF(Tabla382[[#This Row],[EDAD]]=14,"PREJUVENIL 14 años", IF(OR(Tabla382[[#This Row],[EDAD]]=15, Tabla382[[#This Row],[EDAD]]=16, Tabla382[[#This Row],[EDAD]]=17),"JUVENIL 15-17 años", IF(Tabla382[[#This Row],[EDAD]]>=18,"MAYORES MASTER 18+ años","Fuera de rango") ) ) ) ) ) ) ) ) ) ) ) ) -> #VALUE! | P10: {=Tabla693[CLUB/ESCUELA]} -> 0 | Q10: {=Tabla693[MUNICIPIO]} -> 0
B11: 6 | M11: =CONCATENATE(Tabla382[[#This Row],[DIA DE NACIMIENTO]],"/",Tabla382[[#This Row],[MES DE NACIMIENTO]],"/",Tabla382[[#This Row],[AÑO DE NACIMIENTO]]) -> // | N11: =DATEDIF(Tabla382[[#This Row],[NACIMIENTO]],"01/07/2024","Y") -> #VALUE! | O11: =IF(Tabla382[[#This Row],[EDAD]]=4,"MINI 4 años", IF(Tabla382[[#This Row],[EDAD]]=5,"MINI 5 años", IF(Tabla382[[#This Row],[EDAD]]=6,"MINI 6 años", IF(Tabla382[[#This Row],[EDAD]]=7,"MINI 7 años", IF(Tabla382[[#This Row],[EDAD]]=8,"MINI 8 años", IF(Tabla382[[#This Row],[EDAD]]=9,"MINI 9 años", IF(Tabla382[[#This Row],[EDAD]]=10,"MINI 10 años", IF(Tabla382[[#This Row],[EDAD]]=11,"PREINFANTIL 11 años", IF(Tabla382[[#This Row],[EDAD]]=12,"INFANTIL 12 años", IF(Tabla382[[#This Row],[EDAD]]=13,"JUNIOR 13 años", IF(Tabla382[[#This Row],[EDAD]]=14,"PREJUVENIL 14 años", IF(OR(Tabla382[[#This Row],[EDAD]]=15, Tabla382[[#This Row],[EDAD]]=16, Tabla382[[#This Row],[EDAD]]=17),"JUVENIL 15-17 años", IF(Tabla382[[#This Row],[EDAD]]>=18,"MAYORES MASTER 18+ años","Fuera de rango") ) ) ) ) ) ) ) ) ) ) ) ) -> #VALUE! | P11: {=Tabla693[CLUB/ESCUELA]} -> 0 | Q11: {=Tabla693[MUNICIPIO]} -> 0
B12: 7 | M12: =CONCATENATE(Tabla382[[#This Row],[DIA DE NACIMIENTO]],"/",Tabla382[[#This Row],[MES DE NACIMIENTO]],"/",Tabla382[[#This Row],[AÑO DE NACIMIENTO]]) -> // | N12: =DATEDIF(Tabla382[[#This Row],[NACIMIENTO]],"01/07/2024","Y") -> #VALUE! | O12: =IF(Tabla382[[#This Row],[EDAD]]=4,"MINI 4 años", IF(Tabla382[[#This Row],[EDAD]]=5,"MINI 5 años", IF(Tabla382[[#This Row],[EDAD]]=6,"MINI 6 años", IF(Tabla382[[#This Row],[EDAD]]=7,"MINI 7 años", IF(Tabla382[[#This Row],[EDAD]]=8,"MINI 8 años", IF(Tabla382[[#This Row],[EDAD]]=9,"MINI 9 años", IF(Tabla382[[#This Row],[EDAD]]=10,"MINI 10 años", IF(Tabla382[[#This Row],[EDAD]]=11,"PREINFANTIL 11 años", IF(Tabla382[[#This Row],[EDAD]]=12,"INFANTIL 12 años", IF(Tabla382[[#This Row],[EDAD]]=13,"JUNIOR 13 años", IF(Tabla382[[#This Row],[EDAD]]=14,"PREJUVENIL 14 años", IF(OR(Tabla382[[#This Row],[EDAD]]=15, Tabla382[[#This Row],[EDAD]]=16, Tabla382[[#This Row],[EDAD]]=17),"JUVENIL 15-17 años", IF(Tabla382[[#This Row],[EDAD]]>=18,"MAYORES MASTER 18+ años","Fuera de rango") ) ) ) ) ) ) ) ) ) ) ) ) -> #VALUE! | P12: {=Tabla693[CLUB/ESCUELA]} -> 0 | Q12: {=Tabla693[MUNICIPIO]} -> 0
B13: 8 | M13: =CONCATENATE(Tabla382[[#This Row],[DIA DE NACIMIENTO]],"/",Tabla382[[#This Row],[MES DE NACIMIENTO]],"/",Tabla382[[#This Row],[AÑO DE NACIMIENTO]]) -> // | N13: =DATEDIF(Tabla382[[#This Row],[NACIMIENTO]],"01/07/2024","Y") -> #VALUE! | O13: =IF(Tabla382[[#This Row],[EDAD]]=4,"MINI 4 años", IF(Tabla382[[#This Row],[EDAD]]=5,"MINI 5 años", IF(Tabla382[[#This Row],[EDAD]]=6,"MINI 6 años", IF(Tabla382[[#This Row],[EDAD]]=7,"MINI 7 años", IF(Tabla382[[#This Row],[EDAD]]=8,"MINI 8 años", IF(Tabla382[[#This Row],[EDAD]]=9,"MINI 9 años", IF(Tabla382[[#This Row],[EDAD]]=10,"MINI 10 años", IF(Tabla382[[#This Row],[EDAD]]=11,"PREINFANTIL 11 años", IF(Tabla382[[#This Row],[EDAD]]=12,"INFANTIL 12 años", IF(Tabla382[[#This Row],[EDAD]]=13,"JUNIOR 13 años", IF(Tabla382[[#This Row],[EDAD]]=14,"PREJUVENIL 14 años", IF(OR(Tabla382[[#This Row],[EDAD]]=15, Tabla382[[#This Row],[EDAD]]=16, Tabla382[[#This Row],[EDAD]]=17),"JUVENIL 15-17 años", IF(Tabla382[[#This Row],[EDAD]]>=18,"MAYORES MASTER 18+ años","Fuera de rango") ) ) ) ) ) ) ) ) ) ) ) ) -> #VALUE! | P13: {=Tabla693[CLUB/ESCUELA]} -> 0 | Q13: {=Tabla693[MUNICIPIO]} -> 0
B14: 9 | M14: =CONCATENATE(Tabla382[[#This Row],[DIA DE NACIMIENTO]],"/",Tabla382[[#This Row],[MES DE NACIMIENTO]],"/",Tabla382[[#This Row],[AÑO DE NACIMIENTO]]) -> // | N14: =DATEDIF(Tabla382[[#This Row],[NACIMIENTO]],"01/07/2024","Y") -> #VALUE! | O14: =IF(Tabla382[[#This Row],[EDAD]]=4,"MINI 4 años", IF(Tabla382[[#This Row],[EDAD]]=5,"MINI 5 años", IF(Tabla382[[#This Row],[EDAD]]=6,"MINI 6 años", IF(Tabla382[[#This Row],[EDAD]]=7,"MINI 7 años", IF(Tabla382[[#This Row],[EDAD]]=8,"MINI 8 años", IF(Tabla382[[#This Row],[EDAD]]=9,"MINI 9 años", IF(Tabla382[[#This Row],[EDAD]]=10,"MINI 10 años", IF(Tabla382[[#This Row],[EDAD]]=11,"PREINFANTIL 11 años", IF(Tabla382[[#This Row],[EDAD]]=12,"INFANTIL 12 años", IF(Tabla382[[#This Row],[EDAD]]=13,"JUNIOR 13 años", IF(Tabla382[[#This Row],[EDAD]]=14,"PREJUVENIL 14 años", IF(OR(Tabla382[[#This Row],[EDAD]]=15, Tabla382[[#This Row],[EDAD]]=16, Tabla382[[#This Row],[EDAD]]=17),"JUVENIL 15-17 años", IF(Tabla382[[#This Row],[EDAD]]>=18,"MAYORES MASTER 18+ años","Fuera de rango") ) ) ) ) ) ) ) ) ) ) ) ) -> #VALUE! | P14: {=Tabla693[CLUB/ESCUELA]} -> 0 | Q14: {=Tabla693[MUNICIPIO]} -> 0
B15: 10 | M15: =CONCATENATE(Tabla382[[#This Row],[DIA DE NACIMIENTO]],"/",Tabla382[[#This Row],[MES DE NACIMIENTO]],"/",Tabla382[[#This Row],[AÑO DE NACIMIENTO]]) -> // | N15: =DATEDIF(Tabla382[[#This Row],[NACIMIENTO]],"01/07/2024","Y") -> #VALUE! | O15: =IF(Tabla382[[#This Row],[EDAD]]=4,"MINI 4 años", IF(Tabla382[[#This Row],[EDAD]]=5,"MINI 5 años", IF(Tabla382[[#This Row],[EDAD]]=6,"MINI 6 años", IF(Tabla382[[#This Row],[EDAD]]=7,"MINI 7 años", IF(Tabla382[[#This Row],[EDAD]]=8,"MINI 8 años", IF(Tabla382[[#This Row],[EDAD]]=9,"MINI 9 años", IF(Tabla382[[#This Row],[EDAD]]=10,"MINI 10 años", IF(Tabla382[[#This Row],[EDAD]]=11,"PREINFANTIL 11 años", IF(Tabla382[[#This Row],[EDAD]]=12,"INFANTIL 12 años", IF(Tabla382[[#This Row],[EDAD]]=13,"JUNIOR 13 años", IF(Tabla382[[#This Row],[EDAD]]=14,"PREJUVENIL 14 años", IF(OR(Tabla382[[#This Row],[EDAD]]=15, Tabla382[[#This Row],[EDAD]]=16, Tabla382[[#This Row],[EDAD]]=17),"JUVENIL 15-17 años", IF(Tabla382[[#This Row],[EDAD]]>=18,"MAYORES MASTER 18+ años","Fuera de rango") ) ) ) ) ) ) ) ) ) ) ) ) -> #VALUE! | P15: {=Tabla693[CLUB/ESCUELA]} -> 0 | Q15: {=Tabla693[MUNICIPIO]} -> 0
B16: 11 | M16: =CONCATENATE(Tabla382[[#This Row],[DIA DE NACIMIENTO]],"/",Tabla382[[#This Row],[MES DE NACIMIENTO]],"/",Tabla382[[#This Row],[AÑO DE NACIMIENTO]]) -> // | N16: =DATEDIF(Tabla382[[#This Row],[NACIMIENTO]],"01/07/2024","Y") -> #VALUE! | O16: =IF(Tabla382[[#This Row],[EDAD]]=4,"MINI 4 años", IF(Tabla382[[#This Row],[EDAD]]=5,"MINI 5 años", IF(Tabla382[[#This Row],[EDAD]]=6,"MINI 6 años", IF(Tabla382[[#This Row],[EDAD]]=7,"MINI 7 años", IF(Tabla382[[#This Row],[EDAD]]=8,"MINI 8 años", IF(Tabla382[[#This Row],[EDAD]]=9,"MINI 9 años", IF(Tabla382[[#This Row],[EDAD]]=10,"MINI 10 años", IF(Tabla382[[#This Row],[EDAD]]=11,"PREINFANTIL 11 años", IF(Tabla382[[#This Row],[EDAD]]=12,"INFANTIL 12 años", IF(Tabla382[[#This Row],[EDAD]]=13,"JUNIOR 13 años", IF(Tabla382[[#This Row],[EDAD]]=14,"PREJUVENIL 14 años", IF(OR(Tabla382[[#This Row],[EDAD]]=15, Tabla382[[#This Row],[EDAD]]=16, Tabla382[[#This Row],[EDAD]]=17),"JUVENIL 15-17 años", IF(Tabla382[[#This Row],[EDAD]]>=18,"MAYORES MASTER 18+ años","Fuera de rango") ) ) ) ) ) ) ) ) ) ) ) ) -> #VALUE! | P16: {=Tabla693[CLUB/ESCUELA]} -> 0 | Q16: {=Tabla693[MUNICIPIO]} -> 0
B17: 12 | M17: =CONCATENATE(Tabla382[[#This Row],[DIA DE NACIMIENTO]],"/",Tabla382[[#This Row],[MES DE NACIMIENTO]],"/",Tabla382[[#This Row],[AÑO DE NACIMIENTO]]) -> // | N17: =DATEDIF(Tabla382[[#This Row],[NACIMIENTO]],"01/07/2024","Y") -> #VALUE! | O17: =IF(Tabla382[[#This Row],[EDAD]]=4,"MINI 4 años", IF(Tabla382[[#This Row],[EDAD]]=5,"MINI 5 años", IF(Tabla382[[#This Row],[EDAD]]=6,"MINI 6 años", IF(Tabla382[[#This Row],[EDAD]]=7,"MINI 7 años", IF(Tabla382[[#This Row],[EDAD]]=8,"MINI 8 años", IF(Tabla382[[#This Row],[EDAD]]=9,"MINI 9 años", IF(Tabla382[[#This Row],[EDAD]]=10,"MINI 10 años", IF(Tabla382[[#This Row],[EDAD]]=11,"PREINFANTIL 11 años", IF(Tabla382[[#This Row],[EDAD]]=12,"INFANTIL 12 años", IF(Tabla382[[#This Row],[EDAD]]=13,"JUNIOR 13 años", IF(Tabla382[[#This Row],[EDAD]]=14,"PREJUVENIL 14 años", IF(OR(Tabla382[[#This Row],[EDAD]]=15, Tabla382[[#This Row],[EDAD]]=16, Tabla382[[#This Row],[EDAD]]=17),"JUVENIL 15-17 años", IF(Tabla382[[#This Row],[EDAD]]>=18,"MAYORES MASTER 18+ años","Fuera de rango") ) ) ) ) ) ) ) ) ) ) ) ) -> #VALUE! | P17: {=Tabla693[CLUB/ESCUELA]} -> 0 | Q17: {=Tabla693[MUNICIPIO]} -> 0
... B56: 51 | M56: =CONCATENATE(Tabla382[[#This Row],[DIA DE NACIMIENTO]],"/",Tabla382[[#This Row],[MES DE NACIMIENTO]],"/",Tabla382[[#This Row],[AÑO DE NACIMIENTO]]) -> // | N56: =DATEDIF(Tabla382[[#This Row],[NACIMIENTO]],"01/07/2024","Y") -> #VALUE! | O56: =IF(Tabla382[[#This Row],[EDAD]]=4,"MINI 4 años", IF(Tabla382[[#This Row],[EDAD]]=5,"MINI 5 años", IF(Tabla382[[#This Row],[EDAD]]=6,"MINI 6 años", IF(Tabla382[[#This Row],[EDAD]]=7,"MINI 7 años", IF(Tabla382[[#This Row],[EDAD]]=8,"MINI 8 años", IF(Tabla382[[#This Row],[EDAD]]=9,"MINI 9 años", IF(Tabla382[[#This Row],[EDAD]]=10,"MINI 10 años", IF(Tabla382[[#This Row],[EDAD]]=11,"PREINFANTIL 11 años", IF(Tabla382[[#This Row],[EDAD]]=12,"INFANTIL 12 años", IF(Tabla382[[#This Row],[EDAD]]=13,"JUNIOR 13 años", IF(Tabla382[[#This Row],[EDAD]]=14,"PREJUVENIL 14 años", IF(OR(Tabla382[[#This Row],[EDAD]]=15, Tabla382[[#This Row],[EDAD]]=16, Tabla382[[#This Row],[EDAD]]=17),"JUVENIL 15-17 años", IF(Tabla382[[#This Row],[EDAD]]>=18,"MAYORES MASTER 18+ años","Fuera de rango") ) ) ) ) ) ) ) ) ) ) ) ) -> #VALUE! | P56: {=Tabla693[CLUB/ESCUELA]} -> 0 | Q56: {=Tabla693[MUNICIPIO]} -> 0
C57: =SUBTOTAL(103,Tabla382[NOMBRE 1]) -> 0 | O57: =SUBTOTAL(103,Tabla382[CATGORIA]) -> 51

Sheet Hoja4
B2: DEPORTISTA
B3: ENTRENADOR
B4: DELEGADO
B5: CEDULA
B6: TARJETA
B7: RECREATIVO
B8: NOVATO
B9: N/A
B10: FEMENINO
B11: MASCULINO
B12: RECREATIVO
B13: NOVATOS
... B15: NO
