Workbook

Sheet DATOS CLUB
A1: CLUB | B1: MUNICIPIO | C1: ENTRENADOR | D1: DELEGADO

Sheet CLUBES
A1: REGISTRO | B1: NOMBRES COMPLETOS (COMO APARECEN EN EL DOCUMENTO | C1: APELLIDOS COMPLETOS COMO APARECEN EN EL DOCUMENTO | D1: DIA | E1: MES | F1: AÑO | G1: TIPO DE DOCUMENTO | H1: NUMERO DE DOCUMENTO | I1: OBLIGATORIO CORREO ELECTRONICO DEL DEPORTISTA | J1: CATEGORIA | K1: RAMA | L1: V1 | M1: F1 | N1: V2 | O1: F2 | P1: NACIMIENTO | Q1: EDAD | R1: CATGORIA | S1: CLUB/ESCUELA | T1: MUNICIPIO | U1: UNE
A2: 1 | J2: =Tabla3812[[#This Row],[CATGORIA]] -> #VALUE! | P2: =CONCATENATE(Tabla3812[[#This Row],[DIA]],"/",Tabla3812[[#This Row],[MES]],"/",Tabla3812[[#This Row],[AÑO]]) -> // | Q2: =DATEDIF(Tabla3812[[#This Row],[NACIMIENTO]],"01/07/2025","Y") -> #VALUE! | R2: =IF(Tabla3812[[#This Row],[EDAD]]=4,"MINI 4 años", IF(Tabla3812[[#This Row],[EDAD]]=5,"MINI 5 años", IF(Tabla3812[[#This Row],[EDAD]]=6,"MINI 6 años", IF(Tabla3812[[#This Row],[EDAD]]=7,"MINI 7 años", IF(Tabla3812[[#This Row],[EDAD]]=8,"MINI 8 años", IF(Tabla3812[[#This Row],[EDAD]]=9,"MINI 9 años", IF(Tabla3812[[#This Row],[EDAD]]=10,"MINI 10 años", IF(Tabla3812[[#This Row],[EDAD]]=11,"PREINFANTIL 11 años", IF(Tabla3812[[#This Row],[EDAD]]=12,"INFANTIL 12 años", IF(Tabla3812[[#This Row],[EDAD]]=13,"JUNIOR 13 años", IF(Tabla3812[[#This Row],[EDAD]]=14,"PREJUVENIL 14 años", IF(OR(Tabla3812[[#This Row],[EDAD]]=15, Tabla3812[[#This Row],[EDAD]]=16, Tabla3812[[#This Row],[EDAD]]=17),"JUVENIL 15-17 años", IF(Tabla3812[[#This Row],[EDAD]]>=18,"MAYORES MASTER 18+ años","Fuera de rango") ) ) ) ) ) ) ) ) ) ) ) ) -> #VALUE! | U2: =CONCATENATE(Tabla3812[[#This Row],[NOMBRES COMPLETOS (COMO APARECEN EN EL DOCUMENTO]]," ",Tabla3812[[#This Row],[APELLIDOS COMPLETOS COMO APARECEN EN EL DOCUMENTO]])
A3: 2 | J3: =Tabla3812[[#This Row],[CATGORIA]] -> #VALUE! | P3: =CONCATENATE(Tabla3812[[#This Row],[DIA]],"/",Tabla3812[[#This Row],[MES]],"/",Tabla3812[[#This Row],[AÑO]]) -> // | Q3: =DATEDIF(Tabla3812[[#This Row],[NACIMIENTO]],"01/07/2025","Y") -> #VALUE! | R3: =IF(Tabla3812[[#This Row],[EDAD]]=4,"MINI 4 años", IF(Tabla3812[[#This Row],[EDAD]]=5,"MINI 5 años", IF(Tabla3812[[#This Row],[EDAD]]=6,"MINI 6 años", IF(Tabla3812[[#This Row],[EDAD]]=7,"MINI 7 años", IF(Tabla3812[[#This Row],[EDAD]]=8,"MINI 8 años", IF(Tabla3812[[#This Row],[EDAD]]=9,"MINI 9 años", IF(Tabla3812[[#This Row],[EDAD]]=10,"MINI 10 años", IF(Tabla3812[[#This Row],[EDAD]]=11,"PREINFANTIL 11 años", IF(Tabla3812[[#This Row],[EDAD]]=12,"INFANTIL 12 años", IF(Tabla3812[[#This Row],[EDAD]]=13,"JUNIOR 13 años", IF(Tabla3812[[#This Row],[EDAD]]=14,"PREJUVENIL 14 años", IF(OR(Tabla3812[[#This Row],[EDAD]]=15, Tabla3812[[#This Row],[EDAD]]=16, Tabla3812[[#This Row],[EDAD]]=17),"JUVENIL 15-17 años", IF(Tabla3812[[#This Row],[EDAD]]>=18,"MAYORES MASTER 18+ años","Fuera de rango") ) ) ) ) ) ) ) ) ) ) ) ) -> #VALUE! | U3: =CONCATENATE(Tabla3812[[#This Row],[NOMBRES COMPLETOS (COMO APARECEN EN EL DOCUMENTO]]," ",Tabla3812[[#This Row],[APELLIDOS COMPLETOS COMO APARECEN EN EL DOCUMENTO]])
A4: 3 | J4: =Tabla3812[[#This Row],[CATGORIA]] -> #VALUE! | P4: =CONCATENATE(Tabla3812[[#This Row],[DIA]],"/",Tabla3812[[#This Row],[MES]],"/",Tabla3812[[#This Row],[AÑO]]) -> // | Q4: =DATEDIF(Tabla3812[[#This Row],[NACIMIENTO]],"01/07/2025","Y") -> #VALUE! | R4: =IF(Tabla3812[[#This Row],[EDAD]]=4,"MINI 4 años", IF(Tabla3812[[#This Row],[EDAD]]=5,"MINI 5 años", IF(Tabla3812[[#This Row],[EDAD]]=6,"MINI 6 años", IF(Tabla3812[[#This Row],[EDAD]]=7,"MINI 7 años", IF(Tabla3812[[#This Row],[EDAD]]=8,"MINI 8 años", IF(Tabla3812[[#This Row],[EDAD]]=9,"MINI 9 años", IF(Tabla3812[[#This Row],[EDAD]]=10,"MINI 10 años", IF(Tabla3812[[#This Row],[EDAD]]=11,"PREINFANTIL 11 años", IF(Tabla3812[[#This Row],[EDAD]]=12,"INFANTIL 12 años", IF(Tabla3812[[#This Row],[EDAD]]=13,"JUNIOR 13 años", IF(Tabla3812[[#This Row],[EDAD]]=14,"PREJUVENIL 14 años", IF(OR(Tabla3812[[#This Row],[EDAD]]=15, Tabla3812[[#This Row],[EDAD]]=16, Tabla3812[[#This Row],[EDAD]]=17),"JUVENIL 15-17 años", IF(Tabla3812[[#This Row],[EDAD]]>=18,"MAYORES MASTER 18+ años","Fuera de rango") ) ) ) ) ) ) ) ) ) ) ) ) -> #VALUE! | U4: =CONCATENATE(Tabla3812[[#This Row],[NOMBRES COMPLETOS (COMO APARECEN EN EL DOCUMENTO]]," ",Tabla3812[[#This Row],[APELLIDOS COMPLETOS COMO APARECEN EN EL DOCUMENTO]])
A5: 4 | J5: =Tabla3812[[#This Row],[CATGORIA]] -> #VALUE! | P5: =CONCATENATE(Tabla3812[[#This Row],[DIA]],"/",Tabla3812[[#This Row],[MES]],"/",Tabla3812[[#This Row],[AÑO]]) -> // | Q5: =DATEDIF(Tabla3812[[#This Row],[NACIMIENTO]],"01/07/2025","Y") -> #VALUE! | R5: =IF(Tabla3812[[#This Row],[EDAD]]=4,"MINI 4 años", IF(Tabla3812[[#This Row],[EDAD]]=5,"MINI 5 años", IF(Tabla3812[[#This Row],[EDAD]]=6,"MINI 6 años", IF(Tabla3812[[#This Row],[EDAD]]=7,"MINI 7 años", IF(Tabla3812[[#This Row],[EDAD]]=8,"MINI 8 años", IF(Tabla3812[[#This Row],[EDAD]]=9,"MINI 9 años", IF(Tabla3812[[#This Row],[EDAD]]=10,"MINI 10 años", IF(Tabla3812[[#This Row],[EDAD]]=11,"PREINFANTIL 11 años", IF(Tabla3812[[#This Row],[EDAD]]=12,"INFANTIL 12 años", IF(Tabla3812[[#This Row],[EDAD]]=13,"JUNIOR 13 años", IF(Tabla3812[[#This Row],[EDAD]]=14,"PREJUVENIL 14 años", IF(OR(Tabla3812[[#This Row],[EDAD]]=15, Tabla3812[[#This Row],[EDAD]]=16, Tabla3812[[#This Row],[EDAD]]=17),"JUVENIL 15-17 años", IF(Tabla3812[[#This Row],[EDAD]]>=18,"MAYORES MASTER 18+ años","Fuera de rango") ) ) ) ) ) ) ) ) ) ) ) ) -> #VALUE! | U5: =CONCATENATE(Tabla3812[[#This Row],[NOMBRES COMPLETOS (COMO APARECEN EN EL DOCUMENTO]]," ",Tabla3812[[#This Row],[APELLIDOS COMPLETOS COMO APARECEN EN EL DOCUMENTO]])
A6: 5 | J6: =Tabla3812[[#This Row],[CATGORIA]] -> #VALUE! | P6: =CONCATENATE(Tabla3812[[#This Row],[DIA]],"/",Tabla3812[[#This Row],[MES]],"/",Tabla3812[[#This Row],[AÑO]]) -> // | Q6: =DATEDIF(Tabla3812[[#This Row],[NACIMIENTO]],"01/07/2025","Y") -> #VALUE! | R6: =IF(Tabla3812[[#This Row],[EDAD]]=4,"MINI 4 años", IF(Tabla3812[[#This Row],[EDAD]]=5,"MINI 5 años", IF(Tabla3812[[#This Row],[EDAD]]=6,"MINI 6 años", IF(Tabla3812[[#This Row],[EDAD]]=7,"MINI 7 años", IF(Tabla3812[[#This Row],[EDAD]]=8,"MINI 8 años", IF(Tabla3812[[#This Row],[EDAD]]=9,"MINI 9 años", IF(Tabla3812[[#This Row],[EDAD]]=10,"MINI 10 años", IF(Tabla3812[[#This Row],[EDAD]]=11,"PREINFANTIL 11 años", IF(Tabla3812[[#This Row],[EDAD]]=12,"INFANTIL 12 años", IF(Tabla3812[[#This Row],[EDAD]]=13,"JUNIOR 13 años", IF(Tabla3812[[#This Row],[EDAD]]=14,"PREJUVENIL 14 años", IF(OR(Tabla3812[[#This Row],[EDAD]]=15, Tabla3812[[#This Row],[EDAD]]=16, Tabla3812[[#This Row],[EDAD]]=17),"JUVENIL 15-17 años", IF(Tabla3812[[#This Row],[EDAD]]>=18,"MAYORES MASTER 18+ años","Fuera de rango") ) ) ) ) ) ) ) ) ) ) ) ) -> #VALUE! | U6: =CONCATENATE(Tabla3812[[#This Row],[NOMBRES COMPLETOS (COMO APARECEN EN EL DOCUMENTO]]," ",Tabla3812[[#This Row],[APELLIDOS COMPLETOS COMO APARECEN EN EL DOCUMENTO]])
A7: 6 | J7: =Tabla3812[[#This Row],[CATGORIA]] -> #VALUE! | P7: =CONCATENATE(Tabla3812[[#This Row],[DIA]],"/",Tabla3812[[#This Row],[MES]],"/",Tabla3812[[#This Row],[AÑO]]) -> // | Q7: =DATEDIF(Tabla3812[[#This Row],[NACIMIENTO]],"01/07/2025","Y") -> #VALUE! | R7: =IF(Tabla3812[[#This Row],[EDAD]]=4,"MINI 4 años", IF(Tabla3812[[#This Row],[EDAD]]=5,"MINI 5 años", IF(Tabla3812[[#This Row],[EDAD]]=6,"MINI 6 años", IF(Tabla3812[[#This Row],[EDAD]]=7,"MINI 7 años", IF(Tabla3812[[#This Row],[EDAD]]=8,"MINI 8 años", IF(Tabla3812[[#This Row],[EDAD]]=9,"MINI 9 años", IF(Tabla3812[[#This Row],[EDAD]]=10,"MINI 10 años", IF(Tabla3812[[#This Row],[EDAD]]=11,"PREINFANTIL 11 años", IF(Tabla3812[[#This Row],[EDAD]]=12,"INFANTIL 12 años", IF(Tabla3812[[#This Row],[EDAD]]=13,"JUNIOR 13 años", IF(Tabla3812[[#This Row],[EDAD]]=14,"PREJUVENIL 14 años", IF(OR(Tabla3812[[#This Row],[EDAD]]=15, Tabla3812[[#This Row],[EDAD]]=16, Tabla3812[[#This Row],[EDAD]]=17),"JUVENIL 15-17 años", IF(Tabla3812[[#This Row],[EDAD]]>=18,"MAYORES MASTER 18+ años","Fuera de rango") ) ) ) ) ) ) ) ) ) ) ) ) -> #VALUE! | U7: =CONCATENATE(Tabla3812[[#This Row],[NOMBRES COMPLETOS (COMO APARECEN EN EL DOCUMENTO]]," ",Tabla3812[[#This Row],[APELLIDOS COMPLETOS COMO APARECEN EN EL DOCUMENTO]])
A8: 7 | J8: =Tabla3812[[#This Row],[CATGORIA]] -> #VALUE! | P8: =CONCATENATE(Tabla3812[[#This Row],[DIA]],"/",Tabla3812[[#This Row],[MES]],"/",Tabla3812[[#This Row],[AÑO]]) -> // | Q8: =DATEDIF(Tabla3812[[#This Row],[NACIMIENTO]],"01/07/2025","Y") -> #VALUE! | R8: =IF(Tabla3812[[#This Row],[EDAD]]=4,"MINI 4 años", IF(Tabla3812[[#This Row],[EDAD]]=5,"MINI 5 años", IF(Tabla3812[[#This Row],[EDAD]]=6,"MINI 6 años", IF(Tabla3812[[#This Row],[EDAD]]=7,"MINI 7 años", IF(Tabla3812[[#This Row],[EDAD]]=8,"MINI 8 años", IF(Tabla3812[[#This Row],[EDAD]]=9,"MINI 9 años", IF(Tabla3812[[#This Row],[EDAD]]=10,"MINI 10 años", IF(Tabla3812[[#This Row],[EDAD]]=11,"PREINFANTIL 11 años", IF(Tabla3812[[#This Row],[EDAD]]=12,"INFANTIL 12 años", IF(Tabla3812[[#This Row],[EDAD]]=13,"JUNIOR 13 años", IF(Tabla3812[[#This Row],[EDAD]]=14,"PREJUVENIL 14 años", IF(OR(Tabla3812[[#This Row],[EDAD]]=15, Tabla3812[[#This Row],[EDAD]]=16, Tabla3812[[#This Row],[EDAD]]=17),"JUVENIL 15-17 años", IF(Tabla3812[[#This Row],[EDAD]]>=18,"MAYORES MASTER 18+ años","Fuera de rango") ) ) ) ) ) ) ) ) ) ) ) ) -> #VALUE! | U8: =CONCATENATE(Tabla3812[[#This Row],[NOMBRES COMPLETOS (COMO APARECEN EN EL DOCUMENTO]]," ",Tabla3812[[#This Row],[APELLIDOS COMPLETOS COMO APARECEN EN EL DOCUMENTO]])
A9: 8 | J9: =Tabla3812[[#This Row],[CATGORIA]] -> #VALUE! | P9: =CONCATENATE(Tabla3812[[#This Row],[DIA]],"/",Tabla3812[[#This Row],[MES]],"/",Tabla3812[[#This Row],[AÑO]]) -> // | Q9: =DATEDIF(Tabla3812[[#This Row],[NACIMIENTO]],"01/07/2025","Y") -> #VALUE! | R9: =IF(Tabla3812[[#This Row],[EDAD]]=4,"MINI 4 años", IF(Tabla3812[[#This Row],[EDAD]]=5,"MINI 5 años", IF(Tabla3812[[#This Row],[EDAD]]=6,"MINI 6 años", IF(Tabla3812[[#This Row],[EDAD]]=7,"MINI 7 años", IF(Tabla3812[[#This Row],[EDAD]]=8,"MINI 8 años", IF(Tabla3812[[#This Row],[EDAD]]=9,"MINI 9 años", IF(Tabla3812[[#This Row],[EDAD]]=10,"MINI 10 años", IF(Tabla3812[[#This Row],[EDAD]]=11,"PREINFANTIL 11 años", IF(Tabla3812[[#This Row],[EDAD]]=12,"INFANTIL 12 años", IF(Tabla3812[[#This Row],[EDAD]]=13,"JUNIOR 13 años", IF(Tabla3812[[#This Row],[EDAD]]=14,"PREJUVENIL 14 años", IF(OR(Tabla3812[[#This Row],[EDAD]]=15, Tabla3812[[#This Row],[EDAD]]=16, Tabla3812[[#This Row],[EDAD]]=17),"JUVENIL 15-17 años", IF(Tabla3812[[#This Row],[EDAD]]>=18,"MAYORES MASTER 18+ años","Fuera de rango") ) ) ) ) ) ) ) ) ) ) ) ) -> #VALUE! | U9: =CONCATENATE(Tabla3812[[#This Row],[NOMBRES COMPLETOS (COMO APARECEN EN EL DOCUMENTO]]," ",Tabla3812[[#This Row],[APELLIDOS COMPLETOS COMO APARECEN EN EL DOCUMENTO]])
A10: 9 | J10: =Tabla3812[[#This Row],[CATGORIA]] -> #VALUE! | P10: =CONCATENATE(Tabla3812[[#This Row],[DIA]],"/",Tabla3812[[#This Row],[MES]],"/",Tabla3812[[#This Row],[AÑO]]) -> // | Q10: =DATEDIF(Tabla3812[[#This Row],[NACIMIENTO]],"01/07/2025","Y") -> #VALUE! | R10: =IF(Tabla3812[[#This Row],[EDAD]]=4,"MINI 4 años", IF(Tabla3812[[#This Row],[EDAD]]=5,"MINI 5 años", IF(Tabla3812[[#This Row],[EDAD]]=6,"MINI 6 años", IF(Tabla3812[[#This Row],[EDAD]]=7,"MINI 7 años", IF(Tabla3812[[#This Row],[EDAD]]=8,"MINI 8 años", IF(Tabla3812[[#This Row],[EDAD]]=9,"MINI 9 años", IF(Tabla3812[[#This Row],[EDAD]]=10,"MINI 10 años", IF(Tabla3812[[#This Row],[EDAD]]=11,"PREINFANTIL 11 años", IF(Tabla3812[[#This Row],[EDAD]]=12,"INFANTIL 12 años", IF(Tabla3812[[#This Row],[EDAD]]=13,"JUNIOR 13 años", IF(Tabla3812[[#This Row],[EDAD]]=14,"PREJUVENIL 14 años", IF(OR(Tabla3812[[#This Row],[EDAD]]=15, Tabla3812[[#This Row],[EDAD]]=16, Tabla3812[[#This Row],[EDAD]]=17),"JUVENIL 15-17 años", IF(Tabla3812[[#This Row],[EDAD]]>=18,"MAYORES MASTER 18+ años","Fuera de rango") ) ) ) ) ) ) ) ) ) ) ) ) -> #VALUE! | U10: =CONCATENATE(Tabla3812[[#This Row],[NOMBRES COMPLETOS (COMO APARECEN EN EL DOCUMENTO]]," ",Tabla3812[[#This Row],[APELLIDOS COMPLETOS COMO APARECEN EN EL DOCUMENTO]])
A11: 10 | J11: =Tabla3812[[#This Row],[CATGORIA]] -> #VALUE! | P11: =CONCATENATE(Tabla3812[[#This Row],[DIA]],"/",Tabla3812[[#This Row],[MES]],"/",Tabla3812[[#This Row],[AÑO]]) -> // | Q11: =DATEDIF(Tabla3812[[#This Row],[NACIMIENTO]],"01/07/2025","Y") -> #VALUE! | R11: =IF(Tabla3812[[#This Row],[EDAD]]=4,"MINI 4 años", IF(Tabla3812[[#This Row],[EDAD]]=5,"MINI 5 años", IF(Tabla3812[[#This Row],[EDAD]]=6,"MINI 6 años", IF(Tabla3812[[#This Row],[EDAD]]=7,"MINI 7 años", IF(Tabla3812[[#This Row],[EDAD]]=8,"MINI 8 años", IF(Tabla3812[[#This Row],[EDAD]]=9,"MINI 9 años", IF(Tabla3812[[#This Row],[EDAD]]=10,"MINI 10 años", IF(Tabla3812[[#This Row],[EDAD]]=11,"PREINFANTIL 11 años", IF(Tabla3812[[#This Row],[EDAD]]=12,"INFANTIL 12 años", IF(Tabla3812[[#This Row],[EDAD]]=13,"JUNIOR 13 años", IF(Tabla3812[[#This Row],[EDAD]]=14,"PREJUVENIL 14 años", IF(OR(Tabla3812[[#This Row],[EDAD]]=15, Tabla3812[[#This Row],[EDAD]]=16, Tabla3812[[#This Row],[EDAD]]=17),"JUVENIL 15-17 años", IF(Tabla3812[[#This Row],[EDAD]]>=18,"MAYORES MASTER 18+ años","Fuera de rango") ) ) ) ) ) ) ) ) ) ) ) ) -> #VALUE! | U11: =CONCATENATE(Tabla3812[[#This Row],[NOMBRES COMPLETOS (COMO APARECEN EN EL DOCUMENTO]]," ",Tabla3812[[#This Row],[APELLIDOS COMPLETOS COMO APARECEN EN EL DOCUMENTO]])
A12: 11 | J12: =Tabla3812[[#This Row],[CATGORIA]] -> #VALUE! | P12: =CONCATENATE(Tabla3812[[#This Row],[DIA]],"/",Tabla3812[[#This Row],[MES]],"/",Tabla3812[[#This Row],[AÑO]]) -> // | Q12: =DATEDIF(Tabla3812[[#This Row],[NACIMIENTO]],"01/07/2025","Y") -> #VALUE! | R12: =IF(Tabla3812[[#This Row],[EDAD]]=4,"MINI 4 años", IF(Tabla3812[[#This Row],[EDAD]]=5,"MINI 5 años", IF(Tabla3812[[#This Row],[EDAD]]=6,"MINI 6 años", IF(Tabla3812[[#This Row],[EDAD]]=7,"MINI 7 años", IF(Tabla3812[[#This Row],[EDAD]]=8,"MINI 8 años", IF(Tabla3812[[#This Row],[EDAD]]=9,"MINI 9 años", IF(Tabla3812[[#This Row],[EDAD]]=10,"MINI 10 años", IF(Tabla3812[[#This Row],[EDAD]]=11,"PREINFANTIL 11 años", IF(Tabla3812[[#This Row],[EDAD]]=12,"INFANTIL 12 años", IF(Tabla3812[[#This Row],[EDAD]]=13,"JUNIOR 13 años", IF(Tabla3812[[#This Row],[EDAD]]=14,"PREJUVENIL 14 años", IF(OR(Tabla3812[[#This Row],[EDAD]]=15, Tabla3812[[#This Row],[EDAD]]=16, Tabla3812[[#This Row],[EDAD]]=17),"JUVENIL 15-17 años", IF(Tabla3812[[#This Row],[EDAD]]>=18,"MAYORES MASTER 18+ años","Fuera de rango") ) ) ) ) ) ) ) ) ) ) ) ) -> #VALUE! | U12: =CONCATENATE(Tabla3812[[#This Row],[NOMBRES COMPLETOS (COMO APARECEN EN EL DOCUMENTO]]," ",Tabla3812[[#This Row],[APELLIDOS COMPLETOS COMO APARECEN EN EL DOCUMENTO]])
A13: 12 | J13: =Tabla3812[[#This Row],[CATGORIA]] -> #VALUE! | P13: =CONCATENATE(Tabla3812[[#This Row],[DIA]],"/",Tabla3812[[#This Row],[MES]],"/",Tabla3812[[#This Row],[AÑO]]) -> // | Q13: =DATEDIF(Tabla3812[[#This Row],[NACIMIENTO]],"01/07/2025","Y") -> #VALUE! | R13: =IF(Tabla3812[[#This Row],[EDAD]]=4,"MINI 4 años", IF(Tabla3812[[#This Row],[EDAD]]=5,"MINI 5 años", IF(Tabla3812[[#This Row],[EDAD]]=6,"MINI 6 años", IF(Tabla3812[[#This Row],[EDAD]]=7,"MINI 7 años", IF(Tabla3812[[#This Row],[EDAD]]=8,"MINI 8 años", IF(Tabla3812[[#This Row],[EDAD]]=9,"MINI 9 años", IF(Tabla3812[[#This Row],[EDAD]]=10,"MINI 10 años", IF(Tabla3812[[#This Row],[EDAD]]=11,"PREINFANTIL 11 años", IF(Tabla3812[[#This Row],[EDAD]]=12,"INFANTIL 12 años", IF(Tabla3812[[#This Row],[EDAD]]=13,"JUNIOR 13 años", IF(Tabla3812[[#This Row],[EDAD]]=14,"PREJUVENIL 14 años", IF(OR(Tabla3812[[#This Row],[EDAD]]=15, Tabla3812[[#This Row],[EDAD]]=16, Tabla3812[[#This Row],[EDAD]]=17),"JUVENIL 15-17 años", IF(Tabla3812[[#This Row],[EDAD]]>=18,"MAYORES MASTER 18+ años","Fuera de rango") ) ) ) ) ) ) ) ) ) ) ) ) -> #VALUE! | U13: =CONCATENATE(Tabla3812[[#This Row],[NOMBRES COMPLETOS (COMO APARECEN EN EL DOCUMENTO]]," ",Tabla3812[[#This Row],[APELLIDOS COMPLETOS COMO APARECEN EN EL DOCUMENTO]])
... A52: 51 | J52: =Tabla3812[[#This Row],[CATGORIA]] -> #VALUE! | P52: =CONCATENATE(Tabla3812[[#This Row],[DIA]],"/",Tabla3812[[#This Row],[MES]],"/",Tabla3812[[#This Row],[AÑO]]) -> // | Q52: =DATEDIF(Tabla3812[[#This Row],[NACIMIENTO]],"01/07/2025","Y") -> #VALUE! | R52: =IF(Tabla3812[[#This Row],[EDAD]]=4,"MINI 4 años", IF(Tabla3812[[#This Row],[EDAD]]=5,"MINI 5 años", IF(Tabla3812[[#This Row],[EDAD]]=6,"MINI 6 años", IF(Tabla3812[[#This Row],[EDAD]]=7,"MINI 7 años", IF(Tabla3812[[#This Row],[EDAD]]=8,"MINI 8 años", IF(Tabla3812[[#This Row],[EDAD]]=9,"MINI 9 años", IF(Tabla3812[[#This Row],[EDAD]]=10,"MINI 10 años", IF(Tabla3812[[#This Row],[EDAD]]=11,"PREINFANTIL 11 años", IF(Tabla3812[[#This Row],[EDAD]]=12,"INFANTIL 12 años", IF(Tabla3812[[#This Row],[EDAD]]=13,"JUNIOR 13 años", IF(Tabla3812[[#This Row],[EDAD]]=14,"PREJUVENIL 14 años", IF(OR(Tabla3812[[#This Row],[EDAD]]=15, Tabla3812[[#This Row],[EDAD]]=16, Tabla3812[[#This Row],[EDAD]]=17),"JUVENIL 15-17 años", IF(Tabla3812[[#This Row],[EDAD]]>=18,"MAYORES MASTER 18+ años","Fuera de rango") ) ) ) ) ) ) ) ) ) ) ) ) -> #VALUE! | U52: =CONCATENATE(Tabla3812[[#This Row],[NOMBRES COMPLETOS (COMO APARECEN EN EL DOCUMENTO]]," ",Tabla3812[[#This Row],[APELLIDOS COMPLETOS COMO APARECEN EN EL DOCUMENTO]])
B53: =SUBTOTAL(103,Tabla3812[NOMBRES COMPLETOS (COMO APARECEN EN EL DOCUMENTO]) -> 0 | R53: =SUBTOTAL(103,Tabla3812[CATGORIA]) -> 51

Sheet BASE DE DATOS
A1: NRO | B1: NOMBRES Y APELLIDOS | C1: FECHA | D1: TIPO | E1: NUMERO | F1: CATEGORIA | G1: RAMA | H1: CLUB | I1: MUNICIPIO | J1: TECNICO | K1: DELEGADO | L1: V1 | M1: F1 | N1: V12 | O1: F2
A2: 1 | B2: =Tabla3812[[#This Row],[UNE]] | C2: =Tabla3812[[#This Row],[NACIMIENTO]] -> // | D2: =Tabla3812[[#This Row],[TIPO DE DOCUMENTO]] -> 0 | E2: =Tabla3812[[#This Row],[NUMERO DE DOCUMENTO]] -> 0 | F2: =Tabla3812[[#This Row],[CATEGORIA ]] -> #VALUE! | G2: =CLUBES!K2 -> 0 | H2: =CLUB[[#This Row],[CLUB]] -> 0 | I2: =CLUB[[#This Row],[MUNICIPIO]] -> 0 | J2: =CLUB[[#This Row],[ENTRENADOR]] -> 0 | K2: =CLUB[[#This Row],[DELEGADO]] -> 0 | L2: =Tabla3812[[#This Row],[V1]] -> 0 | M2: =Tabla3812[[#This Row],[F1]] -> 0 | N2: =Tabla3812[[#This Row],[V2]] -> 0 | O2: =Tabla3812[[#This Row],[F2]] -> 0
A3: 2 | B3: =Tabla3812[[#This Row],[UNE]] | C3: =Tabla3812[[#This Row],[NACIMIENTO]] -> // | D3: =Tabla3812[[#This Row],[TIPO DE DOCUMENTO]] -> 0 | E3: =Tabla3812[[#This Row],[NUMERO DE DOCUMENTO]] -> 0 | F3: =Tabla3812[[#This Row],[CATEGORIA ]] -> #VALUE! | G3: =CLUBES!K3 -> 0 | H3: =H2 -> 0 | I3: =I2 -> 0 | J3: =J2 -> 0 | K3: =+K2 -> 0 | L3: =Tabla3812[[#This Row],[V1]] -> 0 | M3: =Tabla3812[[#This Row],[F1]] -> 0 | N3: =Tabla3812[[#This Row],[V2]] -> 0 | O3: =Tabla3812[[#This Row],[F2]] -> 0
A4: 3 | B4: =Tabla3812[[#This Row],[UNE]] | C4: =Tabla3812[[#This Row],[NACIMIENTO]] -> // | D4: =Tabla3812[[#This Row],[TIPO DE DOCUMENTO]] -> 0 | E4: =Tabla3812[[#This Row],[NUMERO DE DOCUMENTO]] -> 0 | F4: =Tabla3812[[#This Row],[CATEGORIA ]] -> #VALUE! | G4: =CLUBES!K4 -> 0 | H4: =H3 -> 0 | I4: =I3 -> 0 | J4: =+J3 -> 0 | K4: =K3 -> 0 | L4: =Tabla3812[[#This Row],[V1]] -> 0 | M4: =Tabla3812[[#This Row],[F1]] -> 0 | N4: =Tabla3812[[#This Row],[V2]] -> 0 | O4: =Tabla3812[[#This Row],[F2]] -> 0
A5: 4 | B5: =Tabla3812[[#This Row],[UNE]] | C5: =Tabla3812[[#This Row],[NACIMIENTO]] -> // | D5: =Tabla3812[[#This Row],[TIPO DE DOCUMENTO]] -> 0 | E5: =Tabla3812[[#This Row],[NUMERO DE DOCUMENTO]] -> 0 | F5: =Tabla3812[[#This Row],[CATEGORIA ]] -> #VALUE! | G5: =CLUBES!K5 -> 0 | H5: =H4 -> 0 | I5: =I4 -> 0 | J5: =+J4 -> 0 | K5: =K4 -> 0 | L5: =Tabla3812[[#This Row],[V1]] -> 0 | M5: =Tabla3812[[#This Row],[F1]] -> 0 | N5: =Tabla3812[[#This Row],[V2]] -> 0 | O5: =Tabla3812[[#This Row],[F2]] -> 0
A6: 5 | B6: =Tabla3812[[#This Row],[UNE]] | C6: =Tabla3812[[#This Row],[NACIMIENTO]] -> // | D6: =Tabla3812[[#This Row],[TIPO DE DOCUMENTO]] -> 0 | E6: =Tabla3812[[#This Row],[NUMERO DE DOCUMENTO]] -> 0 | F6: =Tabla3812[[#This Row],[CATEGORIA ]] -> #VALUE! | G6: =CLUBES!K6 -> 0 | H6: =H5 -> 0 | I6: =I5 -> 0 | J6: =+J5 -> 0 | K6: =K5 -> 0 | L6: =Tabla3812[[#This Row],[V1]] -> 0 | M6: =Tabla3812[[#This Row],[F1]] -> 0 | N6: =Tabla3812[[#This Row],[V2]] -> 0 | O6: =Tabla3812[[#This Row],[F2]] -> 0
A7: 6 | B7: =Tabla3812[[#This Row],[UNE]] | C7: =Tabla3812[[#This Row],[NACIMIENTO]] -> // | D7: =Tabla3812[[#This Row],[TIPO DE DOCUMENTO]] -> 0 | E7: =Tabla3812[[#This Row],[NUMERO DE DOCUMENTO]] -> 0 | F7: =Tabla3812[[#This Row],[CATEGORIA ]] -> #VALUE! | G7: =CLUBES!K7 -> 0 | H7: =H6 -> 0 | I7: =I6 -> 0 | J7: =+J6 -> 0 | K7: =K6 -> 0 | L7: =Tabla3812[[#This Row],[V1]] -> 0 | M7: =Tabla3812[[#This Row],[F1]] -> 0 | N7: =Tabla3812[[#This Row],[V2]] -> 0 | O7: =Tabla3812[[#This Row],[F2]] -> 0
A8: 7 | B8: =Tabla3812[[#This Row],[UNE]] | C8: =Tabla3812[[#This Row],[NACIMIENTO]] -> // | D8: =Tabla3812[[#This Row],[TIPO DE DOCUMENTO]] -> 0 | E8: =Tabla3812[[#This Row],[NUMERO DE DOCUMENTO]] -> 0 | F8: =Tabla3812[[#This Row],[CATEGORIA ]] -> #VALUE! | G8: =CLUBES!K8 -> 0 | H8: =H7 -> 0 | I8: =I7 -> 0 | J8: =+J7 -> 0 | K8: =K7 -> 0 | L8: =Tabla3812[[#This Row],[V1]] -> 0 | M8: =Tabla3812[[#This Row],[F1]] -> 0 | N8: =Tabla3812[[#This Row],[V2]] -> 0 | O8: =Tabla3812[[#This Row],[F2]] -> 0
A9: 8 | B9: =Tabla3812[[#This Row],[UNE]] | C9: =Tabla3812[[#This Row],[NACIMIENTO]] -> // | D9: =Tabla3812[[#This Row],[TIPO DE DOCUMENTO]] -> 0 | E9: =Tabla3812[[#This Row],[NUMERO DE DOCUMENTO]] -> 0 | F9: =Tabla3812[[#This Row],[CATEGORIA ]] -> #VALUE! | G9: =CLUBES!K9 -> 0 | H9: =H8 -> 0 | I9: =I8 -> 0 | J9: =+J8 -> 0 | K9: =K8 -> 0 | L9: =Tabla3812[[#This Row],[V1]] -> 0 | M9: =Tabla3812[[#This Row],[F1]] -> 0 | N9: =Tabla3812[[#This Row],[V2]] -> 0 | O9: =Tabla3812[[#This Row],[F2]] -> 0
A10: 9 | B10: =Tabla3812[[#This Row],[UNE]] | C10: =Tabla3812[[#This Row],[NACIMIENTO]] -> // | D10: =Tabla3812[[#This Row],[TIPO DE DOCUMENTO]] -> 0 | E10: =Tabla3812[[#This Row],[NUMERO DE DOCUMENTO]] -> 0 | F10: =Tabla3812[[#This Row],[CATEGORIA ]] -> #VALUE! | G10: =CLUBES!K10 -> 0 | H10: =H9 -> 0 | I10: =I9 -> 0 | J10: =+J9 -> 0 | K10: =K9 -> 0 | L10: =Tabla3812[[#This Row],[V1]] -> 0 | M10: =Tabla3812[[#This Row],[F1]] -> 0 | N10: =Tabla3812[[#This Row],[V2]] -> 0 | O10: =Tabla3812[[#This Row],[F2]] -> 0
A11: 10 | B11: =Tabla3812[[#This Row],[UNE]] | C11: =Tabla3812[[#This Row],[NACIMIENTO]] -> // | D11: =Tabla3812[[#This Row],[TIPO DE DOCUMENTO]] -> 0 | E11: =Tabla3812[[#This Row],[NUMERO DE DOCUMENTO]] -> 0 | F11: =Tabla3812[[#This Row],[CATEGORIA ]] -> #VALUE! | G11: =CLUBES!K11 -> 0 | H11: =H10 -> 0 | I11: =I10 -> 0 | J11: =+J10 -> 0 | K11: =K10 -> 0 | L11: =Tabla3812[[#This Row],[V1]] -> 0 | M11: =Tabla3812[[#This Row],[F1]] -> 0 | N11: =Tabla3812[[#This Row],[V2]] -> 0 | O11: =Tabla3812[[#This Row],[F2]] -> 0
A12: 11 | B12: =Tabla3812[[#This Row],[UNE]] | C12: =Tabla3812[[#This Row],[NACIMIENTO]] -> // | D12: =Tabla3812[[#This Row],[TIPO DE DOCUMENTO]] -> 0 | E12: =Tabla3812[[#This Row],[NUMERO DE DOCUMENTO]] -> 0 | F12: =Tabla3812[[#This Row],[CATEGORIA ]] -> #VALUE! | G12: =CLUBES!K12 -> 0 | H12: =H11 -> 0 | I12: =I11 -> 0 | J12: =+J11 -> 0 | K12: =K11 -> 0 | L12: =Tabla3812[[#This Row],[V1]] -> 0 | M12: =Tabla3812[[#This Row],[F1]] -> 0 | N12: =Tabla3812[[#This Row],[V2]] -> 0 | O12: =Tabla3812[[#This Row],[F2]] -> 0
A13: 12 | B13: =Tabla3812[[#This Row],[UNE]] | C13: =Tabla3812[[#This Row],[NACIMIENTO]] -> // | D13: =Tabla3812[[#This Row],[TIPO DE DOCUMENTO]] -> 0 | E13: =Tabla3812[[#This Row],[NUMERO DE DOCUMENTO]] -> 0 | F13: =Tabla3812[[#This Row],[CATEGORIA ]] -> #VALUE! | G13: =CLUBES!K13 -> 0 | H13: =H12 -> 0 | I13: =I12 -> 0 | J13: =+J12 -> 0 | K13: =K12 -> 0 | L13: =Tabla3812[[#This Row],[V1]] -> 0 | M13: =Tabla3812[[#This Row],[F1]] -> 0 | N13: =Tabla3812[[#This Row],[V2]] -> 0 | O13: =Tabla3812[[#This Row],[F2]] -> 0
A14: 13 | B14: =Tabla3812[[#This Row],[UNE]] | C14: =Tabla3812[[#This Row],[NACIMIENTO]] -> // | D14: =Tabla3812[[#This Row],[TIPO DE DOCUMENTO]] -> 0 | E14: =Tabla3812[[#This Row],[NUMERO DE DOCUMENTO]] -> 0 | F14: =Tabla3812[[#This Row],[CATEGORIA ]] -> #VALUE! | G14: =CLUBES!K14 -> 0 | H14: =H13 -> 0 | I14: =I13 -> 0 | J14: =+J13 -> 0 | K14: =K13 -> 0 | L14: =Tabla3812[[#This Row],[V1]] -> 0 | M14: =Tabla3812[[#This Row],[F1]] -> 0 | N14: =Tabla3812[[#This Row],[V2]] -> 0 | O14: =Tabla3812[[#This Row],[F2]] -> 0
A15: 14 | B15: =Tabla3812[[#This Row],[UNE]] | C15: =Tabla3812[[#This Row],[NACIMIENTO]] -> // | D15: =Tabla3812[[#This Row],[TIPO DE DOCUMENTO]] -> 0 | E15: =Tabla3812[[#This Row],[NUMERO DE DOCUMENTO]] -> 0 | F15: =Tabla3812[[#This Row],[CATEGORIA ]] -> #VALUE! | G15: =CLUBES!K15 -> 0 | H15: =H14 -> 0 | I15: =I14 -> 0 | J15: =+J14 -> 0 | K15: =K14 -> 0 | L15: =Tabla3812[[#This Row],[V1]] -> 0 | M15: =Tabla3812[[#This Row],[F1]] -> 0 | N15: =Tabla3812[[#This Row],[V2]] -> 0 | O15: =Tabla3812[[#This Row],[F2]] -> 0
... A43: 42 | B43: =Tabla3812[[#This Row],[UNE]] | C43: =Tabla3812[[#This Row],[NACIMIENTO]] -> // | D43: =Tabla3812[[#This Row],[TIPO DE DOCUMENTO]] -> 0 | E43: =Tabla3812[[#This Row],[NUMERO DE DOCUMENTO]] -> 0 | F43: =Tabla3812[[#This Row],[CATEGORIA ]] -> #VALUE! | G43: =CLUBES!K43 -> 0 | H43: =H42 -> 0 | I43: =I42 -> 0 | J43: =+J42 -> 0 | K43: =K42 -> 0 | L43: =Tabla3812[[#This Row],[V1]] -> 0 | M43: =Tabla3812[[#This Row],[F1]] -> 0 | N43: =Tabla3812[[#This Row],[V2]] -> 0 | O43: =Tabla3812[[#This Row],[F2]] -> 0

Sheet LIGADOS
B2: CLUB/ESCUELA | C2: MUNICIPIO | D2: DELEGADO 1 | E2: DELEGADO 2 | F2: TECNICO 1 | G2: TECNICO 2 | H2: TÉCNICO 3
B5: REGISTRO | C5: NOMBRE 1 | D5: NOMBRE 2 | E5: APELLLIDO 1 | F5: APELLIDO 2 | G5: TIPO DE DOCUMENTO | H5: NUMERO DE DOCUMENTO | I5: DIA DE NACIMIENTO | J5: MES DE NACIMIENTO | K5: AÑO DE NACIMIENTO | L5: RAMA | M5: NACIMIENTO | N5: EDAD | O5: CATGORIA | P5: CLUB/ESCUELA | Q5: MUNICIPIO
B6: 1 | M6: =CONCATENATE(Tabla382[[#This Row],[DIA DE NACIMIENTO]],"/",Tabla382[[#This Row],[MES DE NACIMIENTO]],"/",Tabla382[[#This Row],[AÑO DE NACIMIENTO]]) -> // | N6: =DATEDIF(Tabla382[[#This Row],[NACIMIENTO]],"01/07/2024","Y") -> #VALUE! | O6: =IF(Tabla382[[#This Row],[EDAD]]=4,"MINI 4 años", IF(Tabla382[[#This Row],[EDAD]]=5,"MINI 5 años", IF(Tabla382[[#This Row],[EDAD]]=6,"MINI 6 años", IF(Tabla382[[#This Row],[EDAD]]=7,"MINI 7 años", IF(Tabla382[[#This Row],[EDAD]]=8,"MINI 8 años", IF(Tabla382[[#This Row],[EDAD]]=9,"MINI 9 años", IF(Tabla382[[#This Row],[EDAD]]=10,"MINI 10 años", IF(Tabla382[[#This Row],[EDAD]]=11,"PREINFANTIL 11 años", IF(Tabla382[[#This Row],[EDAD]]=12,"INFANTIL 12 años", IF(Tabla382[[#This Row],[EDAD]]=13,"JUNIOR 13 años", IF(Tabla382[[#This Row],[EDAD]]=14,"PREJUVENIL 14 años", IF(OR(Tabla382[[#This Row],[EDAD]]=15, Tabla382[[#This Row],[EDAD]]=16, Tabla382[[#This Row],[EDAD]]=17),"JUVENIL 15-17 años", IF(Tabla382[[#This Row],[EDAD]]>=18,"MAYORES MASTER 18+ años","Fuera de rango") ) ) ) ) ) ) ) ) ) ) ) ) -> #VALUE! | P6: {=Tabla693[CLUB/ESCUELA]} -> 0 | Q6: {=Tabla693[MUNICIPIO]} -> 0
B7: 2 | M7: =CONCATENATE(Tabla382[[#This Row],[DIA DE NACIMIENTO]],"/",Tabla382[[#This Row],[MES DE NACIMIENTO]],"/",Tabla382[[#This Row],[AÑO DE NACIMIENTO]]) -> // | N7: =DATEDIF(Tabla382[[#This Row],[NACIMIENTO]],"01/07/2024","Y") -> #VALUE! | O7: =IF(Tabla382[[#This Row],[EDAD]]=4,"MINI 4 años", IF(Tabla382[[#This Row],[EDAD]]=5,"MINI 5 años", IF(Tabla382[[#This Row],[EDAD]]=6,"MINI 6 años", IF(Tabla382[[#This Row],[EDAD]]=7,"MINI 7 años", IF(Tabla382[[#This Row],[EDAD]]=8,"MINI 8 años", IF(Tabla382[[#This Row],[EDAD]]=9,"MINI 9 años", IF(Tabla382[[#This Row],[EDAD]]=10,"MINI 10 años", IF(Tabla382[[#This Row],[EDAD]]=11,"PREINFANTIL 11 años", IF(Tabla382[[#This Row],[EDAD]]=12,"INFANTIL 12 años", IF(Tabla382[[#This Row],[EDAD]]=13,"JUNIOR 13 años", IF(Tabla382[[#This Row],[EDAD]]=14,"PREJUVENIL 14 años", IF(OR(Tabla382[[#This Row],[EDAD]]=15, Tabla382[[#This Row],[EDAD]]=16, Tabla382[[#This Row],[EDAD]]=17),"JUVENIL 15-17 años", IF(Tabla382[[#This Row],[EDAD]]>=18,"MAYORES MASTER 18+ años","Fuera de rango") ) ) ) ) ) ) ) ) ) ) ) ) -> #VALUE! | P7: {=Tabla693[CLUB/ESCUELA]} -> 0 | Q7: {=Tabla693[MUNICIPIO]} -> 0
B8: 3 | M8: =CONCATENATE(Tabla382[[#This Row],[DIA DE NACIMIENTO]],"/",Tabla382[[#This Row],[MES DE NACIMIENTO]],"/",Tabla382[[#This Row],[AÑO DE NACIMIENTO]]) -> // | N8: =DATEDIF(Tabla382[[#This Row],[NACIMIENTO]],"01/07/2024","Y") -> #VALUE! | O8: =IF(Tabla382[[#This Row],[EDAD]]=4,"MINI 4 años", IF(Tabla382[[#This Row],[EDAD]]=5,"MINI 5 años", IF(Tabla382[[#This Row],[EDAD]]=6,"MINI 6 años", IF(Tabla382[[#This Row],[EDAD]]=7,"MINI 7 años", IF(Tabla382[[#This Row],[EDAD]]=8,"MINI 8 años", IF(Tabla382[[#This Row],[EDAD]]=9,"MINI 9 años", IF(Tabla382[[#This Row],[EDAD]]=10,"MINI 10 años", IF(Tabla382[[#This Row],[EDAD]]=11,"PREINFANTIL 11 años", IF(Tabla382[[#This Row],[EDAD]]=12,"INFANTIL 12 años", IF(Tabla382[[#This Row],[EDAD]]=13,"JUNIOR 13 años", IF(Tabla382[[#This Row],[EDAD]]=14,"PREJUVENIL 14 años", IF(OR(Tabla382[[#This Row],[EDAD]]=15, Tabla382[[#This Row],[EDAD]]=16, Tabla382[[#This Row],[EDAD]]=17),"JUVENIL 15-17 años", IF(Tabla382[[#This Row],[EDAD]]>=18,"MAYORES MASTER 18+ años","Fuera de rango") ) ) ) ) ) ) ) ) ) ) ) ) -> #VALUE! | P8: {=Tabla693[CLUB/ESCUELA]} -> 0 | Q8: {=Tabla693[MUNICIPIO]} -> 0
B9: 4 | M9: =CONCATENATE(Tabla382[[#This Row],[DIA DE NACIMIENTO]],"/",Tabla382[[#This Row],[MES DE NACIMIENTO]],"/",Tabla382[[#This Row],[AÑO DE NACIMIENTO]]) -> // | N9: =DATEDIF(Tabla382[[#This Row],[NACIMIENTO]],"01/07/2024","Y") -> #VALUE! | O9: =IF(Tabla382[[#This Row],[EDAD]]=4,"MINI 4 años", IF(Tabla382[[#This Row],[EDAD]]=5,"MINI 5 años", IF(Tabla382[[#This Row],[EDAD]]=6,"MINI 6 años", IF(Tabla382[[#This Row],[EDAD]]=7,"MINI 7 años", IF(Tabla382[[#This Row],[EDAD]]=8,"MINI 8 años", IF(Tabla382[[#This Row],[EDAD]]=9,"MINI 9 años", IF(Tabla382[[#This Row],[EDAD]]=10,"MINI 10 años", IF(Tabla382[[#This Row],[EDAD]]=11,"PREINFANTIL 11 años", IF(Tabla382[[#This Row],[EDAD]]=12,"INFANTIL 12 años", IF(Tabla382[[#This Row],[EDAD]]=13,"JUNIOR 13 años", IF(Tabla382[[#This Row],[EDAD]]=14,"PREJUVENIL 14 años", IF(OR(Tabla382[[#This Row],[EDAD]]=15, Tabla382[[#This Row],[EDAD]]=16, Tabla382[[#This Row],[EDAD]]=17),"JUVENIL 15-17 años", IF(Tabla382[[#This Row],[EDAD]]>=18,"MAYORES MASTER 18+ años","Fuera de rango") ) ) ) ) ) ) ) ) ) ) ) ) -> #VALUE! | P9: {=Tabla693[CLUB/ESCUELA]} -> 0 | Q9: {=Tabla693[MUNICIPIO]} -> 0
B10: 5 | M10: =CONCATENATE(Tabla382[[#This Row],[DIA DE NACIMIENTO]],"/",Tabla382[[#This Row],[MES DE NACIMIENTO]],"/",Tabla382[[#This Row],[AÑO DE NACIMIENTO]]) -> // | N10: =DATEDIF(Tabla382[[#This Row],[NACIMIENTO]],"01/07/2024","Y") -> #VALUE! | O10: =IF(Tabla382[[#This Row],[EDAD]]=4,"MINI 4 años", IF(Tabla382[[#This Row],[EDAD]]=5,"MINI 5 años", IF(Tabla382[[#This Row],[EDAD]]=6,"MINI 6 años", IF(Tabla382[[#This Row],[EDAD]]=7,"MINI 7 años", IF(Tabla382[[#This Row],[EDAD]]=8,"MINI 8 años", IF(Tabla382[[#This Row],[EDAD]]=9,"MINI 9 años", IF(Tabla382[[#This Row],[EDAD]]=10,"MINI 10 años", IF(Tabla382[[#This Row],[EDAD]]=11,"PREINFANTIL 11 años", IF(Tabla382[[#This Row],[EDAD]]=12,"INFANTIL 12 años", IF(Tabla382[[#This Row],[EDAD]]=13,"JUNIOR 13 años", IF(Tabla382[[#This Row],[EDAD]]=14,"PREJUVENIL 14 años", IF(OR(Tabla382[[#This Row],[EDAD]]=15, Tabla382[[#This Row],[EDAD]]=16, Tabla382[[#This Row],[EDAD]]=17),"JUVENIL 15-17 años", IF(Tabla382[[#This Row],[EDAD]]>=18,"MAYORES MASTER 18+ años","Fuera de rango") ) ) ) ) ) ) ) ) ) ) ) ) -> #VALUE! | P10: {=Tabla693[CLUB/ESCUELA]} -> 0 | Q10: {=Tabla693[MUNICIPIO]} -> 0
B11: 6 | M11: =CONCATENATE(Tabla382[[#This Row],[DIA DE NACIMIENTO]],"/",Tabla382[[#This Row],[MES DE NACIMIENTO]],"/",Tabla382[[#This Row],[AÑO DE NACIMIENTO]]) -> // | N11: =DATEDIF(Tabla382[[#This Row],[NACIMIENTO]],"01/07/2024","Y") -> #VALUE! | O11: =IF(Tabla382[[#This Row],[EDAD]]=4,"MINI 4 años", IF(Tabla382[[#This Row],[EDAD]]=5,"MINI 5 años", IF(Tabla382[[#This Row],[EDAD]]=6,"MINI 6 años", IF(Tabla382[[#This Row],[EDAD]]=7,"MINI 7 años", IF(Tabla382[[#This Row],[EDAD]]=8,"MINI 8 años", IF(Tabla382[[#This Row],[EDAD]]=9,"MINI 9 años", IF(Tabla382[[#This Row],[EDAD]]=10,"MINI 10 años", IF(Tabla382[[#This Row],[EDAD]]=11,"PREINFANTIL 11 años", IF(Tabla382[[#This Row],[EDAD]]=12,"INFANTIL 12 años", IF(Tabla382[[#This Row],[EDAD]]=13,"JUNIOR 13 años", IF(Tabla382[[#This Row],[EDAD]]=14,"PREJUVENIL 14 años", IF(OR(Tabla382[[#This Row],[EDAD]]=15, Tabla382[[#This Row],[EDAD]]=16, Tabla382[[#This Row],[EDAD]]=17),"JUVENIL 15-17 años", IF(Tabla382[[#This Row],[EDAD]]>=18,"MAYORES MASTER 18+ años","Fuera de rango") ) ) ) ) ) ) ) ) ) ) ) ) -> #VALUE! | P11: {=Tabla693[CLUB/ESCUELA]} -> 0 | Q11: {=Tabla693[MUNICIPIO]} -> 0
B12: 7 | M12: =CONCATENATE(Tabla382[[#This Row],[DIA DE NACIMIENTO]],"/",Tabla382[[#This Row],[MES DE NACIMIENTO]],"/",Tabla382[[#This Row],[AÑO DE NACIMIENTO]]) -> // | N12: =DATEDIF(Tabla382[[#This Row],[NACIMIENTO]],"01/07/2024","Y") -> #VALUE! | O12: =IF(Tabla382[[#This Row],[EDAD]]=4,"MINI 4 años", IF(Tabla382[[#This Row],[EDAD]]=5,"MINI 5 años", IF(Tabla382[[#This Row],[EDAD]]=6,"MINI 6 años", IF(Tabla382[[#This Row],[EDAD]]=7,"MINI 7 años", IF(Tabla382[[#This Row],[EDAD]]=8,"MINI 8 años", IF(Tabla382[[#This Row],[EDAD]]=9,"MINI 9 años", IF(Tabla382[[#This Row],[EDAD]]=10,"MINI 10 años", IF(Tabla382[[#This Row],[EDAD]]=11,"PREINFANTIL 11 años", IF(Tabla382[[#This Row],[EDAD]]=12,"INFANTIL 12 años", IF(Tabla382[[#This Row],[EDAD]]=13,"JUNIOR 13 años", IF(Tabla382[[#This Row],[EDAD]]=14,"PREJUVENIL 14 años", IF(OR(Tabla382[[#This Row],[EDAD]]=15, Tabla382[[#This Row],[EDAD]]=16, Tabla382[[#This Row],[EDAD]]=17),"JUVENIL 15-17 años", IF(Tabla382[[#This Row],[EDAD]]>=18,"MAYORES MASTER 18+ años","Fuera de rango") ) ) ) ) ) ) ) ) ) ) ) ) -> #VALUE! | P12: {=Tabla693[CLUB/ESCUELA]} -> 0 | Q12: {=Tabla693[MUNICIPIO]} -> 0
B13: 8 | M13: =CONCATENATE(Tabla382[[#This Row],[DIA DE NACIMIENTO]],"/",Tabla382[[#This Row],[MES DE NACIMIENTO]],"/",Tabla382[[#This Row],[AÑO DE NACIMIENTO]]) -> // | N13: =DATEDIF(Tabla382[[#This Row],[NACIMIENTO]],"01/07/2024","Y") -> #VALUE! | O13: =IF(Tabla382[[#This Row],[EDAD]]=4,"MINI 4 años", IF(Tabla382[[#This Row],[EDAD]]=5,"MINI 5 años", IF(Tabla382[[#This Row],[EDAD]]=6,"MINI 6 años", IF(Tabla382[[#This Row],[EDAD]]=7,"MINI 7 años", IF(Tabla382[[#This Row],[EDAD]]=8,"MINI 8 años", IF(Tabla382[[#This Row],[EDAD]]=9,"MINI 9 años", IF(Tabla382[[#This Row],[EDAD]]=10,"MINI 10 años", IF(Tabla382[[#This Row],[EDAD]]=11,"PREINFANTIL 11 años", IF(Tabla382[[#This Row],[EDAD]]=12,"INFANTIL 12 años", IF(Tabla382[[#This Row],[EDAD]]=13,"JUNIOR 13 años", IF(Tabla382[[#This Row],[EDAD]]=14,"PREJUVENIL 14 años", IF(OR(Tabla382[[#This Row],[EDAD]]=15, Tabla382[[#This Row],[EDAD]]=16, Tabla382[[#This Row],[EDAD]]=17),"JUVENIL 15-17 años", IF(Tabla382[[#This Row],[EDAD]]>=18,"MAYORES MASTER 18+ años","Fuera de rango") ) ) ) ) ) ) ) ) ) ) ) ) -> #VALUE! | P13: {=Tabla693[CLUB/ESCUELA]} -> 0 | Q13: {=Tabla693[MUNICIPIO]} -> 0
B14: 9 | M14: =CONCATENATE(Tabla382[[#This Row],[DIA DE NACIMIENTO]],"/",Tabla382[[#This Row],[MES DE NACIMIENTO]],"/",Tabla382[[#This Row],[AÑO DE NACIMIENTO]]) -> // | N14: =DATEDIF(Tabla382[[#This Row],[NACIMIENTO]],"01/07/2024","Y") -> #VALUE! | O14: =IF(Tabla382[[#This Row],[EDAD]]=4,"MINI 4 años", IF(Tabla382[[#This Row],[EDAD]]=5,"MINI 5 años", IF(Tabla382[[#This Row],[EDAD]]=6,"MINI 6 años", IF(Tabla382[[#This Row],[EDAD]]=7,"MINI 7 años", IF(Tabla382[[#This Row],[EDAD]]=8,"MINI 8 años", IF(Tabla382[[#This Row],[EDAD]]=9,"MINI 9 años", IF(Tabla382[[#This Row],[EDAD]]=10,"MINI 10 años", IF(Tabla382[[#This Row],[EDAD]]=11,"PREINFANTIL 11 años", IF(Tabla382[[#This Row],[EDAD]]=12,"INFANTIL 12 años", IF(Tabla382[[#This Row],[EDAD]]=13,"JUNIOR 13 años", IF(Tabla382[[#This Row],[EDAD]]=14,"PREJUVENIL 14 años", IF(OR(Tabla382[[#This Row],[EDAD]]=15, Tabla382[[#This Row],[EDAD]]=16, Tabla382[[#This Row],[EDAD]]=17),"JUVENIL 15-17 años", IF(Tabla382[[#This Row],[EDAD]]>=18,"MAYORES MASTER 18+ años","Fuera de rango") ) ) ) ) ) ) ) ) ) ) ) ) -> #VALUE! | P14: {=Tabla693[CLUB/ESCUELA]} -> 0 | Q14: {=Tabla693[MUNICIPIO]} -> 0
B15: 10 | M15: =CONCATENATE(Tabla382[[#This Row],[DIA DE NACIMIENTO]],"/",Tabla382[[#This Row],[MES DE NACIMIENTO]],"/",Tabla382[[#This Row],[AÑO DE NACIMIENTO]]) -> // | N15: =DATEDIF(Tabla382[[#This Row],[NACIMIENTO]],"01/07/2024","Y") -> #VALUE! | O15: =IF(Tabla382[[#This Row],[EDAD]]=4,"MINI 4 años", IF(Tabla382[[#This Row],[EDAD]]=5,"MINI 5 años", IF(Tabla382[[#This Row],[EDAD]]=6,"MINI 6 años", IF(Tabla382[[#This Row],[EDAD]]=7,"MINI 7 años", IF(Tabla382[[#This Row],[EDAD]]=8,"MINI 8 años", IF(Tabla382[[#This Row],[EDAD]]=9,"MINI 9 años", IF(Tabla382[[#This Row],[EDAD]]=10,"MINI 10 años", IF(Tabla382[[#This Row],[EDAD]]=11,"PREINFANTIL 11 años", IF(Tabla382[[#This Row],[EDAD]]=12,"INFANTIL 12 años", IF(Tabla382[[#This Row],[EDAD]]=13,"JUNIOR 13 años", IF(Tabla382[[#This Row],[EDAD]]=14,"PREJUVENIL 14 años", IF(OR(Tabla382[[#This Row],[EDAD]]=15, Tabla382[[#This Row],[EDAD]]=16, Tabla382[[#This Row],[EDAD]]=17),"JUVENIL 15-17 años", IF(Tabla382[[#This Row],[EDAD]]>=18,"MAYORES MASTER 18+ años","Fuera de rango") ) ) ) ) ) ) ) ) ) ) ) ) -> #VALUE! | P15: {=Tabla693[CLUB/ESCUELA]} -> 0 | Q15: {=Tabla693[MUNICIPIO]} -> 0
B16: 11 | M16: =CONCATENATE(Tabla382[[#This Row],[DIA DE NACIMIENTO]],"/",Tabla382[[#This Row],[MES DE NACIMIENTO]],"/",Tabla382[[#This Row],[AÑO DE NACIMIENTO]]) -> // | N16: =DATEDIF(Tabla382[[#This Row],[NACIMIENTO]],"01/07/2024","Y") -> #VALUE! | O16: =IF(Tabla382[[#This Row],[EDAD]]=4,"MINI 4 años", IF(Tabla382[[#This Row],[EDAD]]=5,"MINI 5 años", IF(Tabla382[[#This Row],[EDAD]]=6,"MINI 6 años", IF(Tabla382[[#This Row],[EDAD]]=7,"MINI 7 años", IF(Tabla382[[#This Row],[EDAD]]=8,"MINI 8 años", IF(Tabla382[[#This Row],[EDAD]]=9,"MINI 9 años", IF(Tabla382[[#This Row],[EDAD]]=10,"MINI 10 años", IF(Tabla382[[#This Row],[EDAD]]=11,"PREINFANTIL 11 años", IF(Tabla382[[#This Row],[EDAD]]=12,"INFANTIL 12 años", IF(Tabla382[[#This Row],[EDAD]]=13,"JUNIOR 13 años", IF(Tabla382[[#This Row],[EDAD]]=14,"PREJUVENIL 14 años", IF(OR(Tabla382[[#This Row],[EDAD]]=15, Tabla382[[#This Row],[EDAD]]=16, Tabla382[[#This Row],[EDAD]]=17),"JUVENIL 15-17 años", IF(Tabla382[[#This Row],[EDAD]]>=18,"MAYORES MASTER 18+ años","Fuera de rango") ) ) ) ) ) ) ) ) ) ) ) ) -> #VALUE! | P16: {=Tabla693[CLUB/ESCUELA]} -> 0 | Q16: {=Tabla693[MUNICIPIO]} -> 0
B17: 12 | M17: =CONCATENATE(Tabla382[[#This Row],[DIA DE NACIMIENTO]],"/",Tabla382[[#This Row],[MES DE NACIMIENTO]],"/",Tabla382[[#This Row],[AÑO DE NACIMIENTO]]) -> // | N17: =DATEDIF(Tabla382[[#This Row],[NACIMIENTO]],"01/07/2024","Y") -> #VALUE! | O17: =IF(Tabla382[[#This Row],[EDAD]]=4,"MINI 4 años", IF(Tabla382[[#This Row],[EDAD]]=5,"MINI 5 años", IF(Tabla382[[#This Row],[EDAD]]=6,"MINI 6 años", IF(Tabla382[[#This Row],[EDAD]]=7,"MINI 7 años", IF(Tabla382[[#This Row],[EDAD]]=8,"MINI 8 años", IF(Tabla382[[#This Row],[EDAD]]=9,"MINI 9 años", IF(Tabla382[[#This Row],[EDAD]]=10,"MINI 10 años", IF(Tabla382[[#This Row],[EDAD]]=11,"PREINFANTIL 11 años", IF(Tabla382[[#This Row],[EDAD]]=12,"INFANTIL 12 años", IF(Tabla382[[#This Row],[EDAD]]=13,"JUNIOR 13 años", IF(Tabla382[[#This Row],[EDAD]]=14,"PREJUVENIL 14 años", IF(OR(Tabla382[[#This Row],[EDAD]]=15, Tabla382[[#This Row],[EDAD]]=16, Tabla382[[#This Row],[EDAD]]=17),"JUVENIL 15-17 años", IF(Tabla382[[#This Row],[EDAD]]>=18,"MAYORES MASTER 18+ años","Fuera de rango") ) ) ) ) ) ) ) ) ) ) ) ) -> #VALUE! | P17: {=Tabla693[CLUB/ESCUELA]} -> 0 | Q17: {=Tabla693[MUNICIPIO]} -> 0
... B56: 51 | M56: =CONCATENATE(Tabla382[[#This Row],[DIA DE NACIMIENTO]],"/",Tabla382[[#This Row],[MES DE NACIMIENTO]],"/",Tabla382[[#This Row],[AÑO DE NACIMIENTO]]) -> // | N56: =DATEDIF(Tabla382[[#This Row],[NACIMIENTO]],"01/07/2024","Y") -> #VALUE! | O56: =IF(Tabla382[[#This Row],[EDAD]]=4,"MINI 4 años", IF(Tabla382[[#This Row],[EDAD]]=5,"MINI 5 años", IF(Tabla382[[#This Row],[EDAD]]=6,"MINI 6 años", IF(Tabla382[[#This Row],[EDAD]]=7,"MINI 7 años", IF(Tabla382[[#This Row],[EDAD]]=8,"MINI 8 años", IF(Tabla382[[#This Row],[EDAD]]=9,"MINI 9 años", IF(Tabla382[[#This Row],[EDAD]]=10,"MINI 10 años", IF(Tabla382[[#This Row],[EDAD]]=11,"PREINFANTIL 11 años", IF(Tabla382[[#This Row],[EDAD]]=12,"INFANTIL 12 años", IF(Tabla382[[#This Row],[EDAD]]=13,"JUNIOR 13 años", IF(Tabla382[[#This Row],[EDAD]]=14,"PREJUVENIL 14 años", IF(OR(Tabla382[[#This Row],[EDAD]]=15, Tabla382[[#This Row],[EDAD]]=16, Tabla382[[#This Row],[EDAD]]=17),"JUVENIL 15-17 años", IF(Tabla382[[#This Row],[EDAD]]>=18,"MAYORES MASTER 18+ años","Fuera de rango") ) ) ) ) ) ) ) ) ) ) ) ) -> #VALUE! | P56: {=Tabla693[CLUB/ESCUELA]} -> 0 | Q56: {=Tabla693[MUNICIPIO]} -> 0
C57: =SUBTOTAL(103,Tabla382[NOMBRE 1]) -> 0 | O57: =SUBTOTAL(103,Tabla382[CATGORIA]) -> 51

Sheet Hoja4
B2: DEPORTISTA
B3: ENTRENADOR
B4: DELEGADO
B5: CEDULA
B6: TARJETA
B7: RECREATIVO
B8: NOVATO
B9: N/A
B10: FEMENINO
B11: MASCULINO
B12: RECREATIVO
B13: NOVATOS
... B15: NO
