Workbook

Sheet PLANILLA UNICA
A1: #VALUE! | D1: PLANILLA ÚNICA DE INSCRIPCIÓN CUNDINAMARCA TEMPORADA 2027 | H1: RUTA DEL CÓNDOR | I1: NOTA: LA ORGANIZACIÓN DEL EVENTO NO SE HACE RESPONSABLE POR CUALQUIER ERROR DE INSCRIPCIÓN EN GENERO, CATEGORÍA, FECHA DE NACIMIENTO O NOMBRE DE LOS DEPORTISTAS. LA PLANTILLA ESTA FORMULADA PARA UBICAR A LOS DEPORTISTAS EN CADA CATEGORIA SEGUN SU FECHA DE NACIMIENTO EDAD CUMPLIDA A 1 DE JULIO DE 2026. TODOS LOS ESPACIOS VERDES SON OBLIGATORIOS. | L1: #VALUE!
A2: NOMBRE DEL EVENTO: | H2: SEDE DEL EVENTO: | K2: FECHA DEL EVENTO:
A3: NOMBRE DEL CLUB O ESCUELA: | F3: MUNICIPIO: | H3: DELEGADO: | K3: CELULAR DELEGADO:
A4: REPRESENTANTE CLUB O ESCUELA DE FORMACION: | H4: TÉCNICO: | K4: CELULAR TÉCNICO:
A5: CORREO ELECTRONICO DEL CLUB O ESCUELA DE FORMACION: | H5: ASISTENTE: | K5: CELULAR ASISTENTE:
A6: TOTAL DEPORTISTAS | D6: =B108 -> 0 | H6: VALOR INS. ORDINARIA: | I6: =D6*85000+100000 -> 100000 | K6: VALOR INS. EXTRAORDINARIA: | L6: =D6*95000+120000 -> 120000
A7: REG | B7: NOMBRES Y APELLIDOS | C7: DIA | D7: MES | E7: AÑO | F7: TIPO DE DOCUMENTO | G7: NUMERO DE IDENTIFICACION | H7: GENERO | I7: NACIMIENTO | J7: EDAD | K7: CATEGORÍA | L7: NIVEL TECNICO | M7: ESCUELA O CLUB
A8: 1 | I8: =CONCATENATE('PLANILLA UNICA'!$C8,"/",'PLANILLA UNICA'!$D8,"/",'PLANILLA UNICA'!$E8) -> // | J8: =DATEDIF('PLANILLA UNICA'!$I8,"01/07/2026","Y") -> #VALUE! | K8: =IF('PLANILLA UNICA'!$J8=4,"MINI 4 años", IF('PLANILLA UNICA'!$J8=5,"MINI 5 años", IF('PLANILLA UNICA'!$J8=6,"MINI 6 años", IF('PLANILLA UNICA'!$J8=7,"MINI 7 años", IF('PLANILLA UNICA'!$J8=8,"MINI 8 años", IF('PLANILLA UNICA'!$J8=9,"MINI 9 años", IF('PLANILLA UNICA'!$J8=10,"MINI 10 años", IF('PLANILLA UNICA'!$J8=11,"PREINFANTIL 11 años", IF('PLANILLA UNICA'!$J8=12,"INFANTIL 12 años", IF('PLANILLA UNICA'!$J8=13,"JUNIOR 13 años", IF('PLANILLA UNICA'!$J8=14,"PREJUVENIL", IF(OR('PLANILLA UNICA'!$J8=15, 'PLANILLA UNICA'!$J8=16, 'PLANILLA UNICA'!$J8=17),"JUVENIL", IF('PLANILLA UNICA'!$J8>=18,"MAYORES","MAYORES") ) ) ) ) ) ) ) ) ) ) ) ) -> #VALUE! | M8: =$D$3 -> 0
A9: 2 | I9: =CONCATENATE('PLANILLA UNICA'!$C9,"/",'PLANILLA UNICA'!$D9,"/",'PLANILLA UNICA'!$E9) -> // | J9: =DATEDIF('PLANILLA UNICA'!$I9,"01/07/2026","Y") -> #VALUE! | K9: =IF('PLANILLA UNICA'!$J9=4,"MINI 4 años", IF('PLANILLA UNICA'!$J9=5,"MINI 5 años", IF('PLANILLA UNICA'!$J9=6,"MINI 6 años", IF('PLANILLA UNICA'!$J9=7,"MINI 7 años", IF('PLANILLA UNICA'!$J9=8,"MINI 8 años", IF('PLANILLA UNICA'!$J9=9,"MINI 9 años", IF('PLANILLA UNICA'!$J9=10,"MINI 10 años", IF('PLANILLA UNICA'!$J9=11,"PREINFANTIL 11 años", IF('PLANILLA UNICA'!$J9=12,"INFANTIL 12 años", IF('PLANILLA UNICA'!$J9=13,"JUNIOR 13 años", IF('PLANILLA UNICA'!$J9=14,"PREJUVENIL", IF(OR('PLANILLA UNICA'!$J9=15, 'PLANILLA UNICA'!$J9=16, 'PLANILLA UNICA'!$J9=17),"JUVENIL", IF('PLANILLA UNICA'!$J9>=18,"MAYORES","MAYORES") ) ) ) ) ) ) ) ) ) ) ) ) -> #VALUE! | M9: =$D$3 -> 0
A10: 3 | I10: =CONCATENATE('PLANILLA UNICA'!$C10,"/",'PLANILLA UNICA'!$D10,"/",'PLANILLA UNICA'!$E10) -> // | J10: =DATEDIF('PLANILLA UNICA'!$I10,"01/07/2026","Y") -> #VALUE! | K10: =IF('PLANILLA UNICA'!$J10=4,"MINI 4 años", IF('PLANILLA UNICA'!$J10=5,"MINI 5 años", IF('PLANILLA UNICA'!$J10=6,"MINI 6 años", IF('PLANILLA UNICA'!$J10=7,"MINI 7 años", IF('PLANILLA UNICA'!$J10=8,"MINI 8 años", IF('PLANILLA UNICA'!$J10=9,"MINI 9 años", IF('PLANILLA UNICA'!$J10=10,"MINI 10 años", IF('PLANILLA UNICA'!$J10=11,"PREINFANTIL 11 años", IF('PLANILLA UNICA'!$J10=12,"INFANTIL 12 años", IF('PLANILLA UNICA'!$J10=13,"JUNIOR 13 años", IF('PLANILLA UNICA'!$J10=14,"PREJUVENIL", IF(OR('PLANILLA UNICA'!$J10=15, 'PLANILLA UNICA'!$J10=16, 'PLANILLA UNICA'!$J10=17),"JUVENIL", IF('PLANILLA UNICA'!$J10>=18,"MAYORES","MAYORES") ) ) ) ) ) ) ) ) ) ) ) ) -> #VALUE! | M10: =$D$3 -> 0
A11: 4 | I11: =CONCATENATE('PLANILLA UNICA'!$C11,"/",'PLANILLA UNICA'!$D11,"/",'PLANILLA UNICA'!$E11) -> // | J11: =DATEDIF('PLANILLA UNICA'!$I11,"01/07/2026","Y") -> #VALUE! | K11: =IF('PLANILLA UNICA'!$J11=4,"MINI 4 años", IF('PLANILLA UNICA'!$J11=5,"MINI 5 años", IF('PLANILLA UNICA'!$J11=6,"MINI 6 años", IF('PLANILLA UNICA'!$J11=7,"MINI 7 años", IF('PLANILLA UNICA'!$J11=8,"MINI 8 años", IF('PLANILLA UNICA'!$J11=9,"MINI 9 años", IF('PLANILLA UNICA'!$J11=10,"MINI 10 años", IF('PLANILLA UNICA'!$J11=11,"PREINFANTIL 11 años", IF('PLANILLA UNICA'!$J11=12,"INFANTIL 12 años", IF('PLANILLA UNICA'!$J11=13,"JUNIOR 13 años", IF('PLANILLA UNICA'!$J11=14,"PREJUVENIL", IF(OR('PLANILLA UNICA'!$J11=15, 'PLANILLA UNICA'!$J11=16, 'PLANILLA UNICA'!$J11=17),"JUVENIL", IF('PLANILLA UNICA'!$J11>=18,"MAYORES","MAYORES") ) ) ) ) ) ) ) ) ) ) ) ) -> #VALUE! | M11: =$D$3 -> 0
A12: 5 | I12: =CONCATENATE('PLANILLA UNICA'!$C12,"/",'PLANILLA UNICA'!$D12,"/",'PLANILLA UNICA'!$E12) -> // | J12: =DATEDIF('PLANILLA UNICA'!$I12,"01/07/2026","Y") -> #VALUE! | K12: =IF('PLANILLA UNICA'!$J12=4,"MINI 4 años", IF('PLANILLA UNICA'!$J12=5,"MINI 5 años", IF('PLANILLA UNICA'!$J12=6,"MINI 6 años", IF('PLANILLA UNICA'!$J12=7,"MINI 7 años", IF('PLANILLA UNICA'!$J12=8,"MINI 8 años", IF('PLANILLA UNICA'!$J12=9,"MINI 9 años", IF('PLANILLA UNICA'!$J12=10,"MINI 10 años", IF('PLANILLA UNICA'!$J12=11,"PREINFANTIL 11 años", IF('PLANILLA UNICA'!$J12=12,"INFANTIL 12 años", IF('PLANILLA UNICA'!$J12=13,"JUNIOR 13 años", IF('PLANILLA UNICA'!$J12=14,"PREJUVENIL", IF(OR('PLANILLA UNICA'!$J12=15, 'PLANILLA UNICA'!$J12=16, 'PLANILLA UNICA'!$J12=17),"JUVENIL", IF('PLANILLA UNICA'!$J12>=18,"MAYORES","MAYORES") ) ) ) ) ) ) ) ) ) ) ) ) -> #VALUE! | M12: =$D$3 -> 0
A13: 6 | I13: =CONCATENATE('PLANILLA UNICA'!$C13,"/",'PLANILLA UNICA'!$D13,"/",'PLANILLA UNICA'!$E13) -> // | J13: =DATEDIF('PLANILLA UNICA'!$I13,"01/07/2026","Y") -> #VALUE! | K13: =IF('PLANILLA UNICA'!$J13=4,"MINI 4 años", IF('PLANILLA UNICA'!$J13=5,"MINI 5 años", IF('PLANILLA UNICA'!$J13=6,"MINI 6 años", IF('PLANILLA UNICA'!$J13=7,"MINI 7 años", IF('PLANILLA UNICA'!$J13=8,"MINI 8 años", IF('PLANILLA UNICA'!$J13=9,"MINI 9 años", IF('PLANILLA UNICA'!$J13=10,"MINI 10 años", IF('PLANILLA UNICA'!$J13=11,"PREINFANTIL 11 años", IF('PLANILLA UNICA'!$J13=12,"INFANTIL 12 años", IF('PLANILLA UNICA'!$J13=13,"JUNIOR 13 años", IF('PLANILLA UNICA'!$J13=14,"PREJUVENIL", IF(OR('PLANILLA UNICA'!$J13=15, 'PLANILLA UNICA'!$J13=16, 'PLANILLA UNICA'!$J13=17),"JUVENIL", IF('PLANILLA UNICA'!$J13>=18,"MAYORES","MAYORES") ) ) ) ) ) ) ) ) ) ) ) ) -> #VALUE! | M13: =$D$3 -> 0
A14: 7 | I14: =CONCATENATE('PLANILLA UNICA'!$C14,"/",'PLANILLA UNICA'!$D14,"/",'PLANILLA UNICA'!$E14) -> // | J14: =DATEDIF('PLANILLA UNICA'!$I14,"01/07/2026","Y") -> #VALUE! | K14: =IF('PLANILLA UNICA'!$J14=4,"MINI 4 años", IF('PLANILLA UNICA'!$J14=5,"MINI 5 años", IF('PLANILLA UNICA'!$J14=6,"MINI 6 años", IF('PLANILLA UNICA'!$J14=7,"MINI 7 años", IF('PLANILLA UNICA'!$J14=8,"MINI 8 años", IF('PLANILLA UNICA'!$J14=9,"MINI 9 años", IF('PLANILLA UNICA'!$J14=10,"MINI 10 años", IF('PLANILLA UNICA'!$J14=11,"PREINFANTIL 11 años", IF('PLANILLA UNICA'!$J14=12,"INFANTIL 12 años", IF('PLANILLA UNICA'!$J14=13,"JUNIOR 13 años", IF('PLANILLA UNICA'!$J14=14,"PREJUVENIL", IF(OR('PLANILLA UNICA'!$J14=15, 'PLANILLA UNICA'!$J14=16, 'PLANILLA UNICA'!$J14=17),"JUVENIL", IF('PLANILLA UNICA'!$J14>=18,"MAYORES","MAYORES") ) ) ) ) ) ) ) ) ) ) ) ) -> #VALUE! | M14: =$D$3 -> 0
A15: 8 | I15: =CONCATENATE('PLANILLA UNICA'!$C15,"/",'PLANILLA UNICA'!$D15,"/",'PLANILLA UNICA'!$E15) -> // | J15: =DATEDIF('PLANILLA UNICA'!$I15,"01/07/2026","Y") -> #VALUE! | K15: =IF('PLANILLA UNICA'!$J15=4,"MINI 4 años", IF('PLANILLA UNICA'!$J15=5,"MINI 5 años", IF('PLANILLA UNICA'!$J15=6,"MINI 6 años", IF('PLANILLA UNICA'!$J15=7,"MINI 7 años", IF('PLANILLA UNICA'!$J15=8,"MINI 8 años", IF('PLANILLA UNICA'!$J15=9,"MINI 9 años", IF('PLANILLA UNICA'!$J15=10,"MINI 10 años", IF('PLANILLA UNICA'!$J15=11,"PREINFANTIL 11 años", IF('PLANILLA UNICA'!$J15=12,"INFANTIL 12 años", IF('PLANILLA UNICA'!$J15=13,"JUNIOR 13 años", IF('PLANILLA UNICA'!$J15=14,"PREJUVENIL", IF(OR('PLANILLA UNICA'!$J15=15, 'PLANILLA UNICA'!$J15=16, 'PLANILLA UNICA'!$J15=17),"JUVENIL", IF('PLANILLA UNICA'!$J15>=18,"MAYORES","MAYORES") ) ) ) ) ) ) ) ) ) ) ) ) -> #VALUE! | M15: =$D$3 -> 0
A16: 9 | I16: =CONCATENATE('PLANILLA UNICA'!$C16,"/",'PLANILLA UNICA'!$D16,"/",'PLANILLA UNICA'!$E16) -> // | J16: =DATEDIF('PLANILLA UNICA'!$I16,"01/07/2026","Y") -> #VALUE! | K16: =IF('PLANILLA UNICA'!$J16=4,"MINI 4 años", IF('PLANILLA UNICA'!$J16=5,"MINI 5 años", IF('PLANILLA UNICA'!$J16=6,"MINI 6 años", IF('PLANILLA UNICA'!$J16=7,"MINI 7 años", IF('PLANILLA UNICA'!$J16=8,"MINI 8 años", IF('PLANILLA UNICA'!$J16=9,"MINI 9 años", IF('PLANILLA UNICA'!$J16=10,"MINI 10 años", IF('PLANILLA UNICA'!$J16=11,"PREINFANTIL 11 años", IF('PLANILLA UNICA'!$J16=12,"INFANTIL 12 años", IF('PLANILLA UNICA'!$J16=13,"JUNIOR 13 años", IF('PLANILLA UNICA'!$J16=14,"PREJUVENIL", IF(OR('PLANILLA UNICA'!$J16=15, 'PLANILLA UNICA'!$J16=16, 'PLANILLA UNICA'!$J16=17),"JUVENIL", IF('PLANILLA UNICA'!$J16>=18,"MAYORES","MAYORES") ) ) ) ) ) ) ) ) ) ) ) ) -> #VALUE! | M16: =$D$3 -> 0
A17: 10 | I17: =CONCATENATE('PLANILLA UNICA'!$C17,"/",'PLANILLA UNICA'!$D17,"/",'PLANILLA UNICA'!$E17) -> // | J17: =DATEDIF('PLANILLA UNICA'!$I17,"01/07/2026","Y") -> #VALUE! | K17: =IF('PLANILLA UNICA'!$J17=4,"MINI 4 años", IF('PLANILLA UNICA'!$J17=5,"MINI 5 años", IF('PLANILLA UNICA'!$J17=6,"MINI 6 años", IF('PLANILLA UNICA'!$J17=7,"MINI 7 años", IF('PLANILLA UNICA'!$J17=8,"MINI 8 años", IF('PLANILLA UNICA'!$J17=9,"MINI 9 años", IF('PLANILLA UNICA'!$J17=10,"MINI 10 años", IF('PLANILLA UNICA'!$J17=11,"PREINFANTIL 11 años", IF('PLANILLA UNICA'!$J17=12,"INFANTIL 12 años", IF('PLANILLA UNICA'!$J17=13,"JUNIOR 13 años", IF('PLANILLA UNICA'!$J17=14,"PREJUVENIL", IF(OR('PLANILLA UNICA'!$J17=15, 'PLANILLA UNICA'!$J17=16, 'PLANILLA UNICA'!$J17=17),"JUVENIL", IF('PLANILLA UNICA'!$J17>=18,"MAYORES","MAYORES") ) ) ) ) ) ) ) ) ) ) ) ) -> #VALUE! | M17: =$D$3 -> 0
A18: 11 | I18: =CONCATENATE('PLANILLA UNICA'!$C18,"/",'PLANILLA UNICA'!$D18,"/",'PLANILLA UNICA'!$E18) -> // | J18: =DATEDIF('PLANILLA UNICA'!$I18,"01/07/2026","Y") -> #VALUE! | K18: =IF('PLANILLA UNICA'!$J18=4,"MINI 4 años", IF('PLANILLA UNICA'!$J18=5,"MINI 5 años", IF('PLANILLA UNICA'!$J18=6,"MINI 6 años", IF('PLANILLA UNICA'!$J18=7,"MINI 7 años", IF('PLANILLA UNICA'!$J18=8,"MINI 8 años", IF('PLANILLA UNICA'!$J18=9,"MINI 9 años", IF('PLANILLA UNICA'!$J18=10,"MINI 10 años", IF('PLANILLA UNICA'!$J18=11,"PREINFANTIL 11 años", IF('PLANILLA UNICA'!$J18=12,"INFANTIL 12 años", IF('PLANILLA UNICA'!$J18=13,"JUNIOR 13 años", IF('PLANILLA UNICA'!$J18=14,"PREJUVENIL", IF(OR('PLANILLA UNICA'!$J18=15, 'PLANILLA UNICA'!$J18=16, 'PLANILLA UNICA'!$J18=17),"JUVENIL", IF('PLANILLA UNICA'!$J18>=18,"MAYORES","MAYORES") ) ) ) ) ) ) ) ) ) ) ) ) -> #VALUE! | M18: =$D$3 -> 0
A19: 12 | I19: =CONCATENATE('PLANILLA UNICA'!$C19,"/",'PLANILLA UNICA'!$D19,"/",'PLANILLA UNICA'!$E19) -> // | J19: =DATEDIF('PLANILLA UNICA'!$I19,"01/07/2026","Y") -> #VALUE! | K19: =IF('PLANILLA UNICA'!$J19=4,"MINI 4 años", IF('PLANILLA UNICA'!$J19=5,"MINI 5 años", IF('PLANILLA UNICA'!$J19=6,"MINI 6 años", IF('PLANILLA UNICA'!$J19=7,"MINI 7 años", IF('PLANILLA UNICA'!$J19=8,"MINI 8 años", IF('PLANILLA UNICA'!$J19=9,"MINI 9 años", IF('PLANILLA UNICA'!$J19=10,"MINI 10 años", IF('PLANILLA UNICA'!$J19=11,"PREINFANTIL 11 años", IF('PLANILLA UNICA'!$J19=12,"INFANTIL 12 años", IF('PLANILLA UNICA'!$J19=13,"JUNIOR 13 años", IF('PLANILLA UNICA'!$J19=14,"PREJUVENIL", IF(OR('PLANILLA UNICA'!$J19=15, 'PLANILLA UNICA'!$J19=16, 'PLANILLA UNICA'!$J19=17),"JUVENIL", IF('PLANILLA UNICA'!$J19>=18,"MAYORES","MAYORES") ) ) ) ) ) ) ) ) ) ) ) ) -> #VALUE! | M19: =$D$3 -> 0
... A107: 100 | I107: =CONCATENATE('PLANILLA UNICA'!$C107,"/",'PLANILLA UNICA'!$D107,"/",'PLANILLA UNICA'!$E107) -> // | J107: =DATEDIF('PLANILLA UNICA'!$I107,"01/07/2026","Y") -> #VALUE! | K107: =IF('PLANILLA UNICA'!$J107=4,"MINI 4 años", IF('PLANILLA UNICA'!$J107=5,"MINI 5 años", IF('PLANILLA UNICA'!$J107=6,"MINI 6 años", IF('PLANILLA UNICA'!$J107=7,"MINI 7 años", IF('PLANILLA UNICA'!$J107=8,"MINI 8 años", IF('PLANILLA UNICA'!$J107=9,"MINI 9 años", IF('PLANILLA UNICA'!$J107=10,"MINI 10 años", IF('PLANILLA UNICA'!$J107=11,"PREINFANTIL 11 años", IF('PLANILLA UNICA'!$J107=12,"INFANTIL 12 años", IF('PLANILLA UNICA'!$J107=13,"JUNIOR 13 años", IF('PLANILLA UNICA'!$J107=14,"PREJUVENIL", IF(OR('PLANILLA UNICA'!$J107=15, 'PLANILLA UNICA'!$J107=16, 'PLANILLA UNICA'!$J107=17),"JUVENIL", IF('PLANILLA UNICA'!$J107>=18,"MAYORES","MAYORES") ) ) ) ) ) ) ) ) ) ) ) ) -> #VALUE! | M107: =$D$3 -> 0
B108: =SUBTOTAL(103,'PLANILLA UNICA'!$B$8:$B$107) -> 0 | K108: =SUBTOTAL(103,'PLANILLA UNICA'!$K$8:$K$107) -> 100

Sheet BASE DE DATOS
A1: REGISTRO | B1: DOCUMENTO | C1: NOMBRES Y APELLIDOS | D1: CLUB | E1: GENERO | F1: CATEGORIA | G1: NACIMIENTO | H1: EDAD | I1: MUNICIPIO | J1: NIVEL TECNICO
B2: =#REF! -> #REF! | J2: ='PLANILLA UNICA'!$L2 -> 0
B3: =#REF! -> #REF! | J3: ='PLANILLA UNICA'!$L3 -> 0
B4: =#REF! -> #REF! | J4: ='PLANILLA UNICA'!$L4 -> 0
B5: =#REF! -> #REF! | J5: ='PLANILLA UNICA'!$L5 -> 0
B6: =#REF! -> #REF! | J6: ='PLANILLA UNICA'!$L6 -> 120000
A7: NRO | B7: DOCUMENTO | C7: NOMBRES Y APELLIDOS | D7: CLUB | E7: GENERO | F7: CATEGORIA | G7: NACIMIENTO | H7: EDAD | I7: MUNICIPIO | J7: ='PLANILLA UNICA'!$L7 -> NIVEL TECNICO
A8: 1 | B8: {=_xlfn.LET( _xlpm.t,'PLANILLA UNICA'!G8, _xlpm.c,MID(_xlpm.t,_xlfn.SEQUENCE(LEN(_xlpm.t)),1), TRIM(_xlfn.TEXTJOIN("",TRUE,_xlfn._xlws.FILTER(_xlpm.c,(CODE(_xlpm.c)>=48)*(CODE(_xlpm.c)<=57)))) )} -> #VALUE! | C8: =UPPER(TRIM(SUBSTITUTE(SUBSTITUTE(SUBSTITUTE(SUBSTITUTE(SUBSTITUTE(SUBSTITUTE(SUBSTITUTE(SUBSTITUTE(SUBSTITUTE(SUBSTITUTE('PLANILLA UNICA'!B8,"á","a"),"é","e"),"í","i"),"ó","o"),"ú","u"),"Á","A"),"É","E"),"Í","I"),"Ó","O"),"Ú","U"))) | D8: ='PLANILLA UNICA'!$M8 -> 0 | E8: ='PLANILLA UNICA'!$H8 -> 0 | F8: ='PLANILLA UNICA'!$K8 -> #VALUE! | G8: ='PLANILLA UNICA'!$I8 -> // | H8: ='PLANILLA UNICA'!$J8 -> #VALUE! | I8: ='PLANILLA UNICA'!$M8 -> 0 | J8: ='PLANILLA UNICA'!$L8 -> 0
A9: 2 | B9: {=_xlfn.LET( _xlpm.t,'PLANILLA UNICA'!G9, _xlpm.c,MID(_xlpm.t,_xlfn.SEQUENCE(LEN(_xlpm.t)),1), TRIM(_xlfn.TEXTJOIN("",TRUE,_xlfn._xlws.FILTER(_xlpm.c,(CODE(_xlpm.c)>=48)*(CODE(_xlpm.c)<=57)))) )} -> #VALUE! | C9: =UPPER(TRIM(SUBSTITUTE(SUBSTITUTE(SUBSTITUTE(SUBSTITUTE(SUBSTITUTE(SUBSTITUTE(SUBSTITUTE(SUBSTITUTE(SUBSTITUTE(SUBSTITUTE('PLANILLA UNICA'!B9,"á","a"),"é","e"),"í","i"),"ó","o"),"ú","u"),"Á","A"),"É","E"),"Í","I"),"Ó","O"),"Ú","U"))) | D9: ='PLANILLA UNICA'!$M9 -> 0 | E9: ='PLANILLA UNICA'!$H9 -> 0 | F9: ='PLANILLA UNICA'!$K9 -> #VALUE! | G9: ='PLANILLA UNICA'!$I9 -> // | H9: ='PLANILLA UNICA'!$J9 -> #VALUE! | I9: ='PLANILLA UNICA'!$M9 -> 0 | J9: ='PLANILLA UNICA'!$L9 -> 0
A10: 3 | B10: {=_xlfn.LET( _xlpm.t,'PLANILLA UNICA'!G10, _xlpm.c,MID(_xlpm.t,_xlfn.SEQUENCE(LEN(_xlpm.t)),1), TRIM(_xlfn.TEXTJOIN("",TRUE,_xlfn._xlws.FILTER(_xlpm.c,(CODE(_xlpm.c)>=48)*(CODE(_xlpm.c)<=57)))) )} -> #VALUE! | C10: =UPPER(TRIM(SUBSTITUTE(SUBSTITUTE(SUBSTITUTE(SUBSTITUTE(SUBSTITUTE(SUBSTITUTE(SUBSTITUTE(SUBSTITUTE(SUBSTITUTE(SUBSTITUTE('PLANILLA UNICA'!B10,"á","a"),"é","e"),"í","i"),"ó","o"),"ú","u"),"Á","A"),"É","E"),"Í","I"),"Ó","O"),"Ú","U"))) | D10: ='PLANILLA UNICA'!$M10 -> 0 | E10: ='PLANILLA UNICA'!$H10 -> 0 | F10: ='PLANILLA UNICA'!$K10 -> #VALUE! | G10: ='PLANILLA UNICA'!$I10 -> // | H10: ='PLANILLA UNICA'!$J10 -> #VALUE! | I10: ='PLANILLA UNICA'!$M10 -> 0 | J10: ='PLANILLA UNICA'!$L10 -> 0
A11: 4 | B11: {=_xlfn.LET( _xlpm.t,'PLANILLA UNICA'!G11, _xlpm.c,MID(_xlpm.t,_xlfn.SEQUENCE(LEN(_xlpm.t)),1), TRIM(_xlfn.TEXTJOIN("",TRUE,_xlfn._xlws.FILTER(_xlpm.c,(CODE(_xlpm.c)>=48)*(CODE(_xlpm.c)<=57)))) )} -> #VALUE! | C11: =UPPER(TRIM(SUBSTITUTE(SUBSTITUTE(SUBSTITUTE(SUBSTITUTE(SUBSTITUTE(SUBSTITUTE(SUBSTITUTE(SUBSTITUTE(SUBSTITUTE(SUBSTITUTE('PLANILLA UNICA'!B11,"á","a"),"é","e"),"í","i"),"ó","o"),"ú","u"),"Á","A"),"É","E"),"Í","I"),"Ó","O"),"Ú","U"))) | D11: ='PLANILLA UNICA'!$M11 -> 0 | E11: ='PLANILLA UNICA'!$H11 -> 0 | F11: ='PLANILLA UNICA'!$K11 -> #VALUE! | G11: ='PLANILLA UNICA'!$I11 -> // | H11: ='PLANILLA UNICA'!$J11 -> #VALUE! | I11: ='PLANILLA UNICA'!$M11 -> 0 | J11: ='PLANILLA UNICA'!$L11 -> 0
A12: 5 | B12: {=_xlfn.LET( _xlpm.t,'PLANILLA UNICA'!G12, _xlpm.c,MID(_xlpm.t,_xlfn.SEQUENCE(LEN(_xlpm.t)),1), TRIM(_xlfn.TEXTJOIN("",TRUE,_xlfn._xlws.FILTER(_xlpm.c,(CODE(_xlpm.c)>=48)*(CODE(_xlpm.c)<=57)))) )} -> #VALUE! | C12: =UPPER(TRIM(SUBSTITUTE(SUBSTITUTE(SUBSTITUTE(SUBSTITUTE(SUBSTITUTE(SUBSTITUTE(SUBSTITUTE(SUBSTITUTE(SUBSTITUTE(SUBSTITUTE('PLANILLA UNICA'!B12,"á","a"),"é","e"),"í","i"),"ó","o"),"ú","u"),"Á","A"),"É","E"),"Í","I"),"Ó","O"),"Ú","U"))) | D12: ='PLANILLA UNICA'!$M12 -> 0 | E12: ='PLANILLA UNICA'!$H12 -> 0 | F12: ='PLANILLA UNICA'!$K12 -> #VALUE! | G12: ='PLANILLA UNICA'!$I12 -> // | H12: ='PLANILLA UNICA'!$J12 -> #VALUE! | I12: ='PLANILLA UNICA'!$M12 -> 0 | J12: ='PLANILLA UNICA'!$L12 -> 0
A13: 6 | B13: {=_xlfn.LET( _xlpm.t,'PLANILLA UNICA'!G13, _xlpm.c,MID(_xlpm.t,_xlfn.SEQUENCE(LEN(_xlpm.t)),1), TRIM(_xlfn.TEXTJOIN("",TRUE,_xlfn._xlws.FILTER(_xlpm.c,(CODE(_xlpm.c)>=48)*(CODE(_xlpm.c)<=57)))) )} -> #VALUE! | C13: =UPPER(TRIM(SUBSTITUTE(SUBSTITUTE(SUBSTITUTE(SUBSTITUTE(SUBSTITUTE(SUBSTITUTE(SUBSTITUTE(SUBSTITUTE(SUBSTITUTE(SUBSTITUTE('PLANILLA UNICA'!B13,"á","a"),"é","e"),"í","i"),"ó","o"),"ú","u"),"Á","A"),"É","E"),"Í","I"),"Ó","O"),"Ú","U"))) | D13: ='PLANILLA UNICA'!$M13 -> 0 | E13: ='PLANILLA UNICA'!$H13 -> 0 | F13: ='PLANILLA UNICA'!$K13 -> #VALUE! | G13: ='PLANILLA UNICA'!$I13 -> // | H13: ='PLANILLA UNICA'!$J13 -> #VALUE! | I13: ='PLANILLA UNICA'!$M13 -> 0 | J13: ='PLANILLA UNICA'!$L13 -> 0
A14: 7 | B14: {=_xlfn.LET( _xlpm.t,'PLANILLA UNICA'!G14, _xlpm.c,MID(_xlpm.t,_xlfn.SEQUENCE(LEN(_xlpm.t)),1), TRIM(_xlfn.TEXTJOIN("",TRUE,_xlfn._xlws.FILTER(_xlpm.c,(CODE(_xlpm.c)>=48)*(CODE(_xlpm.c)<=57)))) )} -> #VALUE! | C14: =UPPER(TRIM(SUBSTITUTE(SUBSTITUTE(SUBSTITUTE(SUBSTITUTE(SUBSTITUTE(SUBSTITUTE(SUBSTITUTE(SUBSTITUTE(SUBSTITUTE(SUBSTITUTE('PLANILLA UNICA'!B14,"á","a"),"é","e"),"í","i"),"ó","o"),"ú","u"),"Á","A"),"É","E"),"Í","I"),"Ó","O"),"Ú","U"))) | D14: ='PLANILLA UNICA'!$M14 -> 0 | E14: ='PLANILLA UNICA'!$H14 -> 0 | F14: ='PLANILLA UNICA'!$K14 -> #VALUE! | G14: ='PLANILLA UNICA'!$I14 -> // | H14: ='PLANILLA UNICA'!$J14 -> #VALUE! | I14: ='PLANILLA UNICA'!$M14 -> 0 | J14: ='PLANILLA UNICA'!$L14 -> 0
A15: 8 | B15: {=_xlfn.LET( _xlpm.t,'PLANILLA UNICA'!G15, _xlpm.c,MID(_xlpm.t,_xlfn.SEQUENCE(LEN(_xlpm.t)),1), TRIM(_xlfn.TEXTJOIN("",TRUE,_xlfn._xlws.FILTER(_xlpm.c,(CODE(_xlpm.c)>=48)*(CODE(_xlpm.c)<=57)))) )} -> #VALUE! | C15: =UPPER(TRIM(SUBSTITUTE(SUBSTITUTE(SUBSTITUTE(SUBSTITUTE(SUBSTITUTE(SUBSTITUTE(SUBSTITUTE(SUBSTITUTE(SUBSTITUTE(SUBSTITUTE('PLANILLA UNICA'!B15,"á","a"),"é","e"),"í","i"),"ó","o"),"ú","u"),"Á","A"),"É","E"),"Í","I"),"Ó","O"),"Ú","U"))) | D15: ='PLANILLA UNICA'!$M15 -> 0 | E15: ='PLANILLA UNICA'!$H15 -> 0 | F15: ='PLANILLA UNICA'!$K15 -> #VALUE! | G15: ='PLANILLA UNICA'!$I15 -> // | H15: ='PLANILLA UNICA'!$J15 -> #VALUE! | I15: ='PLANILLA UNICA'!$M15 -> 0 | J15: ='PLANILLA UNICA'!$L15 -> 0
A16: 9 | B16: {=_xlfn.LET( _xlpm.t,'PLANILLA UNICA'!G16, _xlpm.c,MID(_xlpm.t,_xlfn.SEQUENCE(LEN(_xlpm.t)),1), TRIM(_xlfn.TEXTJOIN("",TRUE,_xlfn._xlws.FILTER(_xlpm.c,(CODE(_xlpm.c)>=48)*(CODE(_xlpm.c)<=57)))) )} -> #VALUE! | C16: =UPPER(TRIM(SUBSTITUTE(SUBSTITUTE(SUBSTITUTE(SUBSTITUTE(SUBSTITUTE(SUBSTITUTE(SUBSTITUTE(SUBSTITUTE(SUBSTITUTE(SUBSTITUTE('PLANILLA UNICA'!B16,"á","a"),"é","e"),"í","i"),"ó","o"),"ú","u"),"Á","A"),"É","E"),"Í","I"),"Ó","O"),"Ú","U"))) | D16: ='PLANILLA UNICA'!$M16 -> 0 | E16: ='PLANILLA UNICA'!$H16 -> 0 | F16: ='PLANILLA UNICA'!$K16 -> #VALUE! | G16: ='PLANILLA UNICA'!$I16 -> // | H16: ='PLANILLA UNICA'!$J16 -> #VALUE! | I16: ='PLANILLA UNICA'!$M16 -> 0 | J16: ='PLANILLA UNICA'!$L16 -> 0
A17: 10 | B17: {=_xlfn.LET( _xlpm.t,'PLANILLA UNICA'!G17, _xlpm.c,MID(_xlpm.t,_xlfn.SEQUENCE(LEN(_xlpm.t)),1), TRIM(_xlfn.TEXTJOIN("",TRUE,_xlfn._xlws.FILTER(_xlpm.c,(CODE(_xlpm.c)>=48)*(CODE(_xlpm.c)<=57)))) )} -> #VALUE! | C17: =UPPER(TRIM(SUBSTITUTE(SUBSTITUTE(SUBSTITUTE(SUBSTITUTE(SUBSTITUTE(SUBSTITUTE(SUBSTITUTE(SUBSTITUTE(SUBSTITUTE(SUBSTITUTE('PLANILLA UNICA'!B17,"á","a"),"é","e"),"í","i"),"ó","o"),"ú","u"),"Á","A"),"É","E"),"Í","I"),"Ó","O"),"Ú","U"))) | D17: ='PLANILLA UNICA'!$M17 -> 0 | E17: ='PLANILLA UNICA'!$H17 -> 0 | F17: ='PLANILLA UNICA'!$K17 -> #VALUE! | G17: ='PLANILLA UNICA'!$I17 -> // | H17: ='PLANILLA UNICA'!$J17 -> #VALUE! | I17: ='PLANILLA UNICA'!$M17 -> 0 | J17: ='PLANILLA UNICA'!$L17 -> 0
A18: 11 | B18: {=_xlfn.LET( _xlpm.t,'PLANILLA UNICA'!G18, _xlpm.c,MID(_xlpm.t,_xlfn.SEQUENCE(LEN(_xlpm.t)),1), TRIM(_xlfn.TEXTJOIN("",TRUE,_xlfn._xlws.FILTER(_xlpm.c,(CODE(_xlpm.c)>=48)*(CODE(_xlpm.c)<=57)))) )} -> #VALUE! | C18: =UPPER(TRIM(SUBSTITUTE(SUBSTITUTE(SUBSTITUTE(SUBSTITUTE(SUBSTITUTE(SUBSTITUTE(SUBSTITUTE(SUBSTITUTE(SUBSTITUTE(SUBSTITUTE('PLANILLA UNICA'!B18,"á","a"),"é","e"),"í","i"),"ó","o"),"ú","u"),"Á","A"),"É","E"),"Í","I"),"Ó","O"),"Ú","U"))) | D18: ='PLANILLA UNICA'!$M18 -> 0 | E18: ='PLANILLA UNICA'!$H18 -> 0 | F18: ='PLANILLA UNICA'!$K18 -> #VALUE! | G18: ='PLANILLA UNICA'!$I18 -> // | H18: ='PLANILLA UNICA'!$J18 -> #VALUE! | I18: ='PLANILLA UNICA'!$M18 -> 0 | J18: ='PLANILLA UNICA'!$L18 -> 0
A19: 12 | B19: {=_xlfn.LET( _xlpm.t,'PLANILLA UNICA'!G19, _xlpm.c,MID(_xlpm.t,_xlfn.SEQUENCE(LEN(_xlpm.t)),1), TRIM(_xlfn.TEXTJOIN("",TRUE,_xlfn._xlws.FILTER(_xlpm.c,(CODE(_xlpm.c)>=48)*(CODE(_xlpm.c)<=57)))) )} -> #VALUE! | C19: =UPPER(TRIM(SUBSTITUTE(SUBSTITUTE(SUBSTITUTE(SUBSTITUTE(SUBSTITUTE(SUBSTITUTE(SUBSTITUTE(SUBSTITUTE(SUBSTITUTE(SUBSTITUTE('PLANILLA UNICA'!B19,"á","a"),"é","e"),"í","i"),"ó","o"),"ú","u"),"Á","A"),"É","E"),"Í","I"),"Ó","O"),"Ú","U"))) | D19: ='PLANILLA UNICA'!$M19 -> 0 | E19: ='PLANILLA UNICA'!$H19 -> 0 | F19: ='PLANILLA UNICA'!$K19 -> #VALUE! | G19: ='PLANILLA UNICA'!$I19 -> // | H19: ='PLANILLA UNICA'!$J19 -> #VALUE! | I19: ='PLANILLA UNICA'!$M19 -> 0 | J19: ='PLANILLA UNICA'!$L19 -> 0
... A107: 100 | B107: {=_xlfn.LET( _xlpm.t,'PLANILLA UNICA'!G107, _xlpm.c,MID(_xlpm.t,_xlfn.SEQUENCE(LEN(_xlpm.t)),1), TRIM(_xlfn.TEXTJOIN("",TRUE,_xlfn._xlws.FILTER(_xlpm.c,(CODE(_xlpm.c)>=48)*(CODE(_xlpm.c)<=57)))) )} -> #VALUE! | C107: =UPPER(TRIM(SUBSTITUTE(SUBSTITUTE(SUBSTITUTE(SUBSTITUTE(SUBSTITUTE(SUBSTITUTE(SUBSTITUTE(SUBSTITUTE(SUBSTITUTE(SUBSTITUTE('PLANILLA UNICA'!B107,"á","a"),"é","e"),"í","i"),"ó","o"),"ú","u"),"Á","A"),"É","E"),"Í","I"),"Ó","O"),"Ú","U"))) | D107: ='PLANILLA UNICA'!$M107 -> 0 | E107: ='PLANILLA UNICA'!$H107 -> 0 | F107: ='PLANILLA UNICA'!$K107 -> #VALUE! | G107: ='PLANILLA UNICA'!$I107 -> // | H107: ='PLANILLA UNICA'!$J107 -> #VALUE! | I107: ='PLANILLA UNICA'!$M107 -> 0 | J107: ='PLANILLA UNICA'!$L107 -> 0
B108: =SUBTOTAL(103,'PLANILLA UNICA'!$B$8:$B$107) -> 0 | K108: =SUBTOTAL(103,'PLANILLA UNICA'!$K$8:$K$107) -> 100

Sheet LIGADOS
B2: CLUB/ESCUELA | C2: MUNICIPIO | D2: DELEGADO 1 | E2: DELEGADO 2 | F2: TECNICO 1 | G2: TECNICO 2 | H2: TÉCNICO 3
B5: REGISTRO | C5: NOMBRE 1 | D5: NOMBRE 2 | E5: APELLLIDO 1 | F5: APELLIDO 2 | G5: TIPO DE DOCUMENTO | H5: NUMERO DE DOCUMENTO | I5: DIA DE NACIMIENTO | J5: MES DE NACIMIENTO | K5: AÑO DE NACIMIENTO | L5: RAMA | M5: NACIMIENTO | N5: EDAD | O5: CATGORIA | P5: CLUB/ESCUELA | Q5: MUNICIPIO
B6: 1 | M6: =CONCATENATE(LIGADOS!$I6,"/",LIGADOS!$J6,"/",LIGADOS!$K6) -> // | N6: =DATEDIF(LIGADOS!$M6,"01/07/2024","Y") -> #VALUE! | O6: =IF(LIGADOS!$N6=4,"MINI 4 años", IF(LIGADOS!$N6=5,"MINI 5 años", IF(LIGADOS!$N6=6,"MINI 6 años", IF(LIGADOS!$N6=7,"MINI 7 años", IF(LIGADOS!$N6=8,"MINI 8 años", IF(LIGADOS!$N6=9,"MINI 9 años", IF(LIGADOS!$N6=10,"MINI 10 años", IF(LIGADOS!$N6=11,"PREINFANTIL 11 años", IF(LIGADOS!$N6=12,"INFANTIL 12 años", IF(LIGADOS!$N6=13,"JUNIOR 13 años", IF(LIGADOS!$N6=14,"PREJUVENIL 14 años", IF(OR(LIGADOS!$N6=15, LIGADOS!$N6=16, LIGADOS!$N6=17),"JUVENIL 15-17 años", IF(LIGADOS!$N6>=18,"MAYORES MASTER 18+ años","Fuera de rango") ) ) ) ) ) ) ) ) ) ) ) ) -> #VALUE! | P6: {=LIGADOS!$B$3} -> 0 | Q6: {=LIGADOS!$C$3} -> 0
B7: 2 | M7: =CONCATENATE(LIGADOS!$I7,"/",LIGADOS!$J7,"/",LIGADOS!$K7) -> // | N7: =DATEDIF(LIGADOS!$M7,"01/07/2024","Y") -> #VALUE! | O7: =IF(LIGADOS!$N7=4,"MINI 4 años", IF(LIGADOS!$N7=5,"MINI 5 años", IF(LIGADOS!$N7=6,"MINI 6 años", IF(LIGADOS!$N7=7,"MINI 7 años", IF(LIGADOS!$N7=8,"MINI 8 años", IF(LIGADOS!$N7=9,"MINI 9 años", IF(LIGADOS!$N7=10,"MINI 10 años", IF(LIGADOS!$N7=11,"PREINFANTIL 11 años", IF(LIGADOS!$N7=12,"INFANTIL 12 años", IF(LIGADOS!$N7=13,"JUNIOR 13 años", IF(LIGADOS!$N7=14,"PREJUVENIL 14 años", IF(OR(LIGADOS!$N7=15, LIGADOS!$N7=16, LIGADOS!$N7=17),"JUVENIL 15-17 años", IF(LIGADOS!$N7>=18,"MAYORES MASTER 18+ años","Fuera de rango") ) ) ) ) ) ) ) ) ) ) ) ) -> #VALUE! | P7: {=LIGADOS!$B$3} -> 0 | Q7: {=LIGADOS!$C$3} -> 0
B8: 3 | M8: =CONCATENATE(LIGADOS!$I8,"/",LIGADOS!$J8,"/",LIGADOS!$K8) -> // | N8: =DATEDIF(LIGADOS!$M8,"01/07/2024","Y") -> #VALUE! | O8: =IF(LIGADOS!$N8=4,"MINI 4 años", IF(LIGADOS!$N8=5,"MINI 5 años", IF(LIGADOS!$N8=6,"MINI 6 años", IF(LIGADOS!$N8=7,"MINI 7 años", IF(LIGADOS!$N8=8,"MINI 8 años", IF(LIGADOS!$N8=9,"MINI 9 años", IF(LIGADOS!$N8=10,"MINI 10 años", IF(LIGADOS!$N8=11,"PREINFANTIL 11 años", IF(LIGADOS!$N8=12,"INFANTIL 12 años", IF(LIGADOS!$N8=13,"JUNIOR 13 años", IF(LIGADOS!$N8=14,"PREJUVENIL 14 años", IF(OR(LIGADOS!$N8=15, LIGADOS!$N8=16, LIGADOS!$N8=17),"JUVENIL 15-17 años", IF(LIGADOS!$N8>=18,"MAYORES MASTER 18+ años","Fuera de rango") ) ) ) ) ) ) ) ) ) ) ) ) -> #VALUE! | P8: {=LIGADOS!$B$3} -> 0 | Q8: {=LIGADOS!$C$3} -> 0
B9: 4 | M9: =CONCATENATE(LIGADOS!$I9,"/",LIGADOS!$J9,"/",LIGADOS!$K9) -> // | N9: =DATEDIF(LIGADOS!$M9,"01/07/2024","Y") -> #VALUE! | O9: =IF(LIGADOS!$N9=4,"MINI 4 años", IF(LIGADOS!$N9=5,"MINI 5 años", IF(LIGADOS!$N9=6,"MINI 6 años", IF(LIGADOS!$N9=7,"MINI 7 años", IF(LIGADOS!$N9=8,"MINI 8 años", IF(LIGADOS!$N9=9,"MINI 9 años", IF(LIGADOS!$N9=10,"MINI 10 años", IF(LIGADOS!$N9=11,"PREINFANTIL 11 años", IF(LIGADOS!$N9=12,"INFANTIL 12 años", IF(LIGADOS!$N9=13,"JUNIOR 13 años", IF(LIGADOS!$N9=14,"PREJUVENIL 14 años", IF(OR(LIGADOS!$N9=15, LIGADOS!$N9=16, LIGADOS!$N9=17),"JUVENIL 15-17 años", IF(LIGADOS!$N9>=18,"MAYORES MASTER 18+ años","Fuera de rango") ) ) ) ) ) ) ) ) ) ) ) ) -> #VALUE! | P9: {=LIGADOS!$B$3} -> 0 | Q9: {=LIGADOS!$C$3} -> 0
B10: 5 | M10: =CONCATENATE(LIGADOS!$I10,"/",LIGADOS!$J10,"/",LIGADOS!$K10) -> // | N10: =DATEDIF(LIGADOS!$M10,"01/07/2024","Y") -> #VALUE! | O10: =IF(LIGADOS!$N10=4,"MINI 4 años", IF(LIGADOS!$N10=5,"MINI 5 años", IF(LIGADOS!$N10=6,"MINI 6 años", IF(LIGADOS!$N10=7,"MINI 7 años", IF(LIGADOS!$N10=8,"MINI 8 años", IF(LIGADOS!$N10=9,"MINI 9 años", IF(LIGADOS!$N10=10,"MINI 10 años", IF(LIGADOS!$N10=11,"PREINFANTIL 11 años", IF(LIGADOS!$N10=12,"INFANTIL 12 años", IF(LIGADOS!$N10=13,"JUNIOR 13 años", IF(LIGADOS!$N10=14,"PREJUVENIL 14 años", IF(OR(LIGADOS!$N10=15, LIGADOS!$N10=16, LIGADOS!$N10=17),"JUVENIL 15-17 años", IF(LIGADOS!$N10>=18,"MAYORES MASTER 18+ años","Fuera de rango") ) ) ) ) ) ) ) ) ) ) ) ) -> #VALUE! | P10: {=LIGADOS!$B$3} -> 0 | Q10: {=LIGADOS!$C$3} -> 0
B11: 6 | M11: =CONCATENATE(LIGADOS!$I11,"/",LIGADOS!$J11,"/",LIGADOS!$K11) -> // | N11: =DATEDIF(LIGADOS!$M11,"01/07/2024","Y") -> #VALUE! | O11: =IF(LIGADOS!$N11=4,"MINI 4 años", IF(LIGADOS!$N11=5,"MINI 5 años", IF(LIGADOS!$N11=6,"MINI 6 años", IF(LIGADOS!$N11=7,"MINI 7 años", IF(LIGADOS!$N11=8,"MINI 8 años", IF(LIGADOS!$N11=9,"MINI 9 años", IF(LIGADOS!$N11=10,"MINI 10 años", IF(LIGADOS!$N11=11,"PREINFANTIL 11 años", IF(LIGADOS!$N11=12,"INFANTIL 12 años", IF(LIGADOS!$N11=13,"JUNIOR 13 años", IF(LIGADOS!$N11=14,"PREJUVENIL 14 años", IF(OR(LIGADOS!$N11=15, LIGADOS!$N11=16, LIGADOS!$N11=17),"JUVENIL 15-17 años", IF(LIGADOS!$N11>=18,"MAYORES MASTER 18+ años","Fuera de rango") ) ) ) ) ) ) ) ) ) ) ) ) -> #VALUE! | P11: {=LIGADOS!$B$3} -> 0 | Q11: {=LIGADOS!$C$3} -> 0
B12: 7 | M12: =CONCATENATE(LIGADOS!$I12,"/",LIGADOS!$J12,"/",LIGADOS!$K12) -> // | N12: =DATEDIF(LIGADOS!$M12,"01/07/2024","Y") -> #VALUE! | O12: =IF(LIGADOS!$N12=4,"MINI 4 años", IF(LIGADOS!$N12=5,"MINI 5 años", IF(LIGADOS!$N12=6,"MINI 6 años", IF(LIGADOS!$N12=7,"MINI 7 años", IF(LIGADOS!$N12=8,"MINI 8 años", IF(LIGADOS!$N12=9,"MINI 9 años", IF(LIGADOS!$N12=10,"MINI 10 años", IF(LIGADOS!$N12=11,"PREINFANTIL 11 años", IF(LIGADOS!$N12=12,"INFANTIL 12 años", IF(LIGADOS!$N12=13,"JUNIOR 13 años", IF(LIGADOS!$N12=14,"PREJUVENIL 14 años", IF(OR(LIGADOS!$N12=15, LIGADOS!$N12=16, LIGADOS!$N12=17),"JUVENIL 15-17 años", IF(LIGADOS!$N12>=18,"MAYORES MASTER 18+ años","Fuera de rango") ) ) ) ) ) ) ) ) ) ) ) ) -> #VALUE! | P12: {=LIGADOS!$B$3} -> 0 | Q12: {=LIGADOS!$C$3} -> 0
B13: 8 | M13: =CONCATENATE(LIGADOS!$I13,"/",LIGADOS!$J13,"/",LIGADOS!$K13) -> // | N13: =DATEDIF(LIGADOS!$M13,"01/07/2024","Y") -> #VALUE! | O13: =IF(LIGADOS!$N13=4,"MINI 4 años", IF(LIGADOS!$N13=5,"MINI 5 años", IF(LIGADOS!$N13=6,"MINI 6 años", IF(LIGADOS!$N13=7,"MINI 7 años", IF(LIGADOS!$N13=8,"MINI 8 años", IF(LIGADOS!$N13=9,"MINI 9 años", IF(LIGADOS!$N13=10,"MINI 10 años", IF(LIGADOS!$N13=11,"PREINFANTIL 11 años", IF(LIGADOS!$N13=12,"INFANTIL 12 años", IF(LIGADOS!$N13=13,"JUNIOR 13 años", IF(LIGADOS!$N13=14,"PREJUVENIL 14 años", IF(OR(LIGADOS!$N13=15, LIGADOS!$N13=16, LIGADOS!$N13=17),"JUVENIL 15-17 años", IF(LIGADOS!$N13>=18,"MAYORES MASTER 18+ años","Fuera de rango") ) ) ) ) ) ) ) ) ) ) ) ) -> #VALUE! | P13: {=LIGADOS!$B$3} -> 0 | Q13: {=LIGADOS!$C$3} -> 0
B14: 9 | M14: =CONCATENATE(LIGADOS!$I14,"/",LIGADOS!$J14,"/",LIGADOS!$K14) -> // | N14: =DATEDIF(LIGADOS!$M14,"01/07/2024","Y") -> #VALUE! | O14: =IF(LIGADOS!$N14=4,"MINI 4 años", IF(LIGADOS!$N14=5,"MINI 5 años", IF(LIGADOS!$N14=6,"MINI 6 años", IF(LIGADOS!$N14=7,"MINI 7 años", IF(LIGADOS!$N14=8,"MINI 8 años", IF(LIGADOS!$N14=9,"MINI 9 años", IF(LIGADOS!$N14=10,"MINI 10 años", IF(LIGADOS!$N14=11,"PREINFANTIL 11 años", IF(LIGADOS!$N14=12,"INFANTIL 12 años", IF(LIGADOS!$N14=13,"JUNIOR 13 años", IF(LIGADOS!$N14=14,"PREJUVENIL 14 años", IF(OR(LIGADOS!$N14=15, LIGADOS!$N14=16, LIGADOS!$N14=17),"JUVENIL 15-17 años", IF(LIGADOS!$N14>=18,"MAYORES MASTER 18+ años","Fuera de rango") ) ) ) ) ) ) ) ) ) ) ) ) -> #VALUE! | P14: {=LIGADOS!$B$3} -> 0 | Q14: {=LIGADOS!$C$3} -> 0
B15: 10 | M15: =CONCATENATE(LIGADOS!$I15,"/",LIGADOS!$J15,"/",LIGADOS!$K15) -> // | N15: =DATEDIF(LIGADOS!$M15,"01/07/2024","Y") -> #VALUE! | O15: =IF(LIGADOS!$N15=4,"MINI 4 años", IF(LIGADOS!$N15=5,"MINI 5 años", IF(LIGADOS!$N15=6,"MINI 6 años", IF(LIGADOS!$N15=7,"MINI 7 años", IF(LIGADOS!$N15=8,"MINI 8 años", IF(LIGADOS!$N15=9,"MINI 9 años", IF(LIGADOS!$N15=10,"MINI 10 años", IF(LIGADOS!$N15=11,"PREINFANTIL 11 años", IF(LIGADOS!$N15=12,"INFANTIL 12 años", IF(LIGADOS!$N15=13,"JUNIOR 13 años", IF(LIGADOS!$N15=14,"PREJUVENIL 14 años", IF(OR(LIGADOS!$N15=15, LIGADOS!$N15=16, LIGADOS!$N15=17),"JUVENIL 15-17 años", IF(LIGADOS!$N15>=18,"MAYORES MASTER 18+ años","Fuera de rango") ) ) ) ) ) ) ) ) ) ) ) ) -> #VALUE! | P15: {=LIGADOS!$B$3} -> 0 | Q15: {=LIGADOS!$C$3} -> 0
B16: 11 | M16: =CONCATENATE(LIGADOS!$I16,"/",LIGADOS!$J16,"/",LIGADOS!$K16) -> // | N16: =DATEDIF(LIGADOS!$M16,"01/07/2024","Y") -> #VALUE! | O16: =IF(LIGADOS!$N16=4,"MINI 4 años", IF(LIGADOS!$N16=5,"MINI 5 años", IF(LIGADOS!$N16=6,"MINI 6 años", IF(LIGADOS!$N16=7,"MINI 7 años", IF(LIGADOS!$N16=8,"MINI 8 años", IF(LIGADOS!$N16=9,"MINI 9 años", IF(LIGADOS!$N16=10,"MINI 10 años", IF(LIGADOS!$N16=11,"PREINFANTIL 11 años", IF(LIGADOS!$N16=12,"INFANTIL 12 años", IF(LIGADOS!$N16=13,"JUNIOR 13 años", IF(LIGADOS!$N16=14,"PREJUVENIL 14 años", IF(OR(LIGADOS!$N16=15, LIGADOS!$N16=16, LIGADOS!$N16=17),"JUVENIL 15-17 años", IF(LIGADOS!$N16>=18,"MAYORES MASTER 18+ años","Fuera de rango") ) ) ) ) ) ) ) ) ) ) ) ) -> #VALUE! | P16: {=LIGADOS!$B$3} -> 0 | Q16: {=LIGADOS!$C$3} -> 0
B17: 12 | M17: =CONCATENATE(LIGADOS!$I17,"/",LIGADOS!$J17,"/",LIGADOS!$K17) -> // | N17: =DATEDIF(LIGADOS!$M17,"01/07/2024","Y") -> #VALUE! | O17: =IF(LIGADOS!$N17=4,"MINI 4 años", IF(LIGADOS!$N17=5,"MINI 5 años", IF(LIGADOS!$N17=6,"MINI 6 años", IF(LIGADOS!$N17=7,"MINI 7 años", IF(LIGADOS!$N17=8,"MINI 8 años", IF(LIGADOS!$N17=9,"MINI 9 años", IF(LIGADOS!$N17=10,"MINI 10 años", IF(LIGADOS!$N17=11,"PREINFANTIL 11 años", IF(LIGADOS!$N17=12,"INFANTIL 12 años", IF(LIGADOS!$N17=13,"JUNIOR 13 años", IF(LIGADOS!$N17=14,"PREJUVENIL 14 años", IF(OR(LIGADOS!$N17=15, LIGADOS!$N17=16, LIGADOS!$N17=17),"JUVENIL 15-17 años", IF(LIGADOS!$N17>=18,"MAYORES MASTER 18+ años","Fuera de rango") ) ) ) ) ) ) ) ) ) ) ) ) -> #VALUE! | P17: {=LIGADOS!$B$3} -> 0 | Q17: {=LIGADOS!$C$3} -> 0
... B56: 51 | M56: =CONCATENATE(LIGADOS!$I56,"/",LIGADOS!$J56,"/",LIGADOS!$K56) -> // | N56: =DATEDIF(LIGADOS!$M56,"01/07/2024","Y") -> #VALUE! | O56: =IF(LIGADOS!$N56=4,"MINI 4 años", IF(LIGADOS!$N56=5,"MINI 5 años", IF(LIGADOS!$N56=6,"MINI 6 años", IF(LIGADOS!$N56=7,"MINI 7 años", IF(LIGADOS!$N56=8,"MINI 8 años", IF(LIGADOS!$N56=9,"MINI 9 años", IF(LIGADOS!$N56=10,"MINI 10 años", IF(LIGADOS!$N56=11,"PREINFANTIL 11 años", IF(LIGADOS!$N56=12,"INFANTIL 12 años", IF(LIGADOS!$N56=13,"JUNIOR 13 años", IF(LIGADOS!$N56=14,"PREJUVENIL 14 años", IF(OR(LIGADOS!$N56=15, LIGADOS!$N56=16, LIGADOS!$N56=17),"JUVENIL 15-17 años", IF(LIGADOS!$N56>=18,"MAYORES MASTER 18+ años","Fuera de rango") ) ) ) ) ) ) ) ) ) ) ) ) -> #VALUE! | P56: {=LIGADOS!$B$3} -> 0 | Q56: {=LIGADOS!$C$3} -> 0
C57: =SUBTOTAL(103,LIGADOS!$C$6:$C$56) -> 0 | O57: =SUBTOTAL(103,LIGADOS!$O$6:$O$56) -> 51

Sheet Hoja4
B2: DEPORTISTA
B3: ENTRENADOR
B4: DELEGADO
B5: CEDULA
B6: TARJETA
B7: RECREATIVO
B8: NOVATO
B9: N/A
B10: FEMENINO
B11: MASCULINO
B12: RECREATIVO
B13: NOVATOS
... B15: NO
